BEGIN:VCALENDAR
VERSION:2.0
PRODID:-//jEvents 2.0 for Joomla//EN
CALSCALE:GREGORIAN
METHOD:PUBLISH
BEGIN:VEVENT
UID:50b1de6327480e1d870ae964f5fd1cf5
CATEGORIES:Other Fly-In
CREATED:20130311T144911
SUMMARY:Pegasus Airpark Pancake Breakfast with the Baja Bush Pilots
LOCATION:Pegasus Airpark (5AZ3)
DESCRIPTION;ENCODING=QUOTED-PRINTABLE:\n\n\n\n\nPancakes at Pegasus. Join us for our Fourth annual BBP Breakfast,
  and it is free…. Drive or fly in, do breakfast, walk the static line, talk
  to others with similar interests, and enjoy the peaceful quiet and country
  atmosphere that Pegasus offers.\n\n\nSponsored by the BBP in conjunction w
 ith the Pegasus Flight Association, Kim, Claudia, myself, as well as reside
 nts of our airpark will be there to meet and greet and meet you as you arri
 ve.\n\n\nApril 13, 8:00a to 11:00a\n\n\nMcCormick Hangar\n\n\n21202 E Stacy
  Rd Queen Creek, AZ\n\n\nPegasus AirPark\n\n\n5AZ3\n\n\n122.9\n\n\nFavor RW
 8\n\n\nNote, we are just on the South side of Williams Gateway (KIWA) class
  C airspace. Use caution.\n\n\nPegasus Airpark (5AZ3) 7 miles south of Will
 iams Gateway Airport (IWA)\nSee&nbsp;http://bajabushpilots.com/&nbsp;for mo
 re info.\n
CONTACT:Erik McCormick This email address is being protected from spambots. You need JavaScript enabled to view it.
				document.getElementById('cloakf96d7081f7e0da54126f8a7f1b7166f1').innerHTML = '';
				var prefix = '&#109;a' + 'i&#108;' + '&#116;o';
				var path = 'hr' + 'ef' + '=';
				var addyf96d7081f7e0da54126f8a7f1b7166f1 = '&#101;r&#105;k' + '&#64;';
				addyf96d7081f7e0da54126f8a7f1b7166f1 = addyf96d7081f7e0da54126f8a7f1b7166f1 + '&#97;zh&#111;m&#101;&#97;ndh&#97;ng&#97;r' + '&#46;' + 'c&#111;m';
				var addy_textf96d7081f7e0da54126f8a7f1b7166f1 = '&#101;r&#105;k' + '&#64;' + '&#97;zh&#111;m&#101;&#97;ndh&#97;ng&#97;r' + '&#46;' + 'c&#111;m';document.getElementById('cloakf96d7081f7e0da54126f8a7f1b7166f1').innerHTML += ''+addy_textf96d7081f7e0da54126f8a7f1b7166f1+'';
		 480-888-6380
DTSTAMP:20260423T040600Z
DTSTART;TZID=America/Phoenix:20130413T080000
DTEND;TZID=America/Phoenix:20130413T110000
SEQUENCE:0
TRANSP:OPAQUE
END:VEVENT
END:VCALENDAR