BEGIN:VCALENDAR
VERSION:2.0
PRODID:-//jEvents 2.0 for Joomla//EN
CALSCALE:GREGORIAN
METHOD:PUBLISH
BEGIN:VEVENT
UID:04cef1bb6e9168ee91fe0f720590f39d
CATEGORIES:Other Fly-In
CREATED:20130403T134654
SUMMARY:FFZ - Red Star Pilots Association Poker Run Flying Event
LOCATION:KFFZ Arizona Aviation, Falcon Field, Mesa AZ 
DESCRIPTION;ENCODING=QUOTED-PRINTABLE:\nRed Star Pilots AssociationPoker Run Flying Event&nbsp;\n
CONTACT:Scott Andrews This email address is being protected from spambots. You need JavaScript enabled to view it.
				document.getElementById('cloakacd22a2f5de57d037ad09e14446048bf').innerHTML = '';
				var prefix = '&#109;a' + 'i&#108;' + '&#116;o';
				var path = 'hr' + 'ef' + '=';
				var addyacd22a2f5de57d037ad09e14446048bf = 'OnTh&#101;G&#111;AZ' + '&#64;';
				addyacd22a2f5de57d037ad09e14446048bf = addyacd22a2f5de57d037ad09e14446048bf + '&#97;&#111;l' + '&#46;' + 'c&#111;m';
				var addy_textacd22a2f5de57d037ad09e14446048bf = 'OnTh&#101;G&#111;AZ' + '&#64;' + '&#97;&#111;l' + '&#46;' + 'c&#111;m';document.getElementById('cloakacd22a2f5de57d037ad09e14446048bf').innerHTML += ''+addy_textacd22a2f5de57d037ad09e14446048bf+'';
		 620-705-4413
DTSTAMP:20260423T040600Z
DTSTART;TZID=America/Phoenix:20130420T130000
SEQUENCE:0
TRANSP:OPAQUE
END:VEVENT
END:VCALENDAR