BEGIN:VCALENDAR
VERSION:2.0
PRODID:-//jEvents 2.0 for Joomla//EN
CALSCALE:GREGORIAN
METHOD:PUBLISH
BEGIN:VEVENT
UID:6384e7ef5ba2ae172ac13e3ed9ecc082
CATEGORIES:Out of State
CREATED:20140527T162126
SUMMARY:NMPA Rancho Magdalena B&B Fly-In
LOCATION:Magdalena Airport N29 Magdalena, NM
DESCRIPTION;ENCODING=QUOTED-PRINTABLE:\n\nRancho Magdalena is hosting a fly-in on Saturday, 21 June, from 0800 to
  1000 at the Magdalena air strip (N29). Breakfast will include a breakfast 
 burrito, coffee, tea, juice, and fruit for $10.00 per person.\n\n\nThe airp
 ort is at 6727 msl, pattern at 7727 msl. CTAF is 122.9. Runway is 02-20 (di
 rt), ~6000 feet long, and it is recommended that you land to the south (20)
  because field elevation rises to the south. Use standard left-hand pattern
  and please USE YOUR RADIO FOR POSITION CALLS. Be mindful of density altitu
 de and sucking rocks into your prop.\n\n\nClay Phillips will be making arra
 ngements with Rancho Magdalena so please let him know if you plan to attend
 , and how many. Email: This email address is being protected from spambots.
  You need JavaScript enabled to view it.
				document.getElementById('cloak
 44267756d495a64c3c87565cd26cc781').innerHTML = '';
				var prefix = '&#109;
 a' + 'i&#108;' + '&#116;o';
				var path = 'hr' + 'ef' + '=';
				var addy4
 4267756d495a64c3c87565cd26cc781 = 'hc_ph&#105;ll&#105;ps' + '&#64;';
				ad
 dy44267756d495a64c3c87565cd26cc781 = addy44267756d495a64c3c87565cd26cc781 +
  'y&#97;h&#111;&#111;' + '&#46;' + 'c&#111;m';
				var addy_text44267756d49
 5a64c3c87565cd26cc781 = 'Cl&#97;y Ph&#105;ll&#105;ps';document.getElementBy
 Id('cloak44267756d495a64c3c87565cd26cc781').innerHTML += ''+addy_text442677
 56d495a64c3c87565cd26cc781+'';
		\n\n\n\n\nHere are details from the B&amp;
 B website:\nhttp://www.ranchomagdalena.com/runway.html\n\n\n\n\n\nN29 Magda
 lena Airport\nMagdalena, New Mexico, USA\nFAA INFORMATION EFFECTIVE 13 APRI
 L 2006\nLocation\n - FAA Identifier:&nbsp;N29Lat/Long:&nbsp;34-05-40.2280N 
 / 107-17-52.1310W\n - 34-05.670467N / 107-17.868850W\n - 34.0945078 / -107.
 2978142\n - (estimated) Elevation:&nbsp;6727 ft. / 2050.4 m (surveyed)\n - 
 Variation:&nbsp;11E (1985) from city:&nbsp;3 miles W of MAGDALENA, NM Zip c
 ode:&nbsp;87825Airport Operations\n - Airport use:&nbsp;Open to the public\
 n - Sectional chart:&nbsp;ALBUQUERQUE\n - Control tower:&nbsp;noARTCC:&nbsp
 ;ALBUQUERQUE CENTER\n - FSS:&nbsp;ALBUQUERQUE FLIGHT SERVICE STATION [1-866
 -449-5390]\n - NOTAMs facility:&nbsp;ABQ (NOTAM-D service available)\n - At
 tendance:&nbsp;UNATNDD\n - Wind indicator:&nbsp;yes\n - Segmented circle:&n
 bsp;yesAirport Communications\n - CTAF:&nbsp;122.9\n - Nearby radio navigat
 ion aids\n - VOR&nbsp;radial/distance&nbsp;&nbsp;VOR name&nbsp;&nbsp;Freq&n
 bsp;&nbsp;VarONMr225/27.9SOCORRO VORTAC116.8013ERunway Information\n - Runw
 ay 2/20\n - Dimensions:&nbsp;5650 x 50 ft. / 1722 x 15 m\n - Surface:&nbsp;
 dirt/gravel, in good condition\n - SFC TREATED WITH FLYASH; FIRM BUT DUSTY.
 \n - Runway edge lights:&nbsp;EDGE LIGHTING RETRO-REFLECTIVE.\n - Runway ed
 ge markings:&nbsp;/20 BOUNDARY MARKINGS.RUNWAY 2&nbsp;&nbsp;RUNWAY 20\n - T
 raffic pattern:&nbsp;left left\n - Runway end identifier lights:&nbsp;no\n 
 - RYS 02 &amp; 20 NSTD REIL EACH END; 2 STROBES AT RY ENDS FLASH ALTERNATEL
 Y WITH SINGLE STROBES 200 FT FM RY END ON CNTRLN.\n - Obstructions:&nbsp;15
  ft. fence, 300 ft. from runway, 20:1 slope to clear noneAirport Operationa
 l Statistics\n - Aircraft based on the field:&nbsp;5; Single engine airplan
 es:&nbsp;4, Multi engine airplanes:&nbsp;1\n - Aircraft operations: avg 46/
 week, 75%&nbsp;local general aviation, 25%&nbsp;transient general aviation\
 n - Additional Remarks:\n - SMALL ARMS FIRE W ARPT SFC 2000 FT AGL 1ST &amp
 ; 3RD SAT 1300-1600 INDEFLY.-&nbsp;PVT DIRT AIRSTRIP 600 FT WEST OF ARPT.In
 strument Procedures\nThere are no published instrument procedures at N29.\n
 Some nearby airports with instrument procedures:\n - KONM&nbsp;- Socorro Mu
 nicipal Airport (20 nm E)\n - E80&nbsp;- Alexander Municipal Airport (40 nm
  NE)\n - KTCS&nbsp;- Truth or Consequences Municipal Airport (51 nm S)\n - 
 KABQ&nbsp;- Albuquerque International Sunport Airport (66 nm NE)\n - KAEG&n
 bsp;- Double Eagle II Airport (68 nm N)
CONTACT:575-854-3091 - This email address is being protected from spambots. You need JavaScript enabled to view it.
				document.getElementById('cloak9ae534ebdaa3992ea7a9d2522904db7d').innerHTML = '';
				var prefix = '&#109;a' + 'i&#108;' + '&#116;o';
				var path = 'hr' + 'ef' + '=';
				var addy9ae534ebdaa3992ea7a9d2522904db7d = '&#105;nf&#111;' + '&#64;';
				addy9ae534ebdaa3992ea7a9d2522904db7d = addy9ae534ebdaa3992ea7a9d2522904db7d + 'r&#97;nch&#111;m&#97;gd&#97;l&#101;n&#97;' + '&#46;' + 'c&#111;m';
				var addy_text9ae534ebdaa3992ea7a9d2522904db7d = '&#105;nf&#111;' + '&#64;' + 'r&#97;nch&#111;m&#97;gd&#97;l&#101;n&#97;' + '&#46;' + 'c&#111;m';document.getElementById('cloak9ae534ebdaa3992ea7a9d2522904db7d').innerHTML += ''+addy_text9ae534ebdaa3992ea7a9d2522904db7d+'';
		
DTSTAMP:20260419T063736Z
DTSTART;TZID=America/Phoenix:20140621T080000
DTEND;TZID=America/Phoenix:20140621T100000
SEQUENCE:0
TRANSP:OPAQUE
END:VEVENT
END:VCALENDAR