BEGIN:VCALENDAR
VERSION:2.0
PRODID:-//jEvents 2.0 for Joomla//EN
CALSCALE:GREGORIAN
METHOD:PUBLISH
BEGIN:VEVENT
UID:e5abc5c8064a092f9bd197cfe3080082
CATEGORIES:Other Fly-In
CREATED:20161227T164300
SUMMARY:Breakfast Club to Globe
LOCATION:Globe
DESCRIPTION;ENCODING=QUOTED-PRINTABLE:Globe event to the Apache Gold\n\n\n&nbsp;\nThis Saturday&nbsp;is the Break
 fast Club event to Globe (P13).&nbsp; We will be dining at the Apache Gold 
 Casino.&nbsp; Plan on arriving between 0830 and 0900.&nbsp; If you have not
  been to Globe in the past 10-years, there is a parking ramp towards the we
 st end of runway 27 that is just across the highway from the Casino.&nbsp; 
 I will try to get the shuttle from the casino give us a lift.&nbsp; Tune-in
  to our group flight following frequency while in route.&nbsp;\n&nbsp;\nSin
 ce this event is the &ldquo;swan song&rdquo; for the Breakfast Club, I just
  want to say how much enjoyment that 24-years of monthly fly-ins have given
  me.&nbsp; Some places are certainly memorable and some, not so much.&nbsp;
  But, I always say that it is the adventure and not so much the destination
 .&nbsp; It has been a privilege to be able to share these adventures with c
 ountless friends and fellow aviators for so many years and for that, I than
 k you.&nbsp; But, beginning in January of 18, the tradition (as well as pas
 sing the Royal Knife &amp; Fork) will continue with Travis Kenyon leading t
 he fly-in under the banner of Desert Flyers (Desert Flyers).&nbsp; So, I ju
 st want to wish all a very Merry Christmas and a Happy New Year.\n&nbsp;\nW
 arren McIlvoy\nScottsdale Breakfast Club\n&nbsp;\n&nbsp;\n&nbsp;\n
CONTACT:Warren McIlvoy This email address is being protected from spambots. You need JavaScript enabled to view it.
				document.getElementById('cloak86137f8aa0936f0cc8d75829e044416b').innerHTML = '';
				var prefix = '&#109;a' + 'i&#108;' + '&#116;o';
				var path = 'hr' + 'ef' + '=';
				var addy86137f8aa0936f0cc8d75829e044416b = '&#105;dwlm' + '&#64;';
				addy86137f8aa0936f0cc8d75829e044416b = addy86137f8aa0936f0cc8d75829e044416b + '&#97;s&#117;' + '&#46;' + '&#101;d&#117;';
				var addy_text86137f8aa0936f0cc8d75829e044416b = '&#105;dwlm' + '&#64;' + '&#97;s&#117;' + '&#46;' + '&#101;d&#117;';document.getElementById('cloak86137f8aa0936f0cc8d75829e044416b').innerHTML += ''+addy_text86137f8aa0936f0cc8d75829e044416b+'';
		
DTSTAMP:20260422T052315Z
DTSTART;TZID=America/Phoenix:20171209T090000
DTEND;TZID=America/Phoenix:20171209T120000
SEQUENCE:0
TRANSP:OPAQUE
END:VEVENT
END:VCALENDAR