BEGIN:VCALENDAR
VERSION:2.0
PRODID:-//jEvents 2.0 for Joomla//EN
CALSCALE:GREGORIAN
METHOD:PUBLISH
BEGIN:VEVENT
UID:fd440a70c7cf9d858cbccdd8cb754f15
CATEGORIES:Safety
CREATED:20170328T130031
SUMMARY:Arizona Summer Weather Flying Aircraft Performance and Maintenance  in Phoenix
LOCATION:Honeywell Deer Valley Facility 21111 N. 19th Avenue, Phoenix, AZ Phoenix, A
 Z 85027
DESCRIPTION;ENCODING=QUOTED-PRINTABLE:Arizona Summer Weather Flying Aircraft Performance and Maintenance (2017)\n
 Aircraft performance, maintenance needs and awareness of Density Altitude a
 ffecting flight.\n\n\nDate and Time: Thursday, April 13, 2017, starting at 
 19:00 Arizona\n\n\nSpeaker(s): Ed Daror, FAASTeam Lead Representative\n\n\n
 Brief Description:\nVideo presentation and discussion of factors affecting 
 flight safety with considerations of Density Altitude, aircraft performance
  and maintenance. Discussion will include survival during the hot and storm
 y Arizona summer conditions.\n\n\nSelect Number: WP0775179\n\n\nLocation of
  Seminar:\nHoneywell Deer Valley Facility\n21111 N. 19th Avenue, Phoenix, A
 Z\nPhoenix, AZ 85027\n\n\nDirections to Venue:\nEnter main entrance from Ea
 st side of 19th Ave, 1/4 quarter mile South of the Deer Valley intersection
 . Turn right into a parking lot West of the facility and park. Walk across 
 to the building. Entrance is on the West side of the facility and will be i
 lluminated. A guard will direct you to the conference room.\n\n\nView Map\n
 \n\nFly-in Seminar?: No\n\n\nSeating: 124 seats at the facility\n\n\nRegist
 ration Information:\nClick here to register online now!\n\n\nSponsoring Div
 ision: Arizona FAASTeam\n\n\nContact Information: EDWARD SAMUEL DAROR\nPhon
 e: (623) 869-6728\nThis email address is being protected from spambots. You
  need JavaScript enabled to view it.
				document.getElementById('cloak6ea2
 67d588585661b15e2d884c7dcbd2').innerHTML = '';
				var prefix = '&#109;a' +
  'i&#108;' + '&#116;o';
				var path = 'hr' + 'ef' + '=';
				var addy6ea26
 7d588585661b15e2d884c7dcbd2 = '72&#97;&#101;' + '&#64;';
				addy6ea267d588
 585661b15e2d884c7dcbd2 = addy6ea267d588585661b15e2d884c7dcbd2 + 'c&#111;x' 
 + '&#46;' + 'n&#101;t';
				var addy_text6ea267d588585661b15e2d884c7dcbd2 =
  '72&#97;&#101;' + '&#64;' + 'c&#111;x' + '&#46;' + 'n&#101;t';document.get
 ElementById('cloak6ea267d588585661b15e2d884c7dcbd2').innerHTML += ''+addy_t
 ext6ea267d588585661b15e2d884c7dcbd2+'';
		\n\n\nAdditional Event Informatio
 n &amp; Acknowledgement of Industry Sponsor(s):\nThe Arizona FAASTeam invit
 es Pilots of all ratings, Student Pilots and AMT's to participate in this i
 nformative Quarterly Safety Seminar aimed to enhance safety of flight. Many
  thanks to the management and personnel of Honeywell for kindly providing t
 heir conference room. Their support for this seminar and many of the Safety
  Seminars in the past years, has contributed highly to aviation safety.\n\n
 \nNote:\n\n\nPilot airspace deviations continue to be a major risk in the n
 ational airspace system. To reduce the chance that you might be involved in
  an airspace deviation incident, you are highly encouraged to take an on-li
 ne learning center course on www.faasafety.gov. Or search the learning libr
 ary for associated guidance on airspace incursions. Remember, safe and prud
 ent airmen have superior situational awareness, and have a plan to keep it 
 that way.\n\n\nThanks! A message from your local FAASTeam.\n\n\nEqual Acces
 s Information:\nThe FAA Safety Team (FAASTeam) is committed to providing eq
 ual access to this meeting/event for all participants. If you need alternat
 ive formats or services because of a disability, please communicate your re
 quest as soon as possible with the person in the &ldquo;Contact Information
 &rdquo; area of the meeting/event notice. Note that two weeks is usually re
 quired to arrange services.\n\n\nCredit Applicability:\n1 Credit for Basic 
 Knowledge Topic 3\n1 Credit for Advanced Knowledge Topic 2\n1 Credit for Ma
 ster Knowledge Topic 2\n1 Hour Total for AMT\n
CONTACT:EDWARD SAMUEL DAROR Phone: (623) 869-6728 This email address is being protected from spambots. You need JavaScript enabled to view it.
				document.getElementById('cloak8aa20de3ed1d000f001af08de56f5f05').innerHTML = '';
				var prefix = '&#109;a' + 'i&#108;' + '&#116;o';
				var path = 'hr' + 'ef' + '=';
				var addy8aa20de3ed1d000f001af08de56f5f05 = '72&#97;&#101;' + '&#64;';
				addy8aa20de3ed1d000f001af08de56f5f05 = addy8aa20de3ed1d000f001af08de56f5f05 + 'c&#111;x' + '&#46;' + 'n&#101;t';
				var addy_text8aa20de3ed1d000f001af08de56f5f05 = '72&#97;&#101;' + '&#64;' + 'c&#111;x' + '&#46;' + 'n&#101;t';document.getElementById('cloak8aa20de3ed1d000f001af08de56f5f05').innerHTML += ''+addy_text8aa20de3ed1d000f001af08de56f5f05+'';
		
DTSTAMP:20260421T053602Z
DTSTART;TZID=America/Phoenix:20170413T190000
SEQUENCE:0
TRANSP:OPAQUE
END:VEVENT
END:VCALENDAR