BEGIN:VCALENDAR
VERSION:2.0
PRODID:-//jEvents 2.0 for Joomla//EN
CALSCALE:GREGORIAN
METHOD:PUBLISH
BEGIN:VEVENT
UID:49e47434062ff2c8c53c0a6449481813
CATEGORIES:Safety
CREATED:20170627T172703
SUMMARY:CFI Open Forum - Fourth Quarter in Phoenix
LOCATION:Transpac Classroom A 350 West Deer Valley Rd Transpac  Phoenix, AZ 85027
DESCRIPTION;ENCODING=QUOTED-PRINTABLE:CFI Open Forum - Fourth Quarter\nDiscussion of CFI Issues, Best Practices a
 nd ACS Summer Update/Survey\n\n\nDate and Time: Wednesday, July 12, 2017, s
 tarting at 18:00 Arizona&nbsp;\n\n\nSpeaker(s): Cary Grant, Jim Anderson\n\
 n\nBrief Description:\nFAASTeam Flight Instructor Open Forums provide an op
 portunity for Flight Instructors, Ground Instructors, Designated Pilot Exam
 iners, and the FAA Safety Team (FAASTeam) to meet and discuss one or more o
 f the Top 10 Causal Factors in General Aviation Accidents at each of the Op
 en Forums\n\n\nSelect Number: WP0777070\n\n\nLocation of Seminar:\nTranspac
  Classroom A\n350 West Deer Valley Rd\nTranspac \nPhoenix, AZ 85027\n\n\nDi
 rections to Venue:\nThis seminar will be in the Transpac ground school buil
 ding just east of the main Transpac facility\n\n\nView Map\n\n\nFly-in Semi
 nar?: Yes KDVT\n\n\nSeating: 40 seats at the facility\n\n\nRegistration Inf
 ormation:\nClick here to register online now!\n\n\nSponsoring Division: FAA
  Safety Team\n\n\nContact Information: Jim Anderson\nPhone: (623) 694-7742\
 nThis email address is being protected from spambots. You need JavaScript e
 nabled to view it.
				document.getElementById('cloak823447915bc149d477a833
 b2d526b5ee').innerHTML = '';
				var prefix = '&#109;a' + 'i&#108;' + '&#11
 6;o';
				var path = 'hr' + 'ef' + '=';
				var addy823447915bc149d477a833b
 2d526b5ee = 'j&#105;m.&#97;nd&#101;rs&#111;n' + '&#64;';
				addy823447915b
 c149d477a833b2d526b5ee = addy823447915bc149d477a833b2d526b5ee + 'cvst&#97;r
 r' + '&#46;' + 'c&#111;m';
				var addy_text823447915bc149d477a833b2d526b5e
 e = 'j&#105;m.&#97;nd&#101;rs&#111;n' + '&#64;' + 'cvst&#97;rr' + '&#46;' +
  'c&#111;m';document.getElementById('cloak823447915bc149d477a833b2d526b5ee'
 ).innerHTML += ''+addy_text823447915bc149d477a833b2d526b5ee+'';
		\n\n\nAdd
 itional Event Information &amp; Acknowledgement of Industry Sponsor(s):\n"P
 articipation in this meeting does not result in credit for CFI renewal" \nT
 his discussion is an opportunity to collaborate and develop best practices,
  to mitigate the risks identified in the discussion, for both the Instructo
 r and the student. The result can enhance communication and standardization
  of the pilot training and evaluation processes.\n\nTogether as a Team, the
  Instructors and Designated Pilot Examiners can combine their extensive kno
 wledge and experience with sound judgment to create and provide the most co
 mprehensive and effective pilot training experience, followed by a reliable
  and effective evaluation.\n\nThe FAASTeam would like to thank the Society 
 of Aviation and Flight Educators (SAFE) for their participation and contrib
 ution to the CFI Open Forum effort, without which we would not have been ab
 le to offer this opportunity to the aviation community.\n\n\nEqual Access I
 nformation:\nThe FAA Safety Team (FAASTeam) is committed to providing equal
  access to this meeting/event for all participants. If you need alternative
  formats or services because of a disability, please communicate your reque
 st as soon as possible with the person in the &ldquo;Contact Information&rd
 quo; area of the meeting/event notice. Note that two weeks is usually requi
 red to arrange services.\n\n\nCredit Applicability:\n&frac12; Credit for Ba
 sic Knowledge Topic 1\n1 Credit for Basic Knowledge Topic 2\n1 Credit for A
 dvanced Knowledge Topic 2\n1 Credit for Master Knowledge Topic 2\n
CONTACT:Jim Anderson Phone: (623) 694-7742 This email address is being protected from spambots. You need JavaScript enabled to view it.
				document.getElementById('cloak1159ff305a084d72899dc75a612e9b9a').innerHTML = '';
				var prefix = '&#109;a' + 'i&#108;' + '&#116;o';
				var path = 'hr' + 'ef' + '=';
				var addy1159ff305a084d72899dc75a612e9b9a = 'j&#105;m.&#97;nd&#101;rs&#111;n' + '&#64;';
				addy1159ff305a084d72899dc75a612e9b9a = addy1159ff305a084d72899dc75a612e9b9a + 'cvst&#97;rr' + '&#46;' + 'c&#111;m';
				var addy_text1159ff305a084d72899dc75a612e9b9a = 'j&#105;m.&#97;nd&#101;rs&#111;n' + '&#64;' + 'cvst&#97;rr' + '&#46;' + 'c&#111;m';document.getElementById('cloak1159ff305a084d72899dc75a612e9b9a').innerHTML += ''+addy_text1159ff305a084d72899dc75a612e9b9a+'';
		
DTSTAMP:20260422T093111Z
DTSTART;TZID=America/Phoenix:20170712T180000
SEQUENCE:0
TRANSP:OPAQUE
END:VEVENT
END:VCALENDAR