BEGIN:VCALENDAR
VERSION:2.0
PRODID:-//jEvents 2.0 for Joomla//EN
CALSCALE:GREGORIAN
METHOD:PUBLISH
BEGIN:VEVENT
UID:e29397fe7b581097492169ac2da67bb6
CATEGORIES:Backcountry
CREATED:20170801T145241
SUMMARY:Canceled: White Mountain Camping at Springerville
LOCATION:Springer Municipal Airport (KJTC)
DESCRIPTION;ENCODING=QUOTED-PRINTABLE:\n~ Canceled ~\nWatch for new Spring Date!\nSpringer Municipal Airport (KJT
 C)\n\n\n\nUnfortunately, due to forecasted high winds, gusts over 40mph, an
 d poor weather, we have decided to postpone the inaugural White Mountain Sp
 ringerville backcountry fly-in and camping event to spring so watch for the
  date that will be announced!\nSummer is almost over in the desert, and it 
 is really cooling off&nbsp;in Springerville at 7000&rsquo; elevation. Sprin
 gerville has added a parallel dirt strip(for those that are fat tire equipp
 ed) on the east side of 03/21, and has an area where we can camp out away f
 rom the active runways. The White Mountains are very scenic and Springervil
 le has fuel and is a great base for exploring Eastern Arizona and Western N
 ew Mexico.\n\nFor questions or more info contact Nelson ( This email addres
 s is being protected from spambots. You need JavaScript enabled to view it.
 
				document.getElementById('cloakb98cc7adc9885e2207df5d16b5c76bdd').inner
 HTML = '';
				var prefix = '&#109;a' + 'i&#108;' + '&#116;o';
				var path
  = 'hr' + 'ef' + '=';
				var addyb98cc7adc9885e2207df5d16b5c76bdd = '&#97;
 zn&#101;ls&#111;ng' + '&#64;';
				addyb98cc7adc9885e2207df5d16b5c76bdd = a
 ddyb98cc7adc9885e2207df5d16b5c76bdd + 'gm&#97;&#105;l' + '&#46;' + 'c&#111;
 m';
				var addy_textb98cc7adc9885e2207df5d16b5c76bdd = '&#97;zn&#101;ls&#1
 11;ng' + '&#64;' + 'gm&#97;&#105;l' + '&#46;' + 'c&#111;m';document.getElem
 entById('cloakb98cc7adc9885e2207df5d16b5c76bdd').innerHTML += ''+addy_textb
 98cc7adc9885e2207df5d16b5c76bdd+'';
		)&nbsp;\n\n\nNelson Garrison\n&nbsp;\
 n\n
CONTACT:Contact Nelson (This email address is being protected from spambots. You need JavaScript enabled to view it.
				document.getElementById('cloak82e4ce72643cb79cf55372c1547bf54f').innerHTML = '';
				var prefix = '&#109;a' + 'i&#108;' + '&#116;o';
				var path = 'hr' + 'ef' + '=';
				var addy82e4ce72643cb79cf55372c1547bf54f = '&#97;zn&#101;ls&#111;ng' + '&#64;';
				addy82e4ce72643cb79cf55372c1547bf54f = addy82e4ce72643cb79cf55372c1547bf54f + 'gm&#97;&#105;l' + '&#46;' + 'c&#111;m';
				var addy_text82e4ce72643cb79cf55372c1547bf54f = '&#97;zn&#101;ls&#111;ng' + '&#64;' + 'gm&#97;&#105;l' + '&#46;' + 'c&#111;m';document.getElementById('cloak82e4ce72643cb79cf55372c1547bf54f').innerHTML += ''+addy_text82e4ce72643cb79cf55372c1547bf54f+'';
		) or Sean (Airport Manager) 928–333-5746
DTSTAMP:20260423T022936Z
DTSTART;TZID=America/Phoenix;VALUE=DATE:20170922
DTEND;TZID=America/Phoenix;VALUE=DATE:20170925
SEQUENCE:0
TRANSP:OPAQUE
END:VEVENT
END:VCALENDAR