BEGIN:VCALENDAR
VERSION:2.0
PRODID:-//jEvents 2.0 for Joomla//EN
CALSCALE:GREGORIAN
METHOD:PUBLISH
BEGIN:VEVENT
UID:f24b1d0ce1c10677223a6c7252656a7f
CATEGORIES:Safety
CREATED:20170808T164604
SUMMARY:AFTW (Arizona Flight Training Workgroup) Meeting at Scottsdale
LOCATION:Scottsdale FSDO 17777 N Perimeter 101 Scottsdale, AZ 85255
DESCRIPTION;ENCODING=QUOTED-PRINTABLE:AFTW (Arizona Flight Training Workgroup) Meeting\nTopic: Factors Instructor
 s and Schools consider for flight training safety in Arizona. Scheduled 09:
 30 to 11:30.\n\n\nDate and Time: Wednesday, September 20, 2017, starting at
  09:30 Arizona\n\n\nSpeaker(s): CFI, DPE, and school representatives\n\n\nB
 rief Description:\nInstructors and school representatives meet to address r
 isks and safety management issues when conducting flight instruction in Ari
 zona. Standing topics are: airports, airspace, Airmen Certification and Pra
 ctical Test Standards tasks and elements, and other flight training and pil
 ot testing issues\n\n\nSelect Number: WP0777536\n\n\nLocation of Seminar:\n
 Scottsdale FSDO\n17777 N Perimeter\n101\nScottsdale, AZ 85255\n\n\nDirectio
 ns to Venue:\nCheck in at the reception desk\n\n\nFly-in Seminar?: No\n\n\n
 Seating: 40 seats at the facility\n\n\nRegistration Information:\nClick her
 e to register online now!\n\n\nSponsoring Division: Scottsdale FSDO\n\n\nCo
 ntact Information: TERRY WAYNE BRANDT\nPhone: 602-739-0554\nThis email addr
 ess is being protected from spambots. You need JavaScript enabled to view i
 t.
				document.getElementById('cloakfb863c21dc41f76506fa9d2afa6ed13d').inn
 erHTML = '';
				var prefix = '&#109;a' + 'i&#108;' + '&#116;o';
				var pa
 th = 'hr' + 'ef' + '=';
				var addyfb863c21dc41f76506fa9d2afa6ed13d = 'tbr
 &#97;ndt33' + '&#64;';
				addyfb863c21dc41f76506fa9d2afa6ed13d = addyfb863
 c21dc41f76506fa9d2afa6ed13d + '&#101;&#97;rthl&#105;nk' + '&#46;' + 'n&#101
 ;t';
				var addy_textfb863c21dc41f76506fa9d2afa6ed13d = 'tbr&#97;ndt33' + 
 '&#64;' + '&#101;&#97;rthl&#105;nk' + '&#46;' + 'n&#101;t';document.getElem
 entById('cloakfb863c21dc41f76506fa9d2afa6ed13d').innerHTML += ''+addy_textf
 b863c21dc41f76506fa9d2afa6ed13d+'';
		\n\n\nAdditional Event Information &a
 mp; Acknowledgement of Industry Sponsor(s):\nSee additional information at 
 www.AFTW.org\n\n\nEqual Access Information:\nThe FAA Safety Team (FAASTeam)
  is committed to providing equal access to this meeting/event for all parti
 cipants. If you need alternative formats or services because of a disabilit
 y, please communicate your request as soon as possible with the person in t
 he &ldquo;Contact Information&rdquo; area of the meeting/event notice. Note
  that two weeks is usually required to arrange services.\n\n\nCredit Applic
 ability:\n1 Credit for Basic Knowledge Topic 3\n1 Credit for Advanced Knowl
 edge Topic 1\n1 Credit for Master Knowledge Topic 1\n
CONTACT:TERRY WAYNE BRANDT Phone: 602-739-0554 This email address is being protected from spambots. You need JavaScript enabled to view it.
				document.getElementById('cloak98574bd502ef83e93332fd888ac4dec6').innerHTML = '';
				var prefix = '&#109;a' + 'i&#108;' + '&#116;o';
				var path = 'hr' + 'ef' + '=';
				var addy98574bd502ef83e93332fd888ac4dec6 = 'tbr&#97;ndt33' + '&#64;';
				addy98574bd502ef83e93332fd888ac4dec6 = addy98574bd502ef83e93332fd888ac4dec6 + '&#101;&#97;rthl&#105;nk' + '&#46;' + 'n&#101;t';
				var addy_text98574bd502ef83e93332fd888ac4dec6 = 'tbr&#97;ndt33' + '&#64;' + '&#101;&#97;rthl&#105;nk' + '&#46;' + 'n&#101;t';document.getElementById('cloak98574bd502ef83e93332fd888ac4dec6').innerHTML += ''+addy_text98574bd502ef83e93332fd888ac4dec6+'';
		
DTSTAMP:20260423T022936Z
DTSTART;TZID=America/Phoenix:20170920T093000
DTEND;TZID=America/Phoenix:20170920T113000
SEQUENCE:0
TRANSP:OPAQUE
END:VEVENT
END:VCALENDAR