BEGIN:VCALENDAR
VERSION:2.0
PRODID:-//jEvents 2.0 for Joomla//EN
CALSCALE:GREGORIAN
METHOD:PUBLISH
BEGIN:VEVENT
UID:48869c68b2a37dd9fc7a449a905f4fb4
CATEGORIES:Backcountry
CREATED:20170809T113748
SUMMARY:Grapevine Monthly Fly-In Weekend
LOCATION:Grapevine (E75) near Roosevelt Lake
DESCRIPTION;ENCODING=QUOTED-PRINTABLE:\n&nbsp;\n&nbsp;\nThe camp host for this month is:\n~ Jim &amp; Diane ~&nbs
 p;\n\n\nFriday night: Camp out under the stars\nSaturday: BBQ and Potluck L
 unch\nSaturday Night: Potluck &amp; Camp under the stars and tell stories a
 round the group campfire!\nSunday: Most folks depart by noon\n\n\n\n\n&nbsp
 ;&nbsp;\nAs always,\nPort-A-John on site\nFree Airplane Parking\nFree Campi
 ng\nFree Black Labrador Petting Zoo\nHiking\nPlenty of Sunshine\n\nClick fo
 r weather forecast&nbsp;&nbsp;Grapevine is open on the entire weekend of th
 e third Saturday&nbsp;of each month,&nbsp;\nFriday through Sunday.\n&nbsp;\
 nClick here for the GRAPEVINE SAFETY BULLETIN\n&nbsp;\nPlease email&nbsp;Th
 is email address is being protected from spambots. You need JavaScript enab
 led to view it.
				document.getElementById('cloak054d30466c238c6f6ad31ba86
 5013442').innerHTML = '';
				var prefix = '&#109;a' + 'i&#108;' + '&#116;o
 ';
				var path = 'hr' + 'ef' + '=';
				var addy054d30466c238c6f6ad31ba865
 013442 = 'AzCl&#111;&#117;dFly&#101;r' + '&#64;';
				addy054d30466c238c6f6
 ad31ba865013442 = addy054d30466c238c6f6ad31ba865013442 + '&#101;&#97;rthl&#
 105;nk' + '&#46;' + 'n&#101;t&amp;s&#117;bj&#101;ct=Gr&#97;p&#101;v&#105;n&
 #101;';
				var addy_text054d30466c238c6f6ad31ba865013442 = 'M&#105;k&#101;
  Andr&#101;s&#101;n';document.getElementById('cloak054d30466c238c6f6ad31ba8
 65013442').innerHTML += ''+addy_text054d30466c238c6f6ad31ba865013442+'';
		
 &nbsp;for more info or if you are interested in volunteering.\n&nbsp;\n\n\n
 \n\n\n\n\n\n\n\n\n
CONTACT:Tommy Thomason This email address is being protected from spambots. You need JavaScript enabled to view it.
				document.getElementById('cloak25613580fe15da3f5dd39b246f761bb8').innerHTML = '';
				var prefix = '&#109;a' + 'i&#108;' + '&#116;o';
				var path = 'hr' + 'ef' + '=';
				var addy25613580fe15da3f5dd39b246f761bb8 = 't&#101;th&#111;m&#97;s&#111;n' + '&#64;';
				addy25613580fe15da3f5dd39b246f761bb8 = addy25613580fe15da3f5dd39b246f761bb8 + '&#97;zp&#105;l&#111;ts' + '&#46;' + '&#111;rg';
				var addy_text25613580fe15da3f5dd39b246f761bb8 = 't&#101;th&#111;m&#97;s&#111;n' + '&#64;' + '&#97;zp&#105;l&#111;ts' + '&#46;' + '&#111;rg';document.getElementById('cloak25613580fe15da3f5dd39b246f761bb8').innerHTML += ''+addy_text25613580fe15da3f5dd39b246f761bb8+'';
		 602-708-2040
DTSTAMP:20260422T222539Z
DTSTART;TZID=America/Phoenix;VALUE=DATE:20170916
DTEND;TZID=America/Phoenix;VALUE=DATE:20170918
SEQUENCE:0
TRANSP:OPAQUE
END:VEVENT
END:VCALENDAR