BEGIN:VCALENDAR
VERSION:2.0
PRODID:-//jEvents 2.0 for Joomla//EN
CALSCALE:GREGORIAN
METHOD:PUBLISH
BEGIN:VEVENT
UID:48869c68b2a37dd9fc7a449a905f4fb4
CATEGORIES:Backcountry
CREATED:20170809T113748
SUMMARY:Grapevine Monthly Fly-In Weekend
LOCATION:Grapevine (E75) near Roosevelt Lake
DESCRIPTION;ENCODING=QUOTED-PRINTABLE:\n&nbsp;\nThe camp host for this month is:\n~&nbsp;Jim x2&nbsp;;-) &nbsp;Di
 ane and Stella ~   \n\n\nFriday night: Camp out under the stars\nSaturday: 
 BBQ and Potluck Lunch\nSaturday Night: Potluck &amp; Camp under the stars a
 nd tell stories around the group campfire!\nSunday: Most folks depart by no
 on\n\n\n\n\n&nbsp;&nbsp;\nAs always,\nPort-A-John on site\nFree Airplane Pa
 rking\nFree Camping\nFree Black Labrador Petting Zoo\nHiking\nPlenty of Sun
 shine\n\nClick for weather forecast&nbsp;&nbsp;Grapevine is open full time 
 now, but the third Saturday of each month is a special time with lunch serv
 ed on Saturday. Come an camp for the weekend!\n&nbsp;\nClick here for the G
 RAPEVINE SAFETY BULLETIN\n&nbsp;\nPlease email&nbsp;This email address is b
 eing protected from spambots. You need JavaScript enabled to view it.
				d
 ocument.getElementById('cloak8f4ef64f737886222a1ff9469aef7139').innerHTML =
  '';
				var prefix = '&#109;a' + 'i&#108;' + '&#116;o';
				var path = 'hr
 ' + 'ef' + '=';
				var addy8f4ef64f737886222a1ff9469aef7139 = 'AzCl&#111;&
 #117;dFly&#101;r' + '&#64;';
				addy8f4ef64f737886222a1ff9469aef7139 = add
 y8f4ef64f737886222a1ff9469aef7139 + '&#101;&#97;rthl&#105;nk' + '&#46;' + '
 n&#101;t&amp;s&#117;bj&#101;ct=Gr&#97;p&#101;v&#105;n&#101;';
				var addy_
 text8f4ef64f737886222a1ff9469aef7139 = 'M&#105;k&#101; Andr&#101;s&#101;n';
 document.getElementById('cloak8f4ef64f737886222a1ff9469aef7139').innerHTML 
 += ''+addy_text8f4ef64f737886222a1ff9469aef7139+'';
		&nbsp;for more info o
 r if you are interested in volunteering.\n&nbsp;\n\n\n\n\n\n\n\n\n\n\n\n
CONTACT:Tommy Thomason This email address is being protected from spambots. You need JavaScript enabled to view it.
				document.getElementById('cloakd949be89565b31b85f541967cfc0bf89').innerHTML = '';
				var prefix = '&#109;a' + 'i&#108;' + '&#116;o';
				var path = 'hr' + 'ef' + '=';
				var addyd949be89565b31b85f541967cfc0bf89 = 't&#101;th&#111;m&#97;s&#111;n' + '&#64;';
				addyd949be89565b31b85f541967cfc0bf89 = addyd949be89565b31b85f541967cfc0bf89 + '&#97;zp&#105;l&#111;ts' + '&#46;' + '&#111;rg';
				var addy_textd949be89565b31b85f541967cfc0bf89 = 't&#101;th&#111;m&#97;s&#111;n' + '&#64;' + '&#97;zp&#105;l&#111;ts' + '&#46;' + '&#111;rg';document.getElementById('cloakd949be89565b31b85f541967cfc0bf89').innerHTML += ''+addy_textd949be89565b31b85f541967cfc0bf89+'';
		 602-708-2040
DTSTAMP:20260421T170713Z
DTSTART;TZID=America/Phoenix;VALUE=DATE:20180119
DTEND;TZID=America/Phoenix;VALUE=DATE:20180122
SEQUENCE:0
TRANSP:OPAQUE
END:VEVENT
END:VCALENDAR