BEGIN:VCALENDAR
VERSION:2.0
PRODID:-//jEvents 2.0 for Joomla//EN
CALSCALE:GREGORIAN
METHOD:PUBLISH
BEGIN:VEVENT
UID:f45b60661f727ffadb146c52e1d78040
CATEGORIES:Other Fly-In
CREATED:20170823T093820
SUMMARY:Sedona Airport Day Fly-In & Car Show
LOCATION:Sedona-Oak Creek Airport
DESCRIPTION;ENCODING=QUOTED-PRINTABLE:Sedona Airport Day 2017\nSedona-Oak Creek Airport Authority would like to i
 nvite you and/or your organization\nto attend our Airport Day event Saturda
 y, September 16th 2017 9AM to 3PM!\nWe encourage you to bring your vintage,
  antique, or just unique, or specialty aircraft to display.\nPlease Contact
  - Jacob Allen, Sedona Airport Coordinator To RSVP for the event\nor if you
  have any questions regarding parking availability fuel allowances for disp
 lays, etc. Also, feel free to contact with any general event questions.\n\n
 \n&nbsp;\n\n
CONTACT:Jacob Allen This email address is being protected from spambots. You need JavaScript enabled to view it.
				document.getElementById('cloak85ea998473004f88e7ae060521088ee4').innerHTML = '';
				var prefix = '&#109;a' + 'i&#108;' + '&#116;o';
				var path = 'hr' + 'ef' + '=';
				var addy85ea998473004f88e7ae060521088ee4 = 'j&#97;k&#101;' + '&#64;';
				addy85ea998473004f88e7ae060521088ee4 = addy85ea998473004f88e7ae060521088ee4 + 's&#101;d&#111;n&#97;&#97;&#105;rp&#111;rt' + '&#46;' + '&#111;rg';
				var addy_text85ea998473004f88e7ae060521088ee4 = 'j&#97;k&#101;' + '&#64;' + 's&#101;d&#111;n&#97;&#97;&#105;rp&#111;rt' + '&#46;' + '&#111;rg';document.getElementById('cloak85ea998473004f88e7ae060521088ee4').innerHTML += ''+addy_text85ea998473004f88e7ae060521088ee4+'';
		  (928) 282-4487 
DTSTAMP:20260423T022653Z
DTSTART;TZID=America/Phoenix:20170916T090000
DTEND;TZID=America/Phoenix:20170916T150000
SEQUENCE:0
TRANSP:OPAQUE
END:VEVENT
END:VCALENDAR