BEGIN:VCALENDAR
VERSION:2.0
PRODID:-//jEvents 2.0 for Joomla//EN
CALSCALE:GREGORIAN
METHOD:PUBLISH
BEGIN:VEVENT
UID:1cd8173fa81e921acdb5a77420b66ccf
CATEGORIES:Other Fly-In
CREATED:20170823T172054
SUMMARY:Copperstate Fly-In at Mesa's Falcon Field
LOCATION:Falcon Field Airport - Mesa, AZ
DESCRIPTION;ENCODING=QUOTED-PRINTABLE:\nThe 45th Annual\nCOPPERSTATE Fly-In\nAviation &amp; Education Expo\nOCTOB
 ER 27 &amp; 28, 2017  \nFalcon Field Airport - Mesa, AZ\n&nbsp;\nwww.copper
 state.org\n\n \n&nbsp;\n
CONTACT:This email address is being protected from spambots. You need JavaScript enabled to view it.
				document.getElementById('cloak11c0a6fa964bea6b3358cc4c394cb528').innerHTML = '';
				var prefix = '&#109;a' + 'i&#108;' + '&#116;o';
				var path = 'hr' + 'ef' + '=';
				var addy11c0a6fa964bea6b3358cc4c394cb528 = '&#105;nf&#111;' + '&#64;';
				addy11c0a6fa964bea6b3358cc4c394cb528 = addy11c0a6fa964bea6b3358cc4c394cb528 + 'c&#111;pp&#101;rst&#97;t&#101;' + '&#46;' + '&#111;rg';
				var addy_text11c0a6fa964bea6b3358cc4c394cb528 = '&#105;nf&#111;' + '&#64;' + 'c&#111;pp&#101;rst&#97;t&#101;' + '&#46;' + '&#111;rg';document.getElementById('cloak11c0a6fa964bea6b3358cc4c394cb528').innerHTML += ''+addy_text11c0a6fa964bea6b3358cc4c394cb528+'';
		
DTSTAMP:20260422T202559Z
DTSTART;TZID=America/Phoenix;VALUE=DATE:20171027
DTEND;TZID=America/Phoenix;VALUE=DATE:20171029
SEQUENCE:0
TRANSP:OPAQUE
END:VEVENT
END:VCALENDAR