BEGIN:VCALENDAR
VERSION:2.0
PRODID:-//jEvents 2.0 for Joomla//EN
CALSCALE:GREGORIAN
METHOD:PUBLISH
BEGIN:VEVENT
UID:1b7b9871dec9b2d8c79f5627cbafda61
CATEGORIES:Safety
CREATED:20170902T124033
SUMMARY:Aviation English Overview / When do I takeover? at Mesa
LOCATION:CAE Oxford Aviation Academy 5010 E. Falcon Dr Mesa, AZ 85215
DESCRIPTION;ENCODING=QUOTED-PRINTABLE:AC 60-28B - Aviation English Overview / When do I takeover? - A CFI forum\n
 Reviewing AC 60-28b, regarding AEL Proficiency and then discuss 'When do I 
 takeover controls?' an open forum\n\n\nDate and Time: Thursday, September 1
 4, 2017, starting at 18:30 Arizona\n\n\nSpeaker(s): Brent Crow\n\n\nBrief D
 escription:\nThe FAA has released new revised standards when it comes to Av
 iation English Language proficiency for applicants for certificates. We wil
 l review the Circular, and discuss things to look for and what to do if you
  ever find yourself instructing a non-native English speaker. Secondly, we 
 will host an open discussion regarding "when do I take over controls from m
 y student?" Some case studies, tips and techniques will be provided up fron
 t with the goal to have you walking away with a solid foundation from which
  to build on to enhance your cockpit safety during any dual instructional f
 light. The goal of course is to prevent loss of control accidents in traini
 ng.\n\n\nSelect Number: WP0778313\n\n\nLocation of Seminar:\nCAE Oxford Avi
 ation Academy\n5010 E. Falcon Dr\n Mesa, AZ 85215\n\n\nDirections to Venue:
 \nFrom US60, head east from Phoenix and exit at Higley. Head North to Falco
 n Drive and then head west and CAE will be on your right, North of the stre
 et. Park in the parking lot across the street to the South. When you enter 
 the building, follow the signs to the upstairs classroom.\n\n\nView Map\n\n
 \nFly-in Seminar?: Yes KFFZ\n\n\nSeating: 55 seats at the facility\n\n\nReg
 istration Information:\n\n\nClick here to register online now!\n\n\nSponsor
 ing Division: FAASTeam\n\n\nContact Information: BRENT CROW\nPhone: (480) 7
 03-6096\nThis email address is being protected from spambots. You need Java
 Script enabled to view it.
				document.getElementById('cloak9f0aee362043bd
 8bdd05f27312cb562e').innerHTML = '';
				var prefix = '&#109;a' + 'i&#108;'
  + '&#116;o';
				var path = 'hr' + 'ef' + '=';
				var addy9f0aee362043bd8
 bdd05f27312cb562e = 'br&#101;nt.cr&#111;w' + '&#64;';
				addy9f0aee362043b
 d8bdd05f27312cb562e = addy9f0aee362043bd8bdd05f27312cb562e + 'c&#97;&#101;'
  + '&#46;' + 'c&#111;m';
				var addy_text9f0aee362043bd8bdd05f27312cb562e 
 = 'br&#101;nt.cr&#111;w' + '&#64;' + 'c&#97;&#101;' + '&#46;' + 'c&#111;m';
 document.getElementById('cloak9f0aee362043bd8bdd05f27312cb562e').innerHTML 
 += ''+addy_text9f0aee362043bd8bdd05f27312cb562e+'';
		\n\n\nAdditional Even
 t Information &amp; Acknowledgement of Industry Sponsor(s):\nThis seminar i
 s presented by FAA Safety Team Representative Brent Crow and hosted by CAE 
 Oxford Aviation Academy.\n\n\nEqual Access Information:\nThe FAA Safety Tea
 m (FAASTeam) is committed to providing equal access to this meeting/event f
 or all participants. If you need alternative formats or services because of
  a disability, please communicate your request as soon as possible with the
  person in the &ldquo;Contact Information&rdquo; area of the meeting/event 
 notice. Note that two weeks is usually required to arrange services.\n\n\nC
 redit Applicability:\n1 Credit for Basic Knowledge Topic 2\n1 Credit for Ad
 vanced Knowledge Topic 2\n1 Credit for Master Knowledge Topic 2\n
CONTACT:BRENT CROW Phone: (480) 703-6096 This email address is being protected from spambots. You need JavaScript enabled to view it.
				document.getElementById('cloakc35f3331a628d894805c0dc6479e7c98').innerHTML = '';
				var prefix = '&#109;a' + 'i&#108;' + '&#116;o';
				var path = 'hr' + 'ef' + '=';
				var addyc35f3331a628d894805c0dc6479e7c98 = 'br&#101;nt.cr&#111;w' + '&#64;';
				addyc35f3331a628d894805c0dc6479e7c98 = addyc35f3331a628d894805c0dc6479e7c98 + 'c&#97;&#101;' + '&#46;' + 'c&#111;m';
				var addy_textc35f3331a628d894805c0dc6479e7c98 = 'br&#101;nt.cr&#111;w' + '&#64;' + 'c&#97;&#101;' + '&#46;' + 'c&#111;m';document.getElementById('cloakc35f3331a628d894805c0dc6479e7c98').innerHTML += ''+addy_textc35f3331a628d894805c0dc6479e7c98+'';
		
DTSTAMP:20260423T022653Z
DTSTART;TZID=America/Phoenix:20170914T183000
SEQUENCE:0
TRANSP:OPAQUE
END:VEVENT
END:VCALENDAR