BEGIN:VCALENDAR
VERSION:2.0
PRODID:-//jEvents 2.0 for Joomla//EN
CALSCALE:GREGORIAN
METHOD:PUBLISH
BEGIN:VEVENT
UID:6be73d43c5a1e006aff858d45da7e2e9
CATEGORIES:Backcountry
CREATED:20170919T145702
SUMMARY:Historic Double Circle Ranch Fly-In Camp
LOCATION:Double Circle Ranch (Z66)
DESCRIPTION;ENCODING=QUOTED-PRINTABLE:\n\n\n\n\nJoin us at the old Double Circle Ranch (Z66) for fun and camping.
  Bring your potluck dish for Saturday evening.\n\n\nBathroom facilites are 
 now available!\n\n\nWe September at the historic Double Circle Ranch, now Z
 66, the weekend of September 29th through October 1. At this point weather 
 predictions are very good, so make your plans to join us! As always, watch 
 our&nbsp;Facebook&nbsp;page for last minute updates.\n\n\n&nbsp;\n\n\nThe o
 ld Double Circle was once one of the largest cattle ranches in AZ, homstead
 ed in 1878 by George Stevens and his Apache wife, Francesca, daughter of Es
 -Kel-Thes-e-la, hereditary Chief of the Coyotero Band of White Mountain Apa
 che Indians. The subject of two raids by Geranimo the place is rich in sout
 hwestern history.\n\n\n&nbsp;\n\n\nDownload the safety brief here.\n\n\nThi
 s email address is being protected from spambots. You need JavaScript enabl
 ed to view it.
				document.getElementById('cloakd8a9197d0718dd62041dbd9dc1
 8d5d9d').innerHTML = '';
				var prefix = '&#109;a' + 'i&#108;' + '&#116;o'
 ;
				var path = 'hr' + 'ef' + '=';
				var addyd8a9197d0718dd62041dbd9dc18
 d5d9d = 'msp&#101;nc&#101;r' + '&#64;';
				addyd8a9197d0718dd62041dbd9dc18
 d5d9d = addyd8a9197d0718dd62041dbd9dc18d5d9d + '&#97;zp&#105;l&#111;ts' + '
 &#46;' + '&#111;rg';
				var addy_textd8a9197d0718dd62041dbd9dc18d5d9d = 'C
 &#111;nt&#97;ct M&#97;rk f&#111;r m&#111;r&#101; &#105;nf&#111;';document.g
 etElementById('cloakd8a9197d0718dd62041dbd9dc18d5d9d').innerHTML += ''+addy
 _textd8a9197d0718dd62041dbd9dc18d5d9d+'';
		.\n\n\n\n\n\n\n\n\n&nbsp;\n\n\n
 \n
CONTACT:Mark Spencer  602-708-1599  This email address is being protected from spambots. You need JavaScript enabled to view it.
				document.getElementById('cloak466c5831ef714aea2c03502e52813488').innerHTML = '';
				var prefix = '&#109;a' + 'i&#108;' + '&#116;o';
				var path = 'hr' + 'ef' + '=';
				var addy466c5831ef714aea2c03502e52813488 = 'msp&#101;nc&#101;r' + '&#64;';
				addy466c5831ef714aea2c03502e52813488 = addy466c5831ef714aea2c03502e52813488 + '&#97;zp&#105;l&#111;ts' + '&#46;' + '&#111;rg';
				var addy_text466c5831ef714aea2c03502e52813488 = 'msp&#101;nc&#101;r' + '&#64;' + '&#97;zp&#105;l&#111;ts' + '&#46;' + '&#111;rg';document.getElementById('cloak466c5831ef714aea2c03502e52813488').innerHTML += ''+addy_text466c5831ef714aea2c03502e52813488+'';
		
DTSTAMP:20260422T202559Z
DTSTART;TZID=America/Phoenix;VALUE=DATE:20170929
DTEND;TZID=America/Phoenix;VALUE=DATE:20171002
SEQUENCE:0
TRANSP:OPAQUE
END:VEVENT
END:VCALENDAR