BEGIN:VCALENDAR
VERSION:2.0
PRODID:-//jEvents 2.0 for Joomla//EN
CALSCALE:GREGORIAN
METHOD:PUBLISH
BEGIN:VEVENT
UID:ff2f9045c14d1d17f8823e5e8c62ede4
CATEGORIES:Backcountry
CREATED:20170919T150051
SUMMARY:Backcountry Camping and Cookout in Payson (KPAN)
LOCATION:Payson, AZ (KPAN)
DESCRIPTION;ENCODING=QUOTED-PRINTABLE:Cancellation Reversed: \nPayson Campout is back on!\n\n\n&nbsp;\n\n\n10/12/
 2017 5:30pm Update.&nbsp; \n\n\nLooks like the weather is improving on Satu
 rday and Sunday, and with several folks responding that they are staying fo
 r the weekend at the Payson Airport campground, we are going to reverse the
  cancellation. The APA will be providing a hamburger and brat lunch around 
 noon on Saturday!\n\n\nAs always, it is your choice as pilot in command to 
 make the final decision.&nbsp;\n\n\nThis email address is being protected f
 rom spambots. You need JavaScript enabled to view it.
				document.getEleme
 ntById('cloak8bf690ab8d0a8822fb8690cc0e1ba178').innerHTML = '';
				var pre
 fix = '&#109;a' + 'i&#108;' + '&#116;o';
				var path = 'hr' + 'ef' + '=';

 				var addy8bf690ab8d0a8822fb8690cc0e1ba178 = 'msp&#101;nc&#101;r' + '&#64
 ;';
				addy8bf690ab8d0a8822fb8690cc0e1ba178 = addy8bf690ab8d0a8822fb8690cc
 0e1ba178 + '&#97;zp&#105;l&#111;ts' + '&#46;' + '&#111;rg';
				var addy_te
 xt8bf690ab8d0a8822fb8690cc0e1ba178 = 'msp&#101;nc&#101;r' + '&#64;' + '&#97
 ;zp&#105;l&#111;ts' + '&#46;' + '&#111;rg';document.getElementById('cloak8b
 f690ab8d0a8822fb8690cc0e1ba178').innerHTML += ''+addy_text8bf690ab8d0a8822f
 b8690cc0e1ba178+'';
		\n\n\n\n\n\n&nbsp;\n\n\nPlease also join us at the Pl
 easant Valley (Young 24AZ) fly-in and camp the weekend of November 10th, 11
 th, and 12th! Grab your hotel room now if you don't want to camp!&nbsp;\n\n
 \nDon't miss our monthly fly in and camp with a Saturday BBQ lunch at the G
 rapevine Airstrip at Roosevelt Lake (88AZ) next weekend!\nMore info:&nbsp;T
 his email address is being protected from spambots. You need JavaScript ena
 bled to view it.
				document.getElementById('cloake98f5cdbfda494221623ccc6
 bf54a74d').innerHTML = '';
				var prefix = '&#109;a' + 'i&#108;' + '&#116;
 o';
				var path = 'hr' + 'ef' + '=';
				var addye98f5cdbfda494221623ccc6b
 f54a74d = 'msp&#101;nc&#101;r' + '&#64;';
				addye98f5cdbfda494221623ccc6b
 f54a74d = addye98f5cdbfda494221623ccc6bf54a74d + '&#97;zp&#105;l&#111;ts' +
  '&#46;' + '&#111;rg';
				var addy_texte98f5cdbfda494221623ccc6bf54a74d = 
 'msp&#101;nc&#101;r' + '&#64;' + '&#97;zp&#105;l&#111;ts' + '&#46;' + '&#11
 1;rg';document.getElementById('cloake98f5cdbfda494221623ccc6bf54a74d').inne
 rHTML += ''+addy_texte98f5cdbfda494221623ccc6bf54a74d+'';
		\n\n\n\n\n&nbsp
 ;\n\n\n&nbsp;\nBackcountry Camping and Cookout in Payson (KPAN)\nOctober 13
 -15, 2017\nPayson Airport Campground\nClean Restrooms, Showers, Horseshoe P
 it\nSaturday Lunch provided!\nPotluck Saturday night, bring a dish!!\n&nbsp
 ;\nCOME CHECK OUT THE Campground Pilot Shade Ramada&nbsp;\nbuilt by Eagle S
 cout James Nebrig, family, and friends.\nCrosswinds Cafe on the field\n\n\n
 \n&nbsp;\nPayson has running water/bathroom facilities on the campground an
 d you can even get your morning coffee or breakfast from the wonderful rest
 aurant on the field. If your'e not a camper, transportation can be arranged
  with local hotels to and from airport, and a courtesy car is now availale.
 \nYou won't want to miss it!\n\n\n\n&nbsp;&nbsp;\n
CONTACT:Mark Spencer  This email address is being protected from spambots. You need JavaScript enabled to view it.
				document.getElementById('cloakaa2c4404d21c06c8cd3a69ce3c244f06').innerHTML = '';
				var prefix = '&#109;a' + 'i&#108;' + '&#116;o';
				var path = 'hr' + 'ef' + '=';
				var addyaa2c4404d21c06c8cd3a69ce3c244f06 = 'msp&#101;nc&#101;r' + '&#64;';
				addyaa2c4404d21c06c8cd3a69ce3c244f06 = addyaa2c4404d21c06c8cd3a69ce3c244f06 + 'AZP&#105;l&#111;ts' + '&#46;' + '&#111;rg';
				var addy_textaa2c4404d21c06c8cd3a69ce3c244f06 = 'msp&#101;nc&#101;r' + '&#64;' + 'AZP&#105;l&#111;ts' + '&#46;' + '&#111;rg';document.getElementById('cloakaa2c4404d21c06c8cd3a69ce3c244f06').innerHTML += ''+addy_textaa2c4404d21c06c8cd3a69ce3c244f06+'';
		 520-826-2105
DTSTAMP:20260422T202649Z
DTSTART;TZID=America/Phoenix;VALUE=DATE:20171013
DTEND;TZID=America/Phoenix;VALUE=DATE:20171016
SEQUENCE:0
TRANSP:OPAQUE
END:VEVENT
END:VCALENDAR