BEGIN:VCALENDAR
VERSION:2.0
PRODID:-//jEvents 2.0 for Joomla//EN
CALSCALE:GREGORIAN
METHOD:PUBLISH
BEGIN:VEVENT
UID:141817ceb2801ebe75384f891f8440aa
CATEGORIES:Safety
CREATED:20170929T101951
SUMMARY:Tri Wing Fly-in Angel Flight at Lake Havasu City
LOCATION:Hangar 24 Brewery 5600 AZ-95 6 Lake Havasu City, AZ 86404
DESCRIPTION;ENCODING=QUOTED-PRINTABLE:Tri Wing Fly-in Angel Flight\nHigh density altitude, mountain flying, So Ca
 l TRACON and EAA.\n\n\nDate and Time: Saturday, September 30, 2017, startin
 g at 11:00 Arizona\n\n\nSpeaker(s): Ernest R Copeland\n\n\nBrief Descriptio
 n:\nEvent will be conducted in breakout sessions and will include: High den
 sity altitude, mountain flying, So Cal TRACON and EAA. The event has a cost
 , please see the event details at http://www.angelflightwest.org/pilot-page
 /calendar-of-events/event-details/?eid=603\n\n\nSelect Number: WP0778124\n\
 n\nLocation of Seminar:\nHangar 24 Brewery\n5600 AZ-95\n6\nLake Havasu City
 , AZ 86404\n\n\nDirections to Venue:\nFrom Lake Havasu City, take AZ-95 nor
 thbound for approximately 7.5 miles to Airport Centre BLVD and turn right. 
 Turn left on Whelen Dr. The Restaurant is on a small hill on the right. Par
 king is a dirt lot on the Southeast corner of Whelen and the restaurant acc
 ess road.\n\n\nFrom I-40, take AZ-95 South toward Lake Havasu City approxim
 ately 14 miles. The airport is 7 miles before the city on the left. Turn le
 ft on Airport Centre BLVD and turn right. Turn left on Whelen Dr. The Resta
 urant is on a small hill on the right. Parking is a dirt lot on the Southea
 st corner of Whelen and the restaurant access road.\n\n\nView Map\n\n\nFly-
 in Seminar?: Yes HII\n\n\nSeating: 100 seats at the facility\n\n\nRegistrat
 ion Information:\n\n\nClick here to register online now!\n\n\nSponsoring Di
 vision: Scottsdale FAASTeam\n\n\nContact Information: Ernest Copeland\nPhon
 e: (480) 419-0330 ext. 335\nThis email address is being protected from spam
 bots. You need JavaScript enabled to view it.
				document.getElementById('
 cloakb43a8a70db98f3c83156a5dd3bc0cd41').innerHTML = '';
				var prefix = '&
 #109;a' + 'i&#108;' + '&#116;o';
				var path = 'hr' + 'ef' + '=';
				var 
 addyb43a8a70db98f3c83156a5dd3bc0cd41 = '&#101;rn&#101;st.r.c&#111;p&#101;l&
 #97;nd' + '&#64;';
				addyb43a8a70db98f3c83156a5dd3bc0cd41 = addyb43a8a70d
 b98f3c83156a5dd3bc0cd41 + 'f&#97;&#97;' + '&#46;' + 'g&#111;v';
				var add
 y_textb43a8a70db98f3c83156a5dd3bc0cd41 = '&#101;rn&#101;st.r.c&#111;p&#101;
 l&#97;nd' + '&#64;' + 'f&#97;&#97;' + '&#46;' + 'g&#111;v';document.getElem
 entById('cloakb43a8a70db98f3c83156a5dd3bc0cd41').innerHTML += ''+addy_textb
 43a8a70db98f3c83156a5dd3bc0cd41+'';
		\n\n\nAdditional Event Information &a
 mp; Acknowledgement of Industry Sponsor(s):\nThe FAA Safety Team would like
  to acknowledge and thank Hangar 24 for the use of their facility to conduc
 t this training.\n\n\nRunway incursions are a major factor in aviation safe
 ty. While many things have been done to reduce the accident rate in General
  Aviation and the Air Carrier Industry, both sides of the aviation house ar
 e still experiencing far too many runway incursions. This could be the resu
 lt of "Read back - Hear back" issues, poor airport signage, pilot inattenti
 on/knowledge or a combination of factors. Runway safety is a major concern 
 for all pilots and if you have been around aviation for a long period of ti
 me you have probably seen some close calls on the runways and taxiways, or 
 even been involved in some yourself.\n\n\nPilot airspace deviations continu
 e to be a major risk in the national airspace system. To reduce the chance 
 that you might be involved in an airspace deviation incident, you are highl
 y encouraged to take an on-line learning center course such as ALC 42, ALC 
 154, and ALC90 on www.faasafety.gov, or search the learning library for ass
 ociated guidance on airspace incursions. Remember, safe and prudent airmen 
 have superior situational awareness and have a plan to keep it that way.\n\
 n\nThanks! A message from your local FAASTeam.\n\n\nEqual Access Informatio
 n:\nThe FAA Safety Team (FAASTeam) is committed to providing equal access t
 o this meeting/event for all participants. If you need alternative formats 
 or services because of a disability, please communicate your request as soo
 n as possible with the person in the &ldquo;Contact Information&rdquo; area
  of the meeting/event notice. Note that two weeks is usually required to ar
 range services.\n\n\nCredit Applicability:\n1 Credit for Basic Knowledge To
 pic 1\n1 Credit for Basic Knowledge Topic 2\n1 Credit for Basic Knowledge T
 opic 3\n1 Credit for Advanced Knowledge Topic 2\n1 Credit for Master Knowle
 dge Topic 2\n
CONTACT:Ernest Copeland Phone: (480) 419-0330 ext. 335 This email address is being protected from spambots. You need JavaScript enabled to view it.
				document.getElementById('cloakf5cd5cd105e757dee6c108a338200adb').innerHTML = '';
				var prefix = '&#109;a' + 'i&#108;' + '&#116;o';
				var path = 'hr' + 'ef' + '=';
				var addyf5cd5cd105e757dee6c108a338200adb = '&#101;rn&#101;st.r.c&#111;p&#101;l&#97;nd' + '&#64;';
				addyf5cd5cd105e757dee6c108a338200adb = addyf5cd5cd105e757dee6c108a338200adb + 'f&#97;&#97;' + '&#46;' + 'g&#111;v';
				var addy_textf5cd5cd105e757dee6c108a338200adb = '&#101;rn&#101;st.r.c&#111;p&#101;l&#97;nd' + '&#64;' + 'f&#97;&#97;' + '&#46;' + 'g&#111;v';document.getElementById('cloakf5cd5cd105e757dee6c108a338200adb').innerHTML += ''+addy_textf5cd5cd105e757dee6c108a338200adb+'';
		
DTSTAMP:20260422T220913Z
DTSTART;TZID=America/Phoenix:20170930T110000
DTEND;TZID=America/Phoenix:20170930T170000
SEQUENCE:0
TRANSP:OPAQUE
END:VEVENT
END:VCALENDAR