BEGIN:VCALENDAR
VERSION:2.0
PRODID:-//jEvents 2.0 for Joomla//EN
CALSCALE:GREGORIAN
METHOD:PUBLISH
BEGIN:VEVENT
UID:1886aef3da771d78a9de992e61114d43
CATEGORIES:Other Fly-In
CREATED:20171009T135146
SUMMARY:EAA 538 Poker Run and Raffle at Falcon Field
LOCATION:Falcon Field Airport 4800 E Falcon Dr, Mesa, Arizona 85215
DESCRIPTION;ENCODING=QUOTED-PRINTABLE:\n\n\n\n\n&nbsp;\n\n\nEAA Chapter 538 invites you to come fly in beautiful 
 Arizona in the 2017 "All In" Poker Run. October is a great time of year to 
 be flying and the Poker Route this year is sure to give plenty of oppurtuni
 ty to see some of Arizona most picturesque landscapes!This event is also sc
 heduled during one the SW largest flyin which is the Copperstate Fly-in in 
 Mesa, Arizona.Fun flying, photo opportunities along the entire route, and t
 he last stop is a fly-in to boot! Come out and join us in this fantastic fa
 ll weather in Arizona!In addition to the poker run, there will be a 50/50 r
 affle. Two days of ticket sales, one winner, that means big money! 10% of E
 AA 538's winning of the 50/50 raffle will be donated to EAA's Air Academy S
 cholarship to help sponsor two or more future aviators to attend the Air Ac
 ademy in Oshkosh, WI during Airventure.For complete details and registratio
 n information for the Poker Run and 50/50 Raffle please visit our website a
 t&nbsp;http://www.538.eaachapter.org/pokerrun5050raffle.htm\n\n\nhttps://ww
 w.facebook.com/events/801407763366681/\n\n\n&nbsp;\n
CONTACT:Carlos Hernandez at This email address is being protected from spambots. You need JavaScript enabled to view it.
				document.getElementById('cloak4ebcff3e7328b01e82f687e191abde4d').innerHTML = '';
				var prefix = '&#109;a' + 'i&#108;' + '&#116;o';
				var path = 'hr' + 'ef' + '=';
				var addy4ebcff3e7328b01e82f687e191abde4d = 'p&#97;zm&#97;ny.ch' + '&#64;';
				addy4ebcff3e7328b01e82f687e191abde4d = addy4ebcff3e7328b01e82f687e191abde4d + 'gm&#97;&#105;l' + '&#46;' + 'c&#111;m';
				var addy_text4ebcff3e7328b01e82f687e191abde4d = 'p&#97;zm&#97;ny.ch' + '&#64;' + 'gm&#97;&#105;l' + '&#46;' + 'c&#111;m';document.getElementById('cloak4ebcff3e7328b01e82f687e191abde4d').innerHTML += ''+addy_text4ebcff3e7328b01e82f687e191abde4d+'';
		 or 623.810.5675
DTSTAMP:20260422T202642Z
DTSTART;TZID=America/Phoenix;VALUE=DATE:20171027
DTEND;TZID=America/Phoenix;VALUE=DATE:20171029
SEQUENCE:0
TRANSP:OPAQUE
END:VEVENT
END:VCALENDAR