BEGIN:VCALENDAR
VERSION:2.0
PRODID:-//jEvents 2.0 for Joomla//EN
CALSCALE:GREGORIAN
METHOD:PUBLISH
BEGIN:VEVENT
UID:6bfade8b54b8c4b7acc38abda882aa9b
CATEGORIES:Other Fly-In
CREATED:20171009T163340
SUMMARY:Falcon Warbirds Pancake Breakfast Fly-In
LOCATION:KFFZ Falcon Warbirds Hangar - Falcon Field Airport
DESCRIPTION;ENCODING=QUOTED-PRINTABLE:\n\nFalcon Warbirds&rsquo; Fly-In, Pancake Breakfast &amp; Classic Car Show
 \nPancake Breakfast &amp; Fly-In\nThird&nbsp;Saturday&nbsp;of each month (O
 ctober-May)\n7-10 a.m.\nFalcon Warbirds Hangar - Falcon Field Airport\n4626
  Fighter Aces Drive\nMesa, AZ 85215\nGleaming machines for the air and road
  will be on display at the monthly &nbsp;Fly-In, Pancake Breakfast &amp; Cl
 assic Car Show hosted by the Falcon Warbirds in collaboration with Impala B
 ob&rsquo;s at Mesa&rsquo;s Falcon Field Airport. All Arizona pilots and car
  aficionados are invited! &nbsp;Visit with the pilots &amp; car owners, sha
 re stories, and see their restored vehicles! Enjoy a hearty breakfast of pa
 ncakes, scrambled eggs, bacon, sausage, orange juice and coffee! Tickets ar
 e $8 per plate, and proceeds support EAA Warbird Squadron 50. The squadron 
 performs formation &amp; missing-man flights for military veterans' funeral
 s and public events throughout the state.\n&nbsp;\nMark your calendar, shar
 e the invitation and bring your family &amp; friends! The Falcon Warbirds h
 ost breakfast from&nbsp;7-10 a.m.&nbsp;on the third Saturday of each month 
 from October-May.\n&nbsp;\nFor more information, call&nbsp;(602) 705-4413&n
 bsp;or visit&nbsp;http://www.falconwarbirds.com/&nbsp;\n&nbsp;\n&nbsp;\n&nb
 sp;\n
CONTACT:Scott Andrews 602-705-4413  This email address is being protected from spambots. You need JavaScript enabled to view it.
				document.getElementById('cloak4af963686e7aadc2f70ccfae3f2d9c78').innerHTML = '';
				var prefix = '&#109;a' + 'i&#108;' + '&#116;o';
				var path = 'hr' + 'ef' + '=';
				var addy4af963686e7aadc2f70ccfae3f2d9c78 = '&#111;nth&#101;g&#111;&#97;z' + '&#64;';
				addy4af963686e7aadc2f70ccfae3f2d9c78 = addy4af963686e7aadc2f70ccfae3f2d9c78 + '&#97;&#111;l' + '&#46;' + 'c&#111;m';
				var addy_text4af963686e7aadc2f70ccfae3f2d9c78 = '&#111;nth&#101;g&#111;&#97;z' + '&#64;' + '&#97;&#111;l' + '&#46;' + 'c&#111;m';document.getElementById('cloak4af963686e7aadc2f70ccfae3f2d9c78').innerHTML += ''+addy_text4af963686e7aadc2f70ccfae3f2d9c78+'';
		 
DTSTAMP:20260422T001518Z
DTSTART;TZID=America/Phoenix:20180519T070000
DTEND;TZID=America/Phoenix:20180519T100000
SEQUENCE:0
TRANSP:OPAQUE
END:VEVENT
END:VCALENDAR