BEGIN:VCALENDAR
VERSION:2.0
PRODID:-//jEvents 2.0 for Joomla//EN
CALSCALE:GREGORIAN
METHOD:PUBLISH
BEGIN:VEVENT
UID:74ea1b68e08a953223896eed40c01349
CATEGORIES:Meetings
CREATED:20130508T143937
SUMMARY:Monthly BOD Meeting
LOCATION:Scottsdale, AZ or Online
DESCRIPTION;ENCODING=QUOTED-PRINTABLE:\n\nAPA monthly board meetings are the second Tuesday of each month.\n\n\nM
 eetings are open to any members that would like to attend, just contact&nbs
 p;This email address is being protected from spambots. You need JavaScript 
 enabled to view it.
				document.getElementById('cloak36ebc0dd7909c5813396d
 69105f9c68e').innerHTML = '';
				var prefix = '&#109;a' + 'i&#108;' + '&#1
 16;o';
				var path = 'hr' + 'ef' + '=';
				var addy36ebc0dd7909c5813396d6
 9105f9c68e = 't&#101;th&#111;m&#97;s&#111;n' + '&#64;';
				addy36ebc0dd790
 9c5813396d69105f9c68e = addy36ebc0dd7909c5813396d69105f9c68e + '&#97;zp&#10
 5;l&#111;ts' + '&#46;' + '&#111;rg';
				var addy_text36ebc0dd7909c5813396d
 69105f9c68e = 'T&#111;mmy Th&#111;m&#97;s&#111;n';document.getElementById('
 cloak36ebc0dd7909c5813396d69105f9c68e').innerHTML += ''+addy_text36ebc0dd79
 09c5813396d69105f9c68e+'';
		 for the meeting location.\n
CONTACT:Tommy Thomason This email address is being protected from spambots. You need JavaScript enabled to view it.
				document.getElementById('cloak492eef75953fe96168181bf7c2620f5c').innerHTML = '';
				var prefix = '&#109;a' + 'i&#108;' + '&#116;o';
				var path = 'hr' + 'ef' + '=';
				var addy492eef75953fe96168181bf7c2620f5c = 't&#101;th&#111;m&#97;s&#111;n' + '&#64;';
				addy492eef75953fe96168181bf7c2620f5c = addy492eef75953fe96168181bf7c2620f5c + '&#97;zp&#105;l&#111;ts' + '&#46;' + '&#111;rg';
				var addy_text492eef75953fe96168181bf7c2620f5c = 't&#101;th&#111;m&#97;s&#111;n' + '&#64;' + '&#97;zp&#105;l&#111;ts' + '&#46;' + '&#111;rg';document.getElementById('cloak492eef75953fe96168181bf7c2620f5c').innerHTML += ''+addy_text492eef75953fe96168181bf7c2620f5c+'';
		 602-708-2040
DTSTAMP:20260422T012854Z
DTSTART;TZID=America/Phoenix:20180814T180000
SEQUENCE:0
TRANSP:OPAQUE
END:VEVENT
END:VCALENDAR