BEGIN:VCALENDAR
VERSION:2.0
PRODID:-//jEvents 2.0 for Joomla//EN
CALSCALE:GREGORIAN
METHOD:PUBLISH
BEGIN:VEVENT
UID:74ea1b68e08a953223896eed40c01349
CATEGORIES:Meetings
CREATED:20130508T143937
SUMMARY:Monthly BOD Meeting
LOCATION:Scottsdale, AZ or Online
DESCRIPTION;ENCODING=QUOTED-PRINTABLE:\n\nAPA monthly board meetings are the second Tuesday of each month.\n\n\nM
 eetings are open to any members that would like to attend, just contact&nbs
 p;This email address is being protected from spambots. You need JavaScript 
 enabled to view it.
				document.getElementById('cloakcb07edc81e8c248fc2925
 c216d5e32a8').innerHTML = '';
				var prefix = '&#109;a' + 'i&#108;' + '&#1
 16;o';
				var path = 'hr' + 'ef' + '=';
				var addycb07edc81e8c248fc2925c
 216d5e32a8 = 't&#101;th&#111;m&#97;s&#111;n' + '&#64;';
				addycb07edc81e8
 c248fc2925c216d5e32a8 = addycb07edc81e8c248fc2925c216d5e32a8 + '&#97;zp&#10
 5;l&#111;ts' + '&#46;' + '&#111;rg';
				var addy_textcb07edc81e8c248fc2925
 c216d5e32a8 = 'T&#111;mmy Th&#111;m&#97;s&#111;n';document.getElementById('
 cloakcb07edc81e8c248fc2925c216d5e32a8').innerHTML += ''+addy_textcb07edc81e
 8c248fc2925c216d5e32a8+'';
		 for the meeting location.\n
CONTACT:Tommy Thomason This email address is being protected from spambots. You need JavaScript enabled to view it.
				document.getElementById('cloak92d322aa18b4718a1575555862014f3c').innerHTML = '';
				var prefix = '&#109;a' + 'i&#108;' + '&#116;o';
				var path = 'hr' + 'ef' + '=';
				var addy92d322aa18b4718a1575555862014f3c = 't&#101;th&#111;m&#97;s&#111;n' + '&#64;';
				addy92d322aa18b4718a1575555862014f3c = addy92d322aa18b4718a1575555862014f3c + '&#97;zp&#105;l&#111;ts' + '&#46;' + '&#111;rg';
				var addy_text92d322aa18b4718a1575555862014f3c = 't&#101;th&#111;m&#97;s&#111;n' + '&#64;' + '&#97;zp&#105;l&#111;ts' + '&#46;' + '&#111;rg';document.getElementById('cloak92d322aa18b4718a1575555862014f3c').innerHTML += ''+addy_text92d322aa18b4718a1575555862014f3c+'';
		 602-708-2040
DTSTAMP:20260421T173135Z
DTSTART;TZID=America/Phoenix:20190409T180000
SEQUENCE:0
TRANSP:OPAQUE
END:VEVENT
END:VCALENDAR