BEGIN:VCALENDAR
VERSION:2.0
PRODID:-//jEvents 2.0 for Joomla//EN
CALSCALE:GREGORIAN
METHOD:PUBLISH
BEGIN:VEVENT
UID:74ea1b68e08a953223896eed40c01349
CATEGORIES:Meetings
CREATED:20130508T143937
SUMMARY:Monthly BOD Meeting
LOCATION:Scottsdale, AZ or Online
DESCRIPTION;ENCODING=QUOTED-PRINTABLE:\n\nAPA monthly board meetings are the second Tuesday of each month.\n\n\nM
 eetings are open to any members that would like to attend, just contact&nbs
 p;This email address is being protected from spambots. You need JavaScript 
 enabled to view it.
				document.getElementById('cloak07b373e76728ef081a4a3
 cdd5b5bae66').innerHTML = '';
				var prefix = '&#109;a' + 'i&#108;' + '&#1
 16;o';
				var path = 'hr' + 'ef' + '=';
				var addy07b373e76728ef081a4a3c
 dd5b5bae66 = 't&#101;th&#111;m&#97;s&#111;n' + '&#64;';
				addy07b373e7672
 8ef081a4a3cdd5b5bae66 = addy07b373e76728ef081a4a3cdd5b5bae66 + '&#97;zp&#10
 5;l&#111;ts' + '&#46;' + '&#111;rg';
				var addy_text07b373e76728ef081a4a3
 cdd5b5bae66 = 'T&#111;mmy Th&#111;m&#97;s&#111;n';document.getElementById('
 cloak07b373e76728ef081a4a3cdd5b5bae66').innerHTML += ''+addy_text07b373e767
 28ef081a4a3cdd5b5bae66+'';
		 for the meeting location.\n
CONTACT:Tommy Thomason This email address is being protected from spambots. You need JavaScript enabled to view it.
				document.getElementById('cloak7efed3324a3311e8e8b360c44ca83a5a').innerHTML = '';
				var prefix = '&#109;a' + 'i&#108;' + '&#116;o';
				var path = 'hr' + 'ef' + '=';
				var addy7efed3324a3311e8e8b360c44ca83a5a = 't&#101;th&#111;m&#97;s&#111;n' + '&#64;';
				addy7efed3324a3311e8e8b360c44ca83a5a = addy7efed3324a3311e8e8b360c44ca83a5a + '&#97;zp&#105;l&#111;ts' + '&#46;' + '&#111;rg';
				var addy_text7efed3324a3311e8e8b360c44ca83a5a = 't&#101;th&#111;m&#97;s&#111;n' + '&#64;' + '&#97;zp&#105;l&#111;ts' + '&#46;' + '&#111;rg';document.getElementById('cloak7efed3324a3311e8e8b360c44ca83a5a').innerHTML += ''+addy_text7efed3324a3311e8e8b360c44ca83a5a+'';
		 602-708-2040
DTSTAMP:20260423T051439Z
DTSTART;TZID=America/Phoenix:20240109T180000
SEQUENCE:0
TRANSP:OPAQUE
END:VEVENT
END:VCALENDAR