BEGIN:VCALENDAR
VERSION:2.0
PRODID:-//jEvents 2.0 for Joomla//EN
CALSCALE:GREGORIAN
METHOD:PUBLISH
BEGIN:VEVENT
UID:74ea1b68e08a953223896eed40c01349
CATEGORIES:Meetings
CREATED:20130508T143937
SUMMARY:Monthly BOD Meeting
LOCATION:Scottsdale, AZ or Online
DESCRIPTION;ENCODING=QUOTED-PRINTABLE:\n\nAPA monthly board meetings are the second Tuesday of each month.\n\n\nM
 eetings are open to any members that would like to attend, just contact&nbs
 p;This email address is being protected from spambots. You need JavaScript 
 enabled to view it.
				document.getElementById('cloak791792777f1ae8d345047
 62265af794c').innerHTML = '';
				var prefix = '&#109;a' + 'i&#108;' + '&#1
 16;o';
				var path = 'hr' + 'ef' + '=';
				var addy791792777f1ae8d3450476
 2265af794c = 't&#101;th&#111;m&#97;s&#111;n' + '&#64;';
				addy791792777f1
 ae8d34504762265af794c = addy791792777f1ae8d34504762265af794c + '&#97;zp&#10
 5;l&#111;ts' + '&#46;' + '&#111;rg';
				var addy_text791792777f1ae8d345047
 62265af794c = 'T&#111;mmy Th&#111;m&#97;s&#111;n';document.getElementById('
 cloak791792777f1ae8d34504762265af794c').innerHTML += ''+addy_text791792777f
 1ae8d34504762265af794c+'';
		 for the meeting location.\n
CONTACT:Tommy Thomason This email address is being protected from spambots. You need JavaScript enabled to view it.
				document.getElementById('cloak12261c45f6a411a8d99af3f7bc752215').innerHTML = '';
				var prefix = '&#109;a' + 'i&#108;' + '&#116;o';
				var path = 'hr' + 'ef' + '=';
				var addy12261c45f6a411a8d99af3f7bc752215 = 't&#101;th&#111;m&#97;s&#111;n' + '&#64;';
				addy12261c45f6a411a8d99af3f7bc752215 = addy12261c45f6a411a8d99af3f7bc752215 + '&#97;zp&#105;l&#111;ts' + '&#46;' + '&#111;rg';
				var addy_text12261c45f6a411a8d99af3f7bc752215 = 't&#101;th&#111;m&#97;s&#111;n' + '&#64;' + '&#97;zp&#105;l&#111;ts' + '&#46;' + '&#111;rg';document.getElementById('cloak12261c45f6a411a8d99af3f7bc752215').innerHTML += ''+addy_text12261c45f6a411a8d99af3f7bc752215+'';
		 602-708-2040
DTSTAMP:20260423T032332Z
DTSTART;TZID=America/Phoenix:20240213T180000
SEQUENCE:0
TRANSP:OPAQUE
END:VEVENT
END:VCALENDAR