BEGIN:VCALENDAR
VERSION:2.0
PRODID:-//jEvents 2.0 for Joomla//EN
CALSCALE:GREGORIAN
METHOD:PUBLISH
BEGIN:VEVENT
UID:74ea1b68e08a953223896eed40c01349
CATEGORIES:Meetings
CREATED:20130508T143937
SUMMARY:Monthly BOD Meeting
LOCATION:Scottsdale, AZ or Online
DESCRIPTION;ENCODING=QUOTED-PRINTABLE:\n\nAPA monthly board meetings are the second Tuesday of each month.\n\n\nM
 eetings are open to any members that would like to attend, just contact&nbs
 p;This email address is being protected from spambots. You need JavaScript 
 enabled to view it.
				document.getElementById('cloakc5280cde2032e297135ce
 1557aa74c0d').innerHTML = '';
				var prefix = '&#109;a' + 'i&#108;' + '&#1
 16;o';
				var path = 'hr' + 'ef' + '=';
				var addyc5280cde2032e297135ce1
 557aa74c0d = 't&#101;th&#111;m&#97;s&#111;n' + '&#64;';
				addyc5280cde203
 2e297135ce1557aa74c0d = addyc5280cde2032e297135ce1557aa74c0d + '&#97;zp&#10
 5;l&#111;ts' + '&#46;' + '&#111;rg';
				var addy_textc5280cde2032e297135ce
 1557aa74c0d = 'T&#111;mmy Th&#111;m&#97;s&#111;n';document.getElementById('
 cloakc5280cde2032e297135ce1557aa74c0d').innerHTML += ''+addy_textc5280cde20
 32e297135ce1557aa74c0d+'';
		 for the meeting location.\n
CONTACT:Tommy Thomason This email address is being protected from spambots. You need JavaScript enabled to view it.
				document.getElementById('cloakf1846ced6d40d6ce619e9e2a0adbec72').innerHTML = '';
				var prefix = '&#109;a' + 'i&#108;' + '&#116;o';
				var path = 'hr' + 'ef' + '=';
				var addyf1846ced6d40d6ce619e9e2a0adbec72 = 't&#101;th&#111;m&#97;s&#111;n' + '&#64;';
				addyf1846ced6d40d6ce619e9e2a0adbec72 = addyf1846ced6d40d6ce619e9e2a0adbec72 + '&#97;zp&#105;l&#111;ts' + '&#46;' + '&#111;rg';
				var addy_textf1846ced6d40d6ce619e9e2a0adbec72 = 't&#101;th&#111;m&#97;s&#111;n' + '&#64;' + '&#97;zp&#105;l&#111;ts' + '&#46;' + '&#111;rg';document.getElementById('cloakf1846ced6d40d6ce619e9e2a0adbec72').innerHTML += ''+addy_textf1846ced6d40d6ce619e9e2a0adbec72+'';
		 602-708-2040
DTSTAMP:20260420T131716Z
DTSTART;TZID=America/Phoenix:20300108T180000
SEQUENCE:0
TRANSP:OPAQUE
END:VEVENT
END:VCALENDAR