BEGIN:VCALENDAR
VERSION:2.0
PRODID:-//jEvents 2.0 for Joomla//EN
CALSCALE:GREGORIAN
METHOD:PUBLISH
BEGIN:VEVENT
UID:74ea1b68e08a953223896eed40c01349
CATEGORIES:Meetings
CREATED:20130508T143937
SUMMARY:Monthly BOD Meeting
LOCATION:Scottsdale, AZ or Online
DESCRIPTION;ENCODING=QUOTED-PRINTABLE:\n\nAPA monthly board meetings are the second Tuesday of each month.\n\n\nM
 eetings are open to any members that would like to attend, just contact&nbs
 p;This email address is being protected from spambots. You need JavaScript 
 enabled to view it.
				document.getElementById('cloak6344f712d314bfafad566
 e0f4e61a0fc').innerHTML = '';
				var prefix = '&#109;a' + 'i&#108;' + '&#1
 16;o';
				var path = 'hr' + 'ef' + '=';
				var addy6344f712d314bfafad566e
 0f4e61a0fc = 't&#101;th&#111;m&#97;s&#111;n' + '&#64;';
				addy6344f712d31
 4bfafad566e0f4e61a0fc = addy6344f712d314bfafad566e0f4e61a0fc + '&#97;zp&#10
 5;l&#111;ts' + '&#46;' + '&#111;rg';
				var addy_text6344f712d314bfafad566
 e0f4e61a0fc = 'T&#111;mmy Th&#111;m&#97;s&#111;n';document.getElementById('
 cloak6344f712d314bfafad566e0f4e61a0fc').innerHTML += ''+addy_text6344f712d3
 14bfafad566e0f4e61a0fc+'';
		 for the meeting location.\n
CONTACT:Tommy Thomason This email address is being protected from spambots. You need JavaScript enabled to view it.
				document.getElementById('cloak3d35987e9bfc6640677a1b1dbdbb2037').innerHTML = '';
				var prefix = '&#109;a' + 'i&#108;' + '&#116;o';
				var path = 'hr' + 'ef' + '=';
				var addy3d35987e9bfc6640677a1b1dbdbb2037 = 't&#101;th&#111;m&#97;s&#111;n' + '&#64;';
				addy3d35987e9bfc6640677a1b1dbdbb2037 = addy3d35987e9bfc6640677a1b1dbdbb2037 + '&#97;zp&#105;l&#111;ts' + '&#46;' + '&#111;rg';
				var addy_text3d35987e9bfc6640677a1b1dbdbb2037 = 't&#101;th&#111;m&#97;s&#111;n' + '&#64;' + '&#97;zp&#105;l&#111;ts' + '&#46;' + '&#111;rg';document.getElementById('cloak3d35987e9bfc6640677a1b1dbdbb2037').innerHTML += ''+addy_text3d35987e9bfc6640677a1b1dbdbb2037+'';
		 602-708-2040
DTSTAMP:20260420T131714Z
DTSTART;TZID=America/Phoenix:20300212T180000
SEQUENCE:0
TRANSP:OPAQUE
END:VEVENT
END:VCALENDAR