BEGIN:VCALENDAR
VERSION:2.0
PRODID:-//jEvents 2.0 for Joomla//EN
CALSCALE:GREGORIAN
METHOD:PUBLISH
BEGIN:VEVENT
UID:74ea1b68e08a953223896eed40c01349
CATEGORIES:Meetings
CREATED:20130508T143937
SUMMARY:Monthly BOD Meeting
LOCATION:Scottsdale, AZ or Online
DESCRIPTION;ENCODING=QUOTED-PRINTABLE:\n\nAPA monthly board meetings are the second Tuesday of each month.\n\n\nM
 eetings are open to any members that would like to attend, just contact&nbs
 p;This email address is being protected from spambots. You need JavaScript 
 enabled to view it.
				document.getElementById('cloak6ab2e5f3b27c53e417466
 459ff4cd3a7').innerHTML = '';
				var prefix = '&#109;a' + 'i&#108;' + '&#1
 16;o';
				var path = 'hr' + 'ef' + '=';
				var addy6ab2e5f3b27c53e4174664
 59ff4cd3a7 = 't&#101;th&#111;m&#97;s&#111;n' + '&#64;';
				addy6ab2e5f3b27
 c53e417466459ff4cd3a7 = addy6ab2e5f3b27c53e417466459ff4cd3a7 + '&#97;zp&#10
 5;l&#111;ts' + '&#46;' + '&#111;rg';
				var addy_text6ab2e5f3b27c53e417466
 459ff4cd3a7 = 'T&#111;mmy Th&#111;m&#97;s&#111;n';document.getElementById('
 cloak6ab2e5f3b27c53e417466459ff4cd3a7').innerHTML += ''+addy_text6ab2e5f3b2
 7c53e417466459ff4cd3a7+'';
		 for the meeting location.\n
CONTACT:Tommy Thomason This email address is being protected from spambots. You need JavaScript enabled to view it.
				document.getElementById('cloak21be35f598936ff51800cef104be35fc').innerHTML = '';
				var prefix = '&#109;a' + 'i&#108;' + '&#116;o';
				var path = 'hr' + 'ef' + '=';
				var addy21be35f598936ff51800cef104be35fc = 't&#101;th&#111;m&#97;s&#111;n' + '&#64;';
				addy21be35f598936ff51800cef104be35fc = addy21be35f598936ff51800cef104be35fc + '&#97;zp&#105;l&#111;ts' + '&#46;' + '&#111;rg';
				var addy_text21be35f598936ff51800cef104be35fc = 't&#101;th&#111;m&#97;s&#111;n' + '&#64;' + '&#97;zp&#105;l&#111;ts' + '&#46;' + '&#111;rg';document.getElementById('cloak21be35f598936ff51800cef104be35fc').innerHTML += ''+addy_text21be35f598936ff51800cef104be35fc+'';
		 602-708-2040
DTSTAMP:20260420T102335Z
DTSTART;TZID=America/Phoenix:20300813T180000
SEQUENCE:0
TRANSP:OPAQUE
END:VEVENT
END:VCALENDAR