BEGIN:VCALENDAR
VERSION:2.0
PRODID:-//jEvents 2.0 for Joomla//EN
CALSCALE:GREGORIAN
METHOD:PUBLISH
BEGIN:VEVENT
UID:74ea1b68e08a953223896eed40c01349
CATEGORIES:Meetings
CREATED:20130508T143937
SUMMARY:Monthly BOD Meeting
LOCATION:Scottsdale, AZ or Online
DESCRIPTION;ENCODING=QUOTED-PRINTABLE:\n\nAPA monthly board meetings are the second Tuesday of each month.\n\n\nM
 eetings are open to any members that would like to attend, just contact&nbs
 p;This email address is being protected from spambots. You need JavaScript 
 enabled to view it.
				document.getElementById('cloak617754ab738f90530cb6d
 5e9364880b8').innerHTML = '';
				var prefix = '&#109;a' + 'i&#108;' + '&#1
 16;o';
				var path = 'hr' + 'ef' + '=';
				var addy617754ab738f90530cb6d5
 e9364880b8 = 't&#101;th&#111;m&#97;s&#111;n' + '&#64;';
				addy617754ab738
 f90530cb6d5e9364880b8 = addy617754ab738f90530cb6d5e9364880b8 + '&#97;zp&#10
 5;l&#111;ts' + '&#46;' + '&#111;rg';
				var addy_text617754ab738f90530cb6d
 5e9364880b8 = 'T&#111;mmy Th&#111;m&#97;s&#111;n';document.getElementById('
 cloak617754ab738f90530cb6d5e9364880b8').innerHTML += ''+addy_text617754ab73
 8f90530cb6d5e9364880b8+'';
		 for the meeting location.\n
CONTACT:Tommy Thomason This email address is being protected from spambots. You need JavaScript enabled to view it.
				document.getElementById('cloake4a648252ad0534142b8c2f5ac83d828').innerHTML = '';
				var prefix = '&#109;a' + 'i&#108;' + '&#116;o';
				var path = 'hr' + 'ef' + '=';
				var addye4a648252ad0534142b8c2f5ac83d828 = 't&#101;th&#111;m&#97;s&#111;n' + '&#64;';
				addye4a648252ad0534142b8c2f5ac83d828 = addye4a648252ad0534142b8c2f5ac83d828 + '&#97;zp&#105;l&#111;ts' + '&#46;' + '&#111;rg';
				var addy_texte4a648252ad0534142b8c2f5ac83d828 = 't&#101;th&#111;m&#97;s&#111;n' + '&#64;' + '&#97;zp&#105;l&#111;ts' + '&#46;' + '&#111;rg';document.getElementById('cloake4a648252ad0534142b8c2f5ac83d828').innerHTML += ''+addy_texte4a648252ad0534142b8c2f5ac83d828+'';
		 602-708-2040
DTSTAMP:20260420T131816Z
DTSTART;TZID=America/Phoenix:20301112T180000
SEQUENCE:0
TRANSP:OPAQUE
END:VEVENT
END:VCALENDAR