BEGIN:VCALENDAR
VERSION:2.0
PRODID:-//jEvents 2.0 for Joomla//EN
CALSCALE:GREGORIAN
METHOD:PUBLISH
BEGIN:VEVENT
UID:74ea1b68e08a953223896eed40c01349
CATEGORIES:Meetings
CREATED:20130508T143937
SUMMARY:Monthly BOD Meeting
LOCATION:Scottsdale, AZ or Online
DESCRIPTION;ENCODING=QUOTED-PRINTABLE:\n\nAPA monthly board meetings are the second Tuesday of each month.\n\n\nM
 eetings are open to any members that would like to attend, just contact&nbs
 p;This email address is being protected from spambots. You need JavaScript 
 enabled to view it.
				document.getElementById('cloak7bc3a500e66e831f2c2a6
 e09f93f583c').innerHTML = '';
				var prefix = '&#109;a' + 'i&#108;' + '&#1
 16;o';
				var path = 'hr' + 'ef' + '=';
				var addy7bc3a500e66e831f2c2a6e
 09f93f583c = 't&#101;th&#111;m&#97;s&#111;n' + '&#64;';
				addy7bc3a500e66
 e831f2c2a6e09f93f583c = addy7bc3a500e66e831f2c2a6e09f93f583c + '&#97;zp&#10
 5;l&#111;ts' + '&#46;' + '&#111;rg';
				var addy_text7bc3a500e66e831f2c2a6
 e09f93f583c = 'T&#111;mmy Th&#111;m&#97;s&#111;n';document.getElementById('
 cloak7bc3a500e66e831f2c2a6e09f93f583c').innerHTML += ''+addy_text7bc3a500e6
 6e831f2c2a6e09f93f583c+'';
		 for the meeting location.\n
CONTACT:Tommy Thomason This email address is being protected from spambots. You need JavaScript enabled to view it.
				document.getElementById('cloak53e1b60e8702b84ff34ccc988352bb1d').innerHTML = '';
				var prefix = '&#109;a' + 'i&#108;' + '&#116;o';
				var path = 'hr' + 'ef' + '=';
				var addy53e1b60e8702b84ff34ccc988352bb1d = 't&#101;th&#111;m&#97;s&#111;n' + '&#64;';
				addy53e1b60e8702b84ff34ccc988352bb1d = addy53e1b60e8702b84ff34ccc988352bb1d + '&#97;zp&#105;l&#111;ts' + '&#46;' + '&#111;rg';
				var addy_text53e1b60e8702b84ff34ccc988352bb1d = 't&#101;th&#111;m&#97;s&#111;n' + '&#64;' + '&#97;zp&#105;l&#111;ts' + '&#46;' + '&#111;rg';document.getElementById('cloak53e1b60e8702b84ff34ccc988352bb1d').innerHTML += ''+addy_text53e1b60e8702b84ff34ccc988352bb1d+'';
		 602-708-2040
DTSTAMP:20260420T131805Z
DTSTART;TZID=America/Phoenix:20301210T180000
SEQUENCE:0
TRANSP:OPAQUE
END:VEVENT
END:VCALENDAR