BEGIN:VCALENDAR
VERSION:2.0
PRODID:-//jEvents 2.0 for Joomla//EN
CALSCALE:GREGORIAN
METHOD:PUBLISH
BEGIN:VEVENT
UID:74ea1b68e08a953223896eed40c01349
CATEGORIES:Meetings
CREATED:20130508T143937
SUMMARY:Monthly BOD Meeting
LOCATION:Scottsdale, AZ or Online
DESCRIPTION;ENCODING=QUOTED-PRINTABLE:\n\nAPA monthly board meetings are the second Tuesday of each month.\n\n\nM
 eetings are open to any members that would like to attend, just contact&nbs
 p;This email address is being protected from spambots. You need JavaScript 
 enabled to view it.
				document.getElementById('cloak0c0109059b56d945031b6
 b680830b635').innerHTML = '';
				var prefix = '&#109;a' + 'i&#108;' + '&#1
 16;o';
				var path = 'hr' + 'ef' + '=';
				var addy0c0109059b56d945031b6b
 680830b635 = 't&#101;th&#111;m&#97;s&#111;n' + '&#64;';
				addy0c0109059b5
 6d945031b6b680830b635 = addy0c0109059b56d945031b6b680830b635 + '&#97;zp&#10
 5;l&#111;ts' + '&#46;' + '&#111;rg';
				var addy_text0c0109059b56d945031b6
 b680830b635 = 'T&#111;mmy Th&#111;m&#97;s&#111;n';document.getElementById('
 cloak0c0109059b56d945031b6b680830b635').innerHTML += ''+addy_text0c0109059b
 56d945031b6b680830b635+'';
		 for the meeting location.\n
CONTACT:Tommy Thomason This email address is being protected from spambots. You need JavaScript enabled to view it.
				document.getElementById('cloak42520d6ab4c82bf21185c89de10f1592').innerHTML = '';
				var prefix = '&#109;a' + 'i&#108;' + '&#116;o';
				var path = 'hr' + 'ef' + '=';
				var addy42520d6ab4c82bf21185c89de10f1592 = 't&#101;th&#111;m&#97;s&#111;n' + '&#64;';
				addy42520d6ab4c82bf21185c89de10f1592 = addy42520d6ab4c82bf21185c89de10f1592 + '&#97;zp&#105;l&#111;ts' + '&#46;' + '&#111;rg';
				var addy_text42520d6ab4c82bf21185c89de10f1592 = 't&#101;th&#111;m&#97;s&#111;n' + '&#64;' + '&#97;zp&#105;l&#111;ts' + '&#46;' + '&#111;rg';document.getElementById('cloak42520d6ab4c82bf21185c89de10f1592').innerHTML += ''+addy_text42520d6ab4c82bf21185c89de10f1592+'';
		 602-708-2040
DTSTAMP:20260420T123017Z
DTSTART;TZID=America/Phoenix:20310311T180000
SEQUENCE:0
TRANSP:OPAQUE
END:VEVENT
END:VCALENDAR