BEGIN:VCALENDAR
VERSION:2.0
PRODID:-//jEvents 2.0 for Joomla//EN
CALSCALE:GREGORIAN
METHOD:PUBLISH
BEGIN:VEVENT
UID:bd92b0307bbd58a3469e20369d525bd4
CATEGORIES:Safety
CREATED:20171130T114210
SUMMARY:Rusty Pilots hosted by Southwest Flight School at Scottsdale
LOCATION:Southwest Flight School / Scottsdale Airport  11480 N Airport Drive Suite 1
 11 Scottsdale, AZ 85260
DESCRIPTION;ENCODING=QUOTED-PRINTABLE:Rusty Pilots hosted by Southwest Flight School\n&nbsp;A Rusty Pilots Semina
 r\n\n\nDate and Time: Saturday, December 9, 2017, starting at 09:00 Mountai
 n Standard Time\n\n\nSpeaker(s): AOPA Rusty Pilots presenter Brian Schiff\n
 \n\nBrief Description:\nOnce a pilot, always a pilot...But, if you're feeli
 ng a little Rusty...\n\n\nYou might be like more than 500,000 other pilots 
 (that's right, half a million), who have taken a break from flying. The goo
 d news is that getting back to flying is easier than you think. So, what do
 es it take to get back in the air?\n\n - Some flight and ground instruction
 \n - No FAA checkride or test\n - You may not even need a medical\n\nJoin u
 s for a fun, interactive seminar that will give you all the information you
  need to get current again. As a seminar participant, you'll get 3 hours of
  ground instruction toward completing your flight review, valuable take-hom
 e materials, and handouts so you can review what you've learned. We'll help
  you brush up on your aviation knowledge and understand what's changed sinc
 e you last took the controls.\n\n\nRegister for this Rusty Pilots seminar N
 ow!\n\n\nhttps://ww2.eventrebels.com/er/Registration/StepRegInfo.jsp?Activi
 tyID=22741&amp;StepNumber=1\n\n\nSelect Number: EA2779455\n\n\nLocation of 
 Seminar:\nSouthwest Flight School / Scottsdale Airport \n11480 N Airport Dr
 ive\nSuite 111\nScottsdale, AZ 85260\n\n\nDirections to Venue:\nPlease regi
 ster for this event through the AOPA registration link provided below.\n\n\
 nFollow signs to hanger from main parking area.\n\n\nThere is no pre-regist
 ration on the FAA site for this event.\n\n\nView Map\n\n\nFly-in Seminar?: 
 No\n\n\nSeating: Check Additional event Information below for possible regi
 stration requirements.\n\n\nSponsoring Division: N/A\n\n\nContact Informati
 on: Rusty Pilots\nPhone: 301-695-2000\nThis email address is being protecte
 d from spambots. You need JavaScript enabled to view it.
				document.getEl
 ementById('cloak171cfc7f3191e7995776f1f2c880a1d1').innerHTML = '';
				var 
 prefix = '&#109;a' + 'i&#108;' + '&#116;o';
				var path = 'hr' + 'ef' + '=
 ';
				var addy171cfc7f3191e7995776f1f2c880a1d1 = 'R&#117;styP&#105;l&#111;
 ts' + '&#64;';
				addy171cfc7f3191e7995776f1f2c880a1d1 = addy171cfc7f3191e
 7995776f1f2c880a1d1 + 'AOPA' + '&#46;' + '&#111;rg';
				var addy_text171cf
 c7f3191e7995776f1f2c880a1d1 = 'R&#117;styP&#105;l&#111;ts' + '&#64;' + 'AOP
 A' + '&#46;' + '&#111;rg';document.getElementById('cloak171cfc7f3191e799577
 6f1f2c880a1d1').innerHTML += ''+addy_text171cfc7f3191e7995776f1f2c880a1d1+'
 ';
		\n\n\nAdditional Event Information &amp; Acknowledgement of Industry S
 ponsor(s):\nRusty Pilots is created by AOPA and hosted by local flight trai
 ning providers.\n\n\nAOPA may charge a fee to attend this seminar. For more
  information about the AOPA Rusty Pilot program visit their webpage here: h
 ttp://www.aopa.org/Community-and-Events/Center-to-Advance-the-Pilot-Communi
 ty/Rusty-Pilots\n\n\nEqual Access Information:\nThe FAA Safety Team (FAASTe
 am) is committed to providing equal access to this meeting/event for all pa
 rticipants. If you need alternative formats or services because of a disabi
 lity, please communicate your request as soon as possible with the person i
 n the &ldquo;Contact Information&rdquo; area of the meeting/event notice. N
 ote that two weeks is usually required to arrange services.\n\n\nCredit App
 licability:\n1 Credit for Basic Knowledge Topic 1\n1 Credit for Basic Knowl
 edge Topic 3\n
CONTACT:Rusty Pilots Phone: 301-695-2000 This email address is being protected from spambots. You need JavaScript enabled to view it.
				document.getElementById('cloak48406d60997129499fbc58a40ef36455').innerHTML = '';
				var prefix = '&#109;a' + 'i&#108;' + '&#116;o';
				var path = 'hr' + 'ef' + '=';
				var addy48406d60997129499fbc58a40ef36455 = 'R&#117;styP&#105;l&#111;ts' + '&#64;';
				addy48406d60997129499fbc58a40ef36455 = addy48406d60997129499fbc58a40ef36455 + 'AOPA' + '&#46;' + '&#111;rg';
				var addy_text48406d60997129499fbc58a40ef36455 = 'R&#117;styP&#105;l&#111;ts' + '&#64;' + 'AOPA' + '&#46;' + '&#111;rg';document.getElementById('cloak48406d60997129499fbc58a40ef36455').innerHTML += ''+addy_text48406d60997129499fbc58a40ef36455+'';
		
DTSTAMP:20260422T053043Z
DTSTART;TZID=America/Phoenix:20171209T090000
SEQUENCE:0
TRANSP:OPAQUE
END:VEVENT
END:VCALENDAR