BEGIN:VCALENDAR
VERSION:2.0
PRODID:-//jEvents 2.0 for Joomla//EN
CALSCALE:GREGORIAN
METHOD:PUBLISH
BEGIN:VEVENT
UID:84ebd9891b202fd19e9940f13c561ae1
CATEGORIES:Meetings
CREATED:20180110T161546
SUMMARY:VMC Club Meeting at CHD
LOCATION:Chandler KCHD Terminal Meeting Room
DESCRIPTION;ENCODING=QUOTED-PRINTABLE:\n\nFAA Wings Registration Click Here\n\n\nThank you to everyone who attend
 ed our January meeting with guest speaker Erik McCormick.\n\n\nHere are the
  links to the various topics he discussed.\n\n\nwww.pilotexpeditions.com su
 bscribe to digital magazine at no cost.\n\n\nJanuary 2018 edition. http://m
 agazine.pilotexpedition.com/books/auuv\n\n\nOctober 2017 edition. http://ma
 gazine.pilotexpedition.com/books/uprg\n\n\nMore information on Baja Bush Pi
 lots here. www.bajabushpilots.com\n\n\nInfo on Aviation Real Estate. www.ho
 meandhangar.com\n\n\nMark your calendar for our next VMC Club Meeting, Tues
 day February 6th, 6pm in the KCHD Terminal Meeting Room. We will return to 
 our standard scenario based meeting format. Feel free to bring snacks to en
 joy during the discussion.\n\n\nIf you signed up for a 6 month trial member
 ship you should be receiving your welcome email within the next few days. I
 f you don&rsquo;t, or didn&rsquo;t sign up and would now like to, please re
 ply to this email with your name, address and email so I can either verify 
 I entered the information correctly, or sign you up. For more information a
 bout the EAA or the VMC Club please visit www.eaa.org or www.eaa.org/vmcclu
 b\n\n\nIf you requested wings credit, you should receive confirmation withi
 n the next few days. If you would like more information about the FAASAFETY
  Wings program or to create an account, please visit http://faasafety.gov\n
 \n\nIf you were not already aware, our club has a Facebook page where meeti
 ng and club information, as well as a daily safety tips and other aviation 
 related information that might be of interest are posted. http://facebook.c
 om/azvmcclub\n\n\nAlso mark your calendar for the Chandler Municipal Airpor
 t Open House scheduled for Saturday Feb. 10th, 10am-2pm. Rumor has it that 
 the Red Bull Aerobatic Team might be putting on a short demonstration.\n\n\
 nThank you to Chandler Air Service, http://www.aerobatics.com and to the Ar
 izona Pilots Association http://www.azpilots.org for their continued suppor
 t, as well as the the Chandler Airport for letting us use the terminal meet
 ing room.\n\n\nThank you\nAlexander Pe&ntilde;a \nLocal EAA VMC Club Progra
 m Coordinator \nThis email address is being protected from spambots. You ne
 ed JavaScript enabled to view it.
				document.getElementById('cloak9ea1a48
 7e6a801442e3b805749dfd319').innerHTML = '';
				var prefix = '&#109;a' + 'i
 &#108;' + '&#116;o';
				var path = 'hr' + 'ef' + '=';
				var addy9ea1a487
 e6a801442e3b805749dfd319 = '&#97;zvmccl&#117;b' + '&#64;';
				addy9ea1a487
 e6a801442e3b805749dfd319 = addy9ea1a487e6a801442e3b805749dfd319 + '&#105;cl
 &#111;&#117;d' + '&#46;' + 'c&#111;m';
				var addy_text9ea1a487e6a801442e3
 b805749dfd319 = '&#97;zvmccl&#117;b' + '&#64;' + '&#105;cl&#111;&#117;d' + 
 '&#46;' + 'c&#111;m';document.getElementById('cloak9ea1a487e6a801442e3b8057
 49dfd319').innerHTML += ''+addy_text9ea1a487e6a801442e3b805749dfd319+'';
		
 \nfb.me/azvmcclub\n\n\n&nbsp;\n\n\n&nbsp;\n\n\n&nbsp;\nVMC Club Meeting - M
 astering the Art of Aviation\nScenario Based Discussion: Organized &ldquo;H
 angar Flying&rdquo; Focused On Building Proficiency In General Aviation\n\n
 \nDate and Time: Tuesday, February 6, 2018, starting at 18:00 Arizona\n\n\n
 Speaker(s): None\n\n\nBrief Description:\nEAA/VMC Club, through the EAA's g
 lobal Chapter structure, provides organized "hangar flying" focused on buil
 ding flying knowledge and skills. The program's network promotes a safety c
 ulture through continued education and believes that we develop safety and 
 proficiency through education and real life experience. Monthly meetings of
 fer an opportunity to share in-flight experiences and valuable safety tips.
  Through the FAA Safety Program, aviation professionals provide informative
  WINGS presentations. Membership in theEAA/VMC Club is encouraged but not r
 equired to participate in this meeting. For more information and to take pa
 rt in this event, click the link below and register TODAY!\n\n\nSelect Numb
 er: WP0780471\n\n\nLocation of Seminar:\nChandler Municipal Airport Termina
 l Building Meeting Room\n2380 S Stinson Way\n\n\nChandler, AZ 85286\n\n\nDi
 rections to Venue:\nPark in front of the main terminal building. Entrance t
 o the meeting room is from the outside on the left side of the main termina
 l door.\n\n\nView Map\n\n\nFly-in Seminar?: Yes KCHD\n\n\nSeating: 30 seats
  at the facility\n\n\nRegistration Information:\nClick here to register onl
 ine now!\n\n\nSponsoring Division: FAA Safety Team\n\n\nContact Information
 : Alexander Pe&ntilde;a\nPhone: 480-982-6043\nThis email address is being p
 rotected from spambots. You need JavaScript enabled to view it.
				documen
 t.getElementById('cloak2b21c3b2c80a1d23497af31e93e996fd').innerHTML = '';
	
 			var prefix = '&#109;a' + 'i&#108;' + '&#116;o';
				var path = 'hr' + 'e
 f' + '=';
				var addy2b21c3b2c80a1d23497af31e93e996fd = '&#97;zvmccl&#117;
 b' + '&#64;';
				addy2b21c3b2c80a1d23497af31e93e996fd = addy2b21c3b2c80a1d
 23497af31e93e996fd + '&#105;cl&#111;&#117;d' + '&#46;' + 'c&#111;m';
				va
 r addy_text2b21c3b2c80a1d23497af31e93e996fd = '&#97;zvmccl&#117;b' + '&#64;
 ' + '&#105;cl&#111;&#117;d' + '&#46;' + 'c&#111;m';document.getElementById(
 'cloak2b21c3b2c80a1d23497af31e93e996fd').innerHTML += ''+addy_text2b21c3b2c
 80a1d23497af31e93e996fd+'';
		\n\n\nAdditional Event Information &amp; Ackn
 owledgement of Industry Sponsor(s):\nThis event is sponsored and hosted by 
 the Local EAA/VMC Club and the FAA Safety Team.\n\n\nWhat is the EAA/VMC Cl
 ub?\nThe EAA/VMC Club is modeled after the popular IMC Club concept which p
 rovides organized &ldquo;hangar flying&rdquo; focused on building proficien
 cy in instrument flying. The EAA/VMC Club will do the same, but for pilots 
 who are not instrument rated and fly primarily under visual flight rules an
 d VMC.\n\n\nWhat is the purpose of EAA/VMC Club?\nAt EAA/VMC Club, our aim 
 is to promote VFR flying, proficiency, and safety. Along with monthly local
  meetings, we offer a resource-rich website which provides an electronic ex
 perience base.\nOur intent is to create a community of pilots to share info
 rmation, provide recognition, foster communications, promote safety and bui
 ld proficiency in general aviation. EAA/VMC Club offers monthly meetings in
  which pilots can network and share knowledge and experiences.\n\n\nDo you 
 need to bring anything?\nFirst, bring your thoughts or story and be willing
  to share them with the group. This meeting is very interactive. Participat
 ion by the group is a fundamental element of the EAA/VMC Club meeting.\nOth
 ers have found it helpful to bring along a copy of their flight manual, GPS
  manual, and charts. If you navigate with an iPad, bring it along.\n\n\nWho
  can attend?\nThis meeting is open to all current, non-current, and future 
 pilots.\n\n\nFor more information about the EAA/VMC Club, please visit http
 ://www.eaa.org/VMCclub\n\n\nEqual Access Information:\nThe FAA Safety Team 
 (FAASTeam) is committed to providing equal access to this meeting/event for
  all participants. If you need alternative formats or services because of a
  disability, please communicate your request as soon as possible with the p
 erson in the &ldquo;Contact Information&rdquo; area of the meeting/event no
 tice. Note that two weeks is usually required to arrange services.\n\n\nCre
 dit Applicability:\n1 Credit for Basic Knowledge Topic 3\n\n\n&nbsp;\n
CONTACT:Alexander Peña  This email address is being protected from spambots. You need JavaScript enabled to view it.
				document.getElementById('cloak9b09a8335786abde80da8e23379bf6a4').innerHTML = '';
				var prefix = '&#109;a' + 'i&#108;' + '&#116;o';
				var path = 'hr' + 'ef' + '=';
				var addy9b09a8335786abde80da8e23379bf6a4 = '&#97;zvmccl&#117;b' + '&#64;';
				addy9b09a8335786abde80da8e23379bf6a4 = addy9b09a8335786abde80da8e23379bf6a4 + '&#105;cl&#111;&#117;d' + '&#46;' + 'c&#111;m';
				var addy_text9b09a8335786abde80da8e23379bf6a4 = '&#97;zvmccl&#117;b' + '&#64;' + '&#105;cl&#111;&#117;d' + '&#46;' + 'c&#111;m';document.getElementById('cloak9b09a8335786abde80da8e23379bf6a4').innerHTML += ''+addy_text9b09a8335786abde80da8e23379bf6a4+'';
		
DTSTAMP:20260422T013025Z
DTSTART;TZID=America/Phoenix:20180206T180000
DTEND;TZID=America/Phoenix:20180206T200000
SEQUENCE:0
TRANSP:OPAQUE
END:VEVENT
END:VCALENDAR