BEGIN:VCALENDAR
VERSION:2.0
PRODID:-//jEvents 2.0 for Joomla//EN
CALSCALE:GREGORIAN
METHOD:PUBLISH
BEGIN:VEVENT
UID:4e01a73134e4fc1cef8f89621e1e46aa
CATEGORIES:Meetings
CREATED:20180130T162256
SUMMARY:APA Annual Members Meeting in Scottsdale
LOCATION:Scottsdale Airport - Best Western Plus 7515 E. Butherus Dr.
DESCRIPTION;ENCODING=QUOTED-PRINTABLE:\n\n&nbsp;\n\n\n\n\n\n&nbsp;\n\n\n&nbsp;\n
CONTACT:RSVP to Mary  This email address is being protected from spambots. You need JavaScript enabled to view it.
				document.getElementById('cloakb4df750ab69974b31f37ebf70d1e45d9').innerHTML = '';
				var prefix = '&#109;a' + 'i&#108;' + '&#116;o';
				var path = 'hr' + 'ef' + '=';
				var addyb4df750ab69974b31f37ebf70d1e45d9 = 's&#111;c&#105;&#97;ls' + '&#64;';
				addyb4df750ab69974b31f37ebf70d1e45d9 = addyb4df750ab69974b31f37ebf70d1e45d9 + '&#97;zp&#105;l&#111;ts' + '&#46;' + '&#111;rg';
				var addy_textb4df750ab69974b31f37ebf70d1e45d9 = 's&#111;c&#105;&#97;ls' + '&#64;' + '&#97;zp&#105;l&#111;ts' + '&#46;' + '&#111;rg';document.getElementById('cloakb4df750ab69974b31f37ebf70d1e45d9').innerHTML += ''+addy_textb4df750ab69974b31f37ebf70d1e45d9+'';
		  515-321-3022
DTSTAMP:20260422T013024Z
DTSTART;TZID=America/Phoenix:20180512T100000
DTEND;TZID=America/Phoenix:20180512T120000
SEQUENCE:0
TRANSP:OPAQUE
END:VEVENT
END:VCALENDAR