BEGIN:VCALENDAR
VERSION:2.0
PRODID:-//jEvents 2.0 for Joomla//EN
CALSCALE:GREGORIAN
METHOD:PUBLISH
BEGIN:VEVENT
UID:dcb8968a94dfb3f2fd9b9b0d7f458cb2
CATEGORIES:Aviation Related Event
CREATED:20180131T165502
SUMMARY:Luke Days 2018
LOCATION:Luke AFB, Arizona-56th Fighter Wing 14185 W Falcon St, Glendale, Arizona 85
 309
DESCRIPTION;ENCODING=QUOTED-PRINTABLE:\nLuke Days 2018\nThe Future of Airpower\nMarch 17 &ndash; March 18\nMar 17
  at 10 AM to Mar 18 at 5 PM\n\nLuke AFB, Arizona-56th Fighter Wing\n14185 W
  Falcon St, Glendale, Arizona 85309\n\n\n&nbsp;\n\n\nMark your calendars - 
 Luke Days 2018: The Future of Airpower featuring the U.S. Navy Blue Angels 
 is set for March 17-18, 2018!\n\n\nThe schedule of aerial performers and fu
 ll list of aircraft on static display is being developed. In addition to ai
 rcraft, attendees can expect a STEM village with interactive science, techn
 ology, engineering and math activities for all ages!\n\n\nThe Luke AFB webs
 ite is the hub for all information regarding the 2018 show and will be regu
 larly updated with information as it becomes available http://www.luke.af.m
 il/2018-Luke-Days/\n\n\nSave the date now, you won't want to miss being a p
 art of this fun weekend in the West Valley!\n\n\nFACEBOOK Event Details:&nb
 sp;&nbsp;Luke Days 2018 - The Future of Airpower\n\n\n\n-------------------
 -----------------------------\nThose interested in being at vendor at Luke 
 Days should contact Casey at This email address is being protected from spa
 mbots. You need JavaScript enabled to view it.
				document.getElementById(
 'cloakae2c4e78bedcc4afa1f2910221d59dde').innerHTML = '';
				var prefix = '
 &#109;a' + 'i&#108;' + '&#116;o';
				var path = 'hr' + 'ef' + '=';
				var
  addyae2c4e78bedcc4afa1f2910221d59dde = 'cm' + '&#64;';
				addyae2c4e78bed
 cc4afa1f2910221d59dde = addyae2c4e78bedcc4afa1f2910221d59dde + '&#101;v&#10
 1;ntmgmt' + '&#46;' + 'n&#101;t';
				var addy_textae2c4e78bedcc4afa1f29102
 21d59dde = 'cm' + '&#64;' + '&#101;v&#101;ntmgmt' + '&#46;' + 'n&#101;t';do
 cument.getElementById('cloakae2c4e78bedcc4afa1f2910221d59dde').innerHTML +=
  ''+addy_textae2c4e78bedcc4afa1f2910221d59dde+'';
		\n\n\n&nbsp;\n\n
CONTACT:Casey at This email address is being protected from spambots. You need JavaScript enabled to view it.
				document.getElementById('cloak63c319e59ace672868f0ba0cc5018f80').innerHTML = '';
				var prefix = '&#109;a' + 'i&#108;' + '&#116;o';
				var path = 'hr' + 'ef' + '=';
				var addy63c319e59ace672868f0ba0cc5018f80 = 'cm' + '&#64;';
				addy63c319e59ace672868f0ba0cc5018f80 = addy63c319e59ace672868f0ba0cc5018f80 + '&#101;v&#101;ntmgmt' + '&#46;' + 'n&#101;t';
				var addy_text63c319e59ace672868f0ba0cc5018f80 = 'cm' + '&#64;' + '&#101;v&#101;ntmgmt' + '&#46;' + 'n&#101;t';document.getElementById('cloak63c319e59ace672868f0ba0cc5018f80').innerHTML += ''+addy_text63c319e59ace672868f0ba0cc5018f80+'';
		
DTSTAMP:20260421T164931Z
DTSTART;TZID=America/Phoenix;VALUE=DATE:20180317
DTEND;TZID=America/Phoenix;VALUE=DATE:20180319
SEQUENCE:0
TRANSP:OPAQUE
END:VEVENT
END:VCALENDAR