BEGIN:VCALENDAR
VERSION:2.0
PRODID:-//jEvents 2.0 for Joomla//EN
CALSCALE:GREGORIAN
METHOD:PUBLISH
BEGIN:VEVENT
UID:d024e9355aa4bf0bfc9d606d31936f3a
CATEGORIES:Meetings
CREATED:20180224T162642
SUMMARY:Resource Management Group meeting about land use in the Shared Use Area
LOCATION:Lucerne Valley Community Center
DESCRIPTION;ENCODING=QUOTED-PRINTABLE:\n\nMARINE CORPS AIR GROUND COMBAT CENTER TWENTYNINE PALMS, Calif.\n\n\nThe
  Johnson Valley Shared Use Area will be temporarily closed to the public Au
 gust 1-30, 2018 while the Marine Corps conducts training to support a large
 -scale exercise.\n\n\nThe closure period will include the time required to 
 ensure the Shared Use Area is clear of recreation activity prior to trainin
 g and to confirm the land is clear of hazards prior to reopening the land f
 or public access.\n\n\nThe Bureau of Land Management (BLM) states that over
  43,000 acres within the adjacent Johnson Valley OHV Recreation Area will r
 emain open to the public during the closure of the Shared Use Area and off-
 road enthusiasts can also enjoy the nearby Stoddard Valley OHV Open Area.\n
 \n\nThe public is reminded that motorized recreation use in the area surrou
 nding the Johnson Valley OHV Recreation Area is limited to signed designate
 d routes.\n\n\nThe Marine Corps will continue to implement robust public ou
 treach to ensure the public is informed of the temporary change in land use
 .\n\n\nAdditionally, representatives from the Marine Corps and the Bureau o
 f Land Management will host a Resource Management Group meeting about land 
 use in the Shared Use Area on April 14, 2018.\n\n\nThe purpose of the meeti
 ng is to communicate the Marine Corps' plan to conduct a large-scale exerci
 se August 1-30, 2018.\n\n\nInformation concerning temporary land closures o
 f the Johnson Valley Shared Use Area and public safety information will be 
 discussed with attendees.\n\n\nAll members of the public are welcome to att
 end. The meeting will take place at the Lucerne Valley Community Center fro
 m 10:00 a.m. to 11:00 a.m.\n\n\nFor additional information including a map 
 of the area, please visit:\nhttp://www.29palms.marines.mil/Staff/G5-Governm
 ent-and-External-Affairs/Johnson-Valley or contact the Marine Corps Air Gro
 und Combat Center Public Affairs Office at 760-830-3737 or This email addre
 ss is being protected from spambots. You need JavaScript enabled to view it
 .
				document.getElementById('cloak1910a2ec075b5d40520c91702c7061c1').inne
 rHTML = '';
				var prefix = '&#109;a' + 'i&#108;' + '&#116;o';
				var pat
 h = 'hr' + 'ef' + '=';
				var addy1910a2ec075b5d40520c91702c7061c1 = 'SMBP
 LMSJOHNSONVALLEY' + '&#64;';
				addy1910a2ec075b5d40520c91702c7061c1 = add
 y1910a2ec075b5d40520c91702c7061c1 + '&#117;smc' + '&#46;' + 'm&#105;l';
			
 	var addy_text1910a2ec075b5d40520c91702c7061c1 = 'SMBPLMSJOHNSONVALLEY' + '
 &#64;' + '&#117;smc' + '&#46;' + 'm&#105;l';document.getElementById('cloak1
 910a2ec075b5d40520c91702c7061c1').innerHTML += ''+addy_text1910a2ec075b5d40
 520c91702c7061c1+'';
		.\n
CONTACT:Marine Corps Air Ground Combat Center Public Affairs Office at 760-830-3737 or This email address is being protected from spambots. You need JavaScript enabled to view it.
				document.getElementById('cloak07ce70e8dce1744cf75e48cbcbd5da19').innerHTML = '';
				var prefix = '&#109;a' + 'i&#108;' + '&#116;o';
				var path = 'hr' + 'ef' + '=';
				var addy07ce70e8dce1744cf75e48cbcbd5da19 = 'SMBPLMSJOHNSONVALLEY' + '&#64;';
				addy07ce70e8dce1744cf75e48cbcbd5da19 = addy07ce70e8dce1744cf75e48cbcbd5da19 + '&#117;smc' + '&#46;' + 'm&#105;l';
				var addy_text07ce70e8dce1744cf75e48cbcbd5da19 = 'SMBPLMSJOHNSONVALLEY' + '&#64;' + '&#117;smc' + '&#46;' + 'm&#105;l';document.getElementById('cloak07ce70e8dce1744cf75e48cbcbd5da19').innerHTML += ''+addy_text07ce70e8dce1744cf75e48cbcbd5da19+'';
		
DTSTAMP:20260422T013024Z
DTSTART;TZID=America/Phoenix:20180414T100000
DTEND;TZID=America/Phoenix:20180414T110000
SEQUENCE:0
TRANSP:OPAQUE
END:VEVENT
END:VCALENDAR