BEGIN:VCALENDAR
VERSION:2.0
PRODID:-//jEvents 2.0 for Joomla//EN
CALSCALE:GREGORIAN
METHOD:PUBLISH
BEGIN:VEVENT
UID:65da686b7a1d27e8ea2a319322adee25
CATEGORIES:Other Fly-In
CREATED:20180509T084518
SUMMARY:High Sierra Fly-In at Dead Cow Lakebed
LOCATION:Dead Cow Lakebad Rainbow Rd Reno, NV, 89510
DESCRIPTION;ENCODING=QUOTED-PRINTABLE:\n&nbsp;\n&nbsp;\nHigh Sierra Fly In 2018 \nThursday, October 18, 2018 &nda
 sh; Sunday, October 21, 2018\n9:00am\n\n\n&nbsp;\nEnjoy the world's largest
  backcountry fly-in the the scenic desert of northern Nevada.\nJoin us at "
 Dead Cow" lakebed on Private property for camaraderie, bonfires, stargazing
 , a hosted BBQ, and of course backcountry flying adventures and STOL Drag r
 acing.\n\n\n\n\n\n\n\n\nFor Event Details:&nbsp;http://www.stoldrag.com/eve
 nts/hsf2018\n\n\nThis year we are anticipating another very good turnout. I
 n order to prepare and have actual number counts for caterers we need you t
 o sign up. Suggested donation is $100 per person. If you would like, you ca
 n always donate more and its very much appreciated.\n\n\nThe fly-in include
 s: Dinner Saturday night, ALL firewood throughout the 3 days, porta-potties
 , etc., Live entertainment, Fireworks, Sunday breakfast and clean up crew .
 \n\n\nT-shirts will be for sale for $25\nHats will be for sale for $20\nIf 
 you would like to pay with check/cash at the Fly-In , please still register
  so we can make sure you are accounted for.\n\n\nSchedule:\nWEDNESDAY, OCTO
 BER 17TH\nWe will be at Dead Cow Lakebed setting up\nTHURSDAY, OCTOBER 18TH
 \n9am Pilot Briefing - Fly outs\nFRIDAY, OCTOBER 19th\n9am- Depart for Brea
 kfast (Catered) at BODAD then flying fun\nYOU MUST REGISTER FOR BODAD and h
 ave capable aircraft. (TIRE SIZE HERE AND PERFORMANCE IS CRITICAL)\n2PM STO
 L DRAG Practice and Qualifiers (You must qualify in order to race on Saturd
 ay)(Current and Former Champions do not need to qualify)\nSATURDAY, OCTOBER
  20TH\n9am STOL Drag Briefing\n10:30 am STOL DRAG - (Last chance qualifier)
  Prelims, Quarters, Semi&rsquo;s and Final\n730 dinner - Large Bonfire - Gu
 est Speaker, Band, Fireworks, Awards, RAFFLE\nSUNDAY, OCTOBER 21ST\n7:30AM 
 BREAKFAST (CATERED) \nLakebed clean up (Participation from all campers is e
 ncouraged\nFly home\n\n\n&nbsp;\n\n\nCAMPING INFO\n\n\nThe HSF has a Leave 
 No Trace Policy. What you bring in, you MUST pack out! When the event is ov
 er the desert needs to look as if we were never there!\n\n\nNO GLASS\nNo Pa
 llets with nails\nPets welcome, however pets must be under control at all t
 imes. \nCampers must police themselves late night. Late night racing of off
  road vehicles around camp and airplanes is not tolerated. 2017 this was an
  issue and cannot happen again. Please help police this. \nPilots must have
  good tie downs. \nPlease use the designated shooting area if target shooti
 ng is your thing. This only enhances the safety of our event.\n\n\n&nbsp;\n
 \n\nSTOL Drag / STOL Registration\n\n\nAll competitors MUST send an email t
 o sign up for STOL DRAG\n\n\n*Due to the limited number of allowed competit
 ors, racers from years past have priority sign up. If you have not raced ST
 OL DRAG before, you will need to qualify on Friday with a competitive time 
 in order to race on Sunday\n\nphoto credit&nbsp;stoldrag.com\n
CONTACT:https://www.facebook.com/groups/968770996478605/
DTSTAMP:20260421T224618Z
DTSTART;TZID=America/Phoenix;VALUE=DATE:20181018
DTEND;TZID=America/Phoenix;VALUE=DATE:20181022
SEQUENCE:0
TRANSP:OPAQUE
END:VEVENT
END:VCALENDAR