BEGIN:VCALENDAR
VERSION:2.0
PRODID:-//jEvents 2.0 for Joomla//EN
CALSCALE:GREGORIAN
METHOD:PUBLISH
BEGIN:VEVENT
UID:ee5d598fcc112c0b5b78784a6e7e546e
CATEGORIES:Safety
CREATED:20180629T134153
SUMMARY:Pilot Input for KTUS Runway Safety and taxi routes during the Taxiway Delta Rehab Project at Tucson
LOCATION:Tucson International Airport Airline Terminal Building 7250 S. Tucson Blvd,
  Tucson AZ 2nd Floor Tucson Airport Authority
DESCRIPTION;ENCODING=QUOTED-PRINTABLE:Pilot Input for KTUS Runway Safety and taxi routes during the Taxiway Delta
  Rehab Project\nInput is requested for the upcoming KTUS Interim Local Runw
 ay Safety Meeting and Taxiway Delta Rehab Project taxi routes.\n\n\nDate an
 d Time: Monday, July 16, 2018, starting at 16:30 Arizona\n\n\nSpeaker(s): T
 ucson FAA Air Traffic Control Personnel, Barbara L. Harper, DM, FAASTeam Le
 ad Representative\n\n\nBrief Description:\nMilitary, Airline, Cargo, Genera
 l Aviation pilots, Ground Operators and advocates are welcome and encourage
 d to attend. This meeting includes a presentation of the recent incident hi
 story at Tucson International Airport and an open discussion of Runway Safe
 ty.\n\n\nAlso, a presentation of the 290 day Rehabilitation of Taxiway Delt
 a project beginning Fall 2018, will focus on safety concerns, alternate tax
 i routes, ingress and egress to businesses and hangars, etc..\n\n\nParticip
 ants are asked to help develop recommendations and solutions to enhance sur
 face safety by eliminating wrong surface landings, runway incursions, pilot
  deviations and jet blast incidents and accidents. Your recommendations wil
 l assist the Runway Safety Team as they continue their efforts to improve s
 afety at Tucson International Airport.\n\n\nIf you are unable to attend, pl
 ease email your recommendations, comments and/or questions to Charlotte Yor
 k, Tucson ATCT Support Specialist, by noon, Monday, July 16, 2018. This ema
 il address is being protected from spambots. You need JavaScript enabled to
  view it.
				document.getElementById('cloake6c19a6b32a167f99f2f282af7c9ce6
 d').innerHTML = '';
				var prefix = '&#109;a' + 'i&#108;' + '&#116;o';
			
 	var path = 'hr' + 'ef' + '=';
				var addye6c19a6b32a167f99f2f282af7c9ce6d
  = 'Ch&#97;rl&#111;tt&#101;.Y&#111;rk' + '&#64;';
				addye6c19a6b32a167f99
 f2f282af7c9ce6d = addye6c19a6b32a167f99f2f282af7c9ce6d + 'f&#97;&#97;' + '&
 #46;' + 'g&#111;v';
				var addy_texte6c19a6b32a167f99f2f282af7c9ce6d = 'Ch
 &#97;rl&#111;tt&#101;.Y&#111;rk' + '&#64;' + 'f&#97;&#97;' + '&#46;' + 'g&#
 111;v';document.getElementById('cloake6c19a6b32a167f99f2f282af7c9ce6d').inn
 erHTML += ''+addy_texte6c19a6b32a167f99f2f282af7c9ce6d+'';
		\n\n\nThis mee
 ting it expected to adjourn at 17:30 pm Arizona time (GMT -7)\n\n\nSee you 
 there!\n\n\nSelect Number: WP0783995\n\n\nLocation of Seminar:\nTucson Inte
 rnational Airport Airline Terminal Building\n7250 S. Tucson Blvd, Tucson AZ
 \n2nd Floor Tucson Airport Authority Board Room\nTucson, AZ 85756\n\n\nDire
 ctions to Venue:\nTucson International Airport Airline Terminal Building\n7
 250 S. Tucson Blvd, Tucson AZ 85756\nTucson Airport Authority Board Room\n\
 n\n2nd Floor (airline ticketing level) find Noble Hops and the Trading Post
  in the center of the 2nd floor then walk toward the Center Gallery and the
  runways to the meeting room entrance.\n\n\nhttps://www.flytucson.com/servi
 ces/terminal-map/\n\n\nDriving: For free vehicle parking, please park in th
 e Hourly lot and bring your ticket to the meeting for validation.\n\n\nFly-
 Ins: Tie-downs are available outside of the Tucson Executive Terminal, at t
 he base of the old Airport Traffic Control Tower building with "TUCSON" on 
 the side. An escort into the Executive Terminal and transportation from the
  Executive Terminal to the event in the Airline Terminal and return will be
  available. Please contact Lee Unger (info below) BEFORE the event date if 
 you need transportation.\n\n\nAlternatively, please make prior arrangements
  with the Fixed Base Operator of your choice regarding fuel, fees, tie-down
 s, hours of operation, shuttle availability to the meeting, accessing your 
 aircraft after the meeting, etc.. Transportation back to the FBO will be av
 ailable.\n\n\nThank you Tucson Airport Authority for providing your Board R
 oom, parking and tie-downs!\n\n\nView Map\n\n\nFly-in Seminar?: Yes KTUS\n\
 n\nSeating: 50 seats at the facility\n\n\nRegistration Information:\nClick 
 here to register online now!\n\n\nSponsoring Division: Scottsdale FSDO FAAS
 Team\n\n\nContact Information: Lee Unger\nPhone: (520) 297-4320\nThis email
  address is being protected from spambots. You need JavaScript enabled to v
 iew it.
				document.getElementById('cloakba09bc708e9ff4b563d183a397e43672'
 ).innerHTML = '';
				var prefix = '&#109;a' + 'i&#108;' + '&#116;o';
				v
 ar path = 'hr' + 'ef' + '=';
				var addyba09bc708e9ff4b563d183a397e43672 =
  '&#117;ng&#101;rs' + '&#64;';
				addyba09bc708e9ff4b563d183a397e43672 = a
 ddyba09bc708e9ff4b563d183a397e43672 + 'd&#97;k&#111;t&#97;c&#111;m' + '&#46
 ;' + 'n&#101;t';
				var addy_textba09bc708e9ff4b563d183a397e43672 = '&#117
 ;ng&#101;rs' + '&#64;' + 'd&#97;k&#111;t&#97;c&#111;m' + '&#46;' + 'n&#101;
 t';document.getElementById('cloakba09bc708e9ff4b563d183a397e43672').innerHT
 ML += ''+addy_textba09bc708e9ff4b563d183a397e43672+'';
		\n\n\nAdditional E
 vent Information &amp; Acknowledgement of Industry Sponsor(s):\nThis event 
 would not be possible without the active participation and collaboration am
 ong air traffic control, airport management, and airport users.\n\n\nPre-re
 gistration is encouraged to help the facilitators in planning sufficient se
 ating and handout materials.\n\n\nRunway incursions are a major factor in a
 viation safety. While many things have been done to reduce the accident rat
 e in General Aviation and the Air Carrier Industry, both sides of the aviat
 ion house are still experiencing far too many runway incursions. This could
  be the result of "Read back - Hear back" issues, poor airport signage, pil
 ot inattention/knowledge, expectation bias, or a combination of factors. Ru
 nway safety is a major concern for all pilots and if you have been around a
 viation for a long period of time you have probably seen some close calls o
 n the runways and taxiways, or even been involved in some yourself.\n\n\nPi
 lot airspace deviations continue to be a major risk in the national airspac
 e system. To reduce the chance that you might be involved in an airspace de
 viation incident, you are highly encouraged to take an on-line learning cen
 ter course such as ALC 42, ALC 154, and ALC 90 on www.faasafety.gov, or sea
 rch the learning library for associated guidance on airspace incursions. Re
 member, safe and prudent airmen have superior situational awareness and hav
 e a plan to keep it that way.\n\n\nIn &ldquo;Additional Event Documents&rdq
 uo; below, find links to National and Local safety material.\n\n\nThank You
 ! A message from your FAASTeam.\n\n\nEqual Access Information:\nThe FAA Saf
 ety Team (FAASTeam) is committed to providing equal access to this meeting/
 event for all participants. If you need alternative formats or services bec
 ause of a disability, please communicate your request as soon as possible w
 ith the person in the &ldquo;Contact Information&rdquo; area of the meeting
 /event notice. Note that two weeks is usually required to arrange services.
 \n\n\nCredit Applicability:\n1 Credit for Basic Knowledge Topic 2\n1 Hour T
 otal for AMT\n
CONTACT:Lee Unger Phone: (520) 297-4320 This email address is being protected from spambots. You need JavaScript enabled to view it.
				document.getElementById('cloak13edf596d6af8780052ce9324633b194').innerHTML = '';
				var prefix = '&#109;a' + 'i&#108;' + '&#116;o';
				var path = 'hr' + 'ef' + '=';
				var addy13edf596d6af8780052ce9324633b194 = '&#117;ng&#101;rs' + '&#64;';
				addy13edf596d6af8780052ce9324633b194 = addy13edf596d6af8780052ce9324633b194 + 'd&#97;k&#111;t&#97;c&#111;m' + '&#46;' + 'n&#101;t';
				var addy_text13edf596d6af8780052ce9324633b194 = '&#117;ng&#101;rs' + '&#64;' + 'd&#97;k&#111;t&#97;c&#111;m' + '&#46;' + 'n&#101;t';document.getElementById('cloak13edf596d6af8780052ce9324633b194').innerHTML += ''+addy_text13edf596d6af8780052ce9324633b194+'';
		
DTSTAMP:20260422T091934Z
DTSTART;TZID=America/Phoenix:20180716T163000
SEQUENCE:0
TRANSP:OPAQUE
END:VEVENT
END:VCALENDAR