BEGIN:VCALENDAR
VERSION:2.0
PRODID:-//jEvents 2.0 for Joomla//EN
CALSCALE:GREGORIAN
METHOD:PUBLISH
BEGIN:VEVENT
UID:588031f8641630fda3fd081ba82d2ac9
CATEGORIES:Safety
CREATED:20180926T132621
SUMMARY:Landing Mishaps - Three Case Studies and One Root Cause at Phoenix
LOCATION:AeroGuard Flight Training Center 530 W Deer Valley Road Building 3 Phoenix,
  AZ 85027
DESCRIPTION;ENCODING=QUOTED-PRINTABLE:Landing Mishaps - Three Case Studies and One Root Cause\n&nbsp;\nThree land
 ing accidents, one common factor. They thought it couldn't happen to them e
 ither.\n\n\n&nbsp;\n\n\nDate and Time: Tuesday, October 9, 2018, starting a
 t 18:30 Arizona\n\n\n&nbsp;\n\n\nSpeaker(s): David Freiwald\n\n\n&nbsp;\n\n
 \nBrief Description:\nMore than three out of four aviaiton accidents are th
 e result of human error. In this seminar we will review three recent flight
  training accidents which occured in the Phoenix area and discuss the circu
 mstances leading up to the mishap and the mindset of the pilots involved. A
 fterwards, we will discuss how we could easily find ourselves in their plac
 e and how we can learn from other pilots' experiences.\n\n\nSelect Number: 
 WP0784664\n\n\n&nbsp;\n\n\nLocation of Seminar:\nAeroGuard Flight Training 
 Center\n530 W Deer Valley Road\nBuilding 3\nPhoenix, AZ 85027\n\n\n&nbsp;\n
 \n\nDirections to Venue:\nThis seminar will be in the AeroGuard ground scho
 ol building just east of the main AeroGuard facility.\n\n\nEnter through ma
 in lobby and follow directions to Building 3 (Academics).\n\n\n\nView Map\n
 \n\n&nbsp;\n\n\nFly-in Seminar?: Yes KDVT\n\n\n&nbsp;\n\n\nSeating: 60 seat
 s at the facility\n\n\n&nbsp;\n\n\nRegistration Information:\nClick here to
  register online now!\n\n\n&nbsp;\n\n\nSponsoring Division: SDL FAA Safety 
 Team\n\n\n&nbsp;\n\n\nContact Information: DAVID FREIWALD\nPhone: (623) 580
 -7940\nThis email address is being protected from spambots. You need JavaSc
 ript enabled to view it.
				document.getElementById('cloaka5a6919ac0fd8c14
 988e6428efbe62f8').innerHTML = '';
				var prefix = '&#109;a' + 'i&#108;' +
  '&#116;o';
				var path = 'hr' + 'ef' + '=';
				var addya5a6919ac0fd8c149
 88e6428efbe62f8 = 'dfr&#101;&#105;w&#97;ld' + '&#64;';
				addya5a6919ac0fd
 8c14988e6428efbe62f8 = addya5a6919ac0fd8c14988e6428efbe62f8 + 'fly&#97;&#10
 1;r&#111;g&#117;&#97;rd' + '&#46;' + 'c&#111;m';
				var addy_texta5a6919ac
 0fd8c14988e6428efbe62f8 = 'dfr&#101;&#105;w&#97;ld' + '&#64;' + 'fly&#97;&#
 101;r&#111;g&#117;&#97;rd' + '&#46;' + 'c&#111;m';document.getElementById('
 cloaka5a6919ac0fd8c14988e6428efbe62f8').innerHTML += ''+addy_texta5a6919ac0
 fd8c14988e6428efbe62f8+'';
		\n\n\n&nbsp;\n\n\nAdditional Event Information
  &amp; Acknowledgement of Industry Sponsor(s):\nThe FAASTeam would like to 
 thank AeroGuard Flight Training Center for their support of numerous aviati
 on safety events. AeroGuard also supports the Quarterly CFI Open Forums, pr
 esented by Lead FAASTeam Representatives Cary Grant and Jim Anderson.\n\n\n
 &nbsp;\n\n\nEqual Access Information:\nThe FAA Safety Team (FAASTeam) is co
 mmitted to providing equal access to this meeting/event for all participant
 s. If you need alternative formats or services because of a disability, ple
 ase communicate your request as soon as possible with the person in the &ld
 quo;Contact Information&rdquo; area of the meeting/event notice. Note that 
 two weeks is usually required to arrange services.\n\n\n&nbsp;\n\n\nCredit 
 Applicability:\n1 Credit for Basic Knowledge Topic 1\n1 Credit for Basic Kn
 owledge Topic 2\n\n\n&nbsp;\n\n\n&nbsp;\n
CONTACT:DAVID FREIWALD Phone: (623) 580-7940 This email address is being protected from spambots. You need JavaScript enabled to view it.
				document.getElementById('cloak171670387d17a8e051f277db790c4e37').innerHTML = '';
				var prefix = '&#109;a' + 'i&#108;' + '&#116;o';
				var path = 'hr' + 'ef' + '=';
				var addy171670387d17a8e051f277db790c4e37 = 'dfr&#101;&#105;w&#97;ld' + '&#64;';
				addy171670387d17a8e051f277db790c4e37 = addy171670387d17a8e051f277db790c4e37 + 'fly&#97;&#101;r&#111;g&#117;&#97;rd' + '&#46;' + 'c&#111;m';
				var addy_text171670387d17a8e051f277db790c4e37 = 'dfr&#101;&#105;w&#97;ld' + '&#64;' + 'fly&#97;&#101;r&#111;g&#117;&#97;rd' + '&#46;' + 'c&#111;m';document.getElementById('cloak171670387d17a8e051f277db790c4e37').innerHTML += ''+addy_text171670387d17a8e051f277db790c4e37+'';
		
DTSTAMP:20260422T015326Z
DTSTART;TZID=America/Phoenix:20181009T183000
SEQUENCE:0
TRANSP:OPAQUE
END:VEVENT
END:VCALENDAR