BEGIN:VCALENDAR
VERSION:2.0
PRODID:-//jEvents 2.0 for Joomla//EN
CALSCALE:GREGORIAN
METHOD:PUBLISH
BEGIN:VEVENT
UID:8c9eb8ee2bcf1288dbfdbc2ac1910364
CATEGORIES:Other Fly-In
CREATED:20180926T132800
SUMMARY:Cochise College Aviation Program 50th Anniversary
LOCATION:Douglas Campus Aviation Hangar 4190 W Highway 80, Douglas, AZ 85607
DESCRIPTION;ENCODING=QUOTED-PRINTABLE:\n\n\n
CONTACT:520-417-4114 or This email address is being protected from spambots. You need JavaScript enabled to view it.
				document.getElementById('cloak8533cf886545d09d1a450be839c444ef').innerHTML = '';
				var prefix = '&#109;a' + 'i&#108;' + '&#116;o';
				var path = 'hr' + 'ef' + '=';
				var addy8533cf886545d09d1a450be839c444ef = '&#97;v&#105;&#97;t&#105;&#111;n50th' + '&#64;';
				addy8533cf886545d09d1a450be839c444ef = addy8533cf886545d09d1a450be839c444ef + 'c&#111;ch&#105;s&#101;' + '&#46;' + '&#101;d&#117;';
				var addy_text8533cf886545d09d1a450be839c444ef = '&#97;v&#105;&#97;t&#105;&#111;n50th' + '&#64;' + 'c&#111;ch&#105;s&#101;' + '&#46;' + '&#101;d&#117;';document.getElementById('cloak8533cf886545d09d1a450be839c444ef').innerHTML += ''+addy_text8533cf886545d09d1a450be839c444ef+'';
		
DTSTAMP:20260422T014725Z
DTSTART;TZID=America/Phoenix:20181006T070000
SEQUENCE:0
TRANSP:OPAQUE
END:VEVENT
END:VCALENDAR