BEGIN:VCALENDAR
VERSION:2.0
PRODID:-//jEvents 2.0 for Joomla//EN
CALSCALE:GREGORIAN
METHOD:PUBLISH
BEGIN:VEVENT
UID:914d49e072030689638eb3f706ab9c6e
CATEGORIES:Safety
CREATED:20180926T133108
SUMMARY:VMC Club Meeting - Mastering the Art of Aviation
LOCATION:Chandler Municipal Airport Terminal Building Meeting Room 2380 S Stinson Wa
 y Chandler, AZ 85286
DESCRIPTION;ENCODING=QUOTED-PRINTABLE:\n\nVMC Club Meeting - Mastering the Art of Aviation&nbsp;\n\n\n&nbsp;\n\n\
 nScenario Based Discussion: Organized “Hangar Flying” Focused On Building P
 roficiency In General Aviation\n\n\n&nbsp;\n\n\nNext meeting scheduled for 
 December 4th,&nbsp;6:30&nbsp;pm in the KCHD Terminal Meeting Room. Please m
 ake note of the new meeting time that became effective in September. Once &
 nbsp;the FAASTEAM has approved the meeting I will send out a follow up emai
 l with a registration link to register. Meetings qualify for wings credit. 
 Fill free to bring your dinner/beverages and any pilot or want-to-be pilot 
 friends.\n&nbsp;Immediately following our VMC meeting, approximately 7:45-8
 :00ish, the IMC club will have their meeting. Everyone is welcome to stay. 
 IMC club was the precursor to the VMC program, and like the VMC club is sce
 nario based, with great discussions and informative topics that are useful 
 to all pilots, including those that aren’t instrument rated, or do much IFR
  flying.&nbsp;&nbsp;If you are in need of a Flight Review, EAA chapter 1445
  is holding their monthly meeting at AK Chin A39 on Nov. 17th, 10:00am in t
 he terminal. Following their meeting they will be holding a flight review g
 round school program, with a CFI sign-off in your logbook for the 1 hour of
  ground instruction that could be used towards your flight review. For more
  information contact Kelly McMullen&nbsp;This email address is being protec
 ted from spambots. You need JavaScript enabled to view it.
				document.get
 ElementById('cloakd9b8c7084d5d23ee7e440822b4380aff').innerHTML = '';
				va
 r prefix = '&#109;a' + 'i&#108;' + '&#116;o';
				var path = 'hr' + 'ef' + 
 '=';
				var addyd9b8c7084d5d23ee7e440822b4380aff = 'k&#101;llym' + '&#64;'
 ;
				addyd9b8c7084d5d23ee7e440822b4380aff = addyd9b8c7084d5d23ee7e440822b4
 380aff + '&#97;v&#105;&#97;t&#105;ng' + '&#46;' + 'c&#111;m';
				var addy_
 textd9b8c7084d5d23ee7e440822b4380aff = 'k&#101;llym' + '&#64;' + '&#97;v&#1
 05;&#97;t&#105;ng' + '&#46;' + 'c&#111;m';document.getElementById('cloakd9b
 8c7084d5d23ee7e440822b4380aff').innerHTML += ''+addy_textd9b8c7084d5d23ee7e
 440822b4380aff+'';
		&nbsp;+++++++++++&nbsp;A link to the latest &nbsp;issu
 e of the FAA Safety Briefing &nbsp;magazine is\n\nhttps://www.faa.gov/news/
 safety_briefing/?cid=TW112\n\n\n&nbsp;\n\n\nWINGS credit has been submitted
 . If you didn't receive credit please let me know. To learn more about the 
 FAA Wings program&nbsp;https://www.faasafety.gov/WINGS/pub/learn_more.aspx\
 n\n\n&nbsp;\n\n\nEAA offers weekly online webinars on a wide variety of inf
 ormative topics. Please use the following link to view and register for upc
 oming presentations. Most qualify for WINGs credit.\n\n\nhttps://www.eaa.or
 g/en/eaa/aviation-education-and-resources/aviation-videos-and-aviation-phot
 os/eaa-webinars\n\n\n&nbsp;\n\n\nIf you would like a 6 month free trial to 
 EAA and have not been a member in the last 3 years please let me know and I
  will sign you up. To learn more about EAA or the EAA IMC/VMC programs plea
 se visit\n\n\nhttp://www.eaa.org&nbsp;\n\n\nhttp://www.eaa.org/imcclub\n\n\
 nhttp://www.eaa.org/vmcclub&nbsp;&nbsp;\n\n\n&nbsp;\n\n\nIf you weren’t awa
 re, our club has a Facebook page with links to daily safety tips, aviation 
 related articles, as well as to communicate club related information. Pleas
 e “Like” us at&nbsp;http://Facebook.com/azvmcclub\n\n\nI don't believe you 
 have to have a Facebook account to view the page, only need an account if y
 ou want to “like”, post or otherwise interact with the page.&nbsp;\n\n\n&nb
 sp;\n\n\nThank you to the Arizona Pilots Association for helping spread the
  word about the VMC Club. For more information about the Arizona Pilots Ass
 ociation, including their calendar of events,&nbsp; please visit&nbsp;http:
 //www.azpilots.org&nbsp;or&nbsp;https://www.facebook.com/AZPilots.org&nbsp;
 \n\n\n&nbsp;\n\n\nThank you\n\n\n&nbsp;\n\n\nAlexander Peña\n\n\nEAA VMC Pr
 ogram Coordinator&nbsp;\n\n\nThis email address is being protected from spa
 mbots. You need JavaScript enabled to view it.
				document.getElementById(
 'cloakf9b387094b8f0ac940b77fa35cd55a69').innerHTML = '';
				var prefix = '
 &#109;a' + 'i&#108;' + '&#116;o';
				var path = 'hr' + 'ef' + '=';
				var
  addyf9b387094b8f0ac940b77fa35cd55a69 = '&#97;zvmccl&#117;b' + '&#64;';
			
 	addyf9b387094b8f0ac940b77fa35cd55a69 = addyf9b387094b8f0ac940b77fa35cd55a6
 9 + '&#105;cl&#111;&#117;d' + '&#46;' + 'c&#111;m';
				var addy_textf9b387
 094b8f0ac940b77fa35cd55a69 = '&#97;zvmccl&#117;b' + '&#64;' + '&#105;cl&#11
 1;&#117;d' + '&#46;' + 'c&#111;m';document.getElementById('cloakf9b387094b8
 f0ac940b77fa35cd55a69').innerHTML += ''+addy_textf9b387094b8f0ac940b77fa35c
 d55a69+'';
		\n\n\n&nbsp;\n\n\n&nbsp;\n\n\nBrief Description:\n\n\n\nEAA/VM
 C Club, through the EAA's global Chapter structure, provides organized "han
 gar flying" focused on building flying knowledge and skills. The program's 
 network promotes a safety culture through continued education and believes 
 that we develop safety and proficiency through education and real life expe
 rience. Monthly meetings offer an opportunity to share in-flight experience
 s and valuable safety tips. Through the FAA Safety Program, aviation profes
 sionals provide informative WINGS presentations. Membership in theEAA/VMC C
 lub is encouraged but not required to participate in this meeting. For more
  information and to take part in this event, click the link below and regis
 ter TODAY!\n\n\n&nbsp;\n\n\nLocation of Seminar:\n\n\n&nbsp;\n\n\nChandler 
 Municipal Airport Terminal Building Meeting Room\n2380 S Stinson Way\nChand
 ler, AZ 85286\n\n\n&nbsp;\n\n\nDirections to Venue:\nPark in front of the m
 ain terminal building. Entrance to the meeting room is from the outside on 
 the left side of the main terminal door.\n\n\n&nbsp;\n\n\nSponsoring Divisi
 on: FAA Safety Team\n\n\n&nbsp;\n\n\nContact Information: Alexander Peña\nP
 hone: 480-982-6043\nThis email address is being protected from spambots. Yo
 u need JavaScript enabled to view it.
				document.getElementById('cloak7fe
 1513994bdfd95163dae443f4c8c81').innerHTML = '';
				var prefix = '&#109;a' 
 + 'i&#108;' + '&#116;o';
				var path = 'hr' + 'ef' + '=';
				var addy7fe1
 513994bdfd95163dae443f4c8c81 = '&#97;zvmccl&#117;b' + '&#64;';
				addy7fe1
 513994bdfd95163dae443f4c8c81 = addy7fe1513994bdfd95163dae443f4c8c81 + '&#10
 5;cl&#111;&#117;d' + '&#46;' + 'c&#111;m';
				var addy_text7fe1513994bdfd9
 5163dae443f4c8c81 = '&#97;zvmccl&#117;b' + '&#64;' + '&#105;cl&#111;&#117;d
 ' + '&#46;' + 'c&#111;m';document.getElementById('cloak7fe1513994bdfd95163d
 ae443f4c8c81').innerHTML += ''+addy_text7fe1513994bdfd95163dae443f4c8c81+''
 ;
		\n\n\n&nbsp;\n\n\nAdditional Event Information &amp; Acknowledgement of
  Industry Sponsor(s):\nThis event is sponsored and hosted by the Local EAA/
 VMC Club and the FAA Safety Team.\n\n\n&nbsp;\n\n\nWhat is the EAA/VMC Club
 ?\n\n\n&nbsp;\n\n\nThe EAA/VMC Club is modeled after the popular IMC Club c
 oncept which provides organized “hangar flying” focused on building profici
 ency in instrument flying. The EAA/VMC Club will do the same, but for pilot
 s who are not instrument rated and fly primarily under visual flight rules 
 and VMC.\n\n\n&nbsp;\n\n\nWhat is the purpose of EAA/VMC Club?\n\n\n&nbsp;\
 n\n\nAt EAA/VMC Club, our aim is to promote VFR flying, proficiency, and sa
 fety. Along with monthly local meetings, we offer a resource-rich website w
 hich provides an electronic experience base.\n\n\n&nbsp;\n\n\nOur intent is
  to create a community of pilots to share information, provide recognition,
  foster communications, promote safety and build proficiency in general avi
 ation. EAA/VMC Club offers monthly meetings in which pilots can network and
  share knowledge and experiences.\n\n\n&nbsp;\n\n\nDo you need to bring any
 thing?\n\n\n&nbsp;\n\n\nFirst, bring your thoughts or story and be willing 
 to share them with the group. This meeting is very interactive. Participati
 on by the group is a fundamental element of the EAA/VMC Club meeting.\n\n\n
 &nbsp;\n\n\nOthers have found it helpful to bring along a copy of their fli
 ght manual, GPS manual, and charts. If you navigate with an iPad, bring it 
 along.\n\n\n&nbsp;\n\n\nWho can attend?\n\n\n&nbsp;\n\n\nThis meeting is op
 en to all current, non-current, and future pilots.\n\n\n&nbsp;\n\n\nFor mor
 e information about the EAA/VMC Club, please visit http://www.eaa.org/VMCcl
 ub\n\n\n&nbsp;\n\n\nEqual Access Information:\nThe FAA Safety Team (FAASTea
 m) is committed to providing equal access to this meeting/event for all par
 ticipants. If you need alternative formats or services because of a disabil
 ity, please communicate your request as soon as possible with the person in
  the “Contact Information” area of the meeting/event notice. Note that two 
 weeks is usually required to arrange services.\n\n\n&nbsp;\n\n\nCredit Appl
 icability:\n1 Credit for Basic Knowledge Topic 3\n\n\n&nbsp;\n
CONTACT:Alexander Peña Phone: 480-982-6043  This email address is being protected from spambots. You need JavaScript enabled to view it.
				document.getElementById('cloake4dcde69d13e8a100ac3e211323f79cf').innerHTML = '';
				var prefix = '&#109;a' + 'i&#108;' + '&#116;o';
				var path = 'hr' + 'ef' + '=';
				var addye4dcde69d13e8a100ac3e211323f79cf = '&#97;zvmccl&#117;b' + '&#64;';
				addye4dcde69d13e8a100ac3e211323f79cf = addye4dcde69d13e8a100ac3e211323f79cf + '&#105;cl&#111;&#117;d' + '&#46;' + 'c&#111;m';
				var addy_texte4dcde69d13e8a100ac3e211323f79cf = '&#97;zvmccl&#117;b' + '&#64;' + '&#105;cl&#111;&#117;d' + '&#46;' + 'c&#111;m';document.getElementById('cloake4dcde69d13e8a100ac3e211323f79cf').innerHTML += ''+addy_texte4dcde69d13e8a100ac3e211323f79cf+'';
		
DTSTAMP:20260421T084203Z
DTSTART;TZID=America/Phoenix:20181204T183000
SEQUENCE:0
TRANSP:OPAQUE
END:VEVENT
END:VCALENDAR