BEGIN:VCALENDAR
VERSION:2.0
PRODID:-//jEvents 2.0 for Joomla//EN
CALSCALE:GREGORIAN
METHOD:PUBLISH
BEGIN:VEVENT
UID:2f46afde00fdb2a849a5428a10567d12
CATEGORIES:Safety
CREATED:20190108T154352
SUMMARY:Aviation Safety Advisory Group - Monthly Meeting at Scottsdale
LOCATION:Scottsdale FSDO  17777 N Perimeter Dr Suite 101 Scottsdale, AZ 85255
DESCRIPTION;ENCODING=QUOTED-PRINTABLE:Aviation Safety Advisory Group - Monthly Meeting&nbsp;The ASAG group is mad
 e up from volunteers throughout Arizona. We work to educate and promote avi
 ation safe practices.&nbsp;Date and Time:&nbsp;Wednesday, January 16, 2019,
  starting at 12:00 Arizona&nbsp;&nbsp;Speaker(s):&nbsp;ASAG Members&nbsp;Br
 ief Description:\n\nASAG monthly meeting will be held at the FAA SDL FSDO b
 uilding. A review of recent accidents/incidents and pilot deviations in the
  state of Arizona. Agenda will be sent out prior to the event.&nbsp;\nSelec
 t Number:&nbsp;WP0788217&nbsp;Location of Seminar:Scottsdale FSDO&nbsp;\n17
 777 N Perimeter Dr\nSuite 101\nScottsdale, AZ&nbsp;85255&nbsp;Directions to
  Venue:\n\nMeet at the Scottsale FSDO building for our monthly meeting.\nVi
 ew Map&nbsp;Fly-in Seminar?:&nbsp;No&nbsp;Seating:&nbsp;50 seats at the fac
 ility&nbsp;Registration Information:Click here to register online now!&nbsp
 ;Sponsoring Division:&nbsp;FAASTeam&nbsp;Contact Information:JAMES BRIDGES 
 ANDERSON\nPhone: (623) 694-7742\nThis email address is being protected from
  spambots. You need JavaScript enabled to view it.
				document.getElementB
 yId('cloak6522ed35f2722b0530e9835a5f42c33e').innerHTML = '';
				var prefix
  = '&#109;a' + 'i&#108;' + '&#116;o';
				var path = 'hr' + 'ef' + '=';
			
 	var addy6522ed35f2722b0530e9835a5f42c33e = 'J&#105;m.And&#101;rs&#111;n' +
  '&#64;';
				addy6522ed35f2722b0530e9835a5f42c33e = addy6522ed35f2722b0530
 e9835a5f42c33e + 'CVSt&#97;rr' + '&#46;' + 'c&#111;m';
				var addy_text652
 2ed35f2722b0530e9835a5f42c33e = 'J&#105;m.And&#101;rs&#111;n' + '&#64;' + '
 CVSt&#97;rr' + '&#46;' + 'c&#111;m';document.getElementById('cloak6522ed35f
 2722b0530e9835a5f42c33e').innerHTML += ''+addy_text6522ed35f2722b0530e9835a
 5f42c33e+'';
		&nbsp;Additional Event Information &amp; Acknowledgement of 
 Industry Sponsor(s):\n\nThe FAASTeam would like to thank the Scottsdale FSD
 O and ASAG&nbsp;for their support of numerous aviation safety events.&nbsp;
 &nbsp;\nEqual Access Information:The FAA Safety Team (FAASTeam) is committe
 d to providing equal access to this meeting/event for all participants. If 
 you need alternative formats or services because of a disability, please co
 mmunicate your request as soon as possible with the person in the “Contact 
 Information” area of the meeting/event notice. Note that two weeks is usual
 ly required to arrange services.&nbsp;Credit Applicability:1 Credit for Bas
 ic Knowledge Topic 3
CONTACT:JAMES BRIDGES ANDERSON Phone: (623) 694-7742 This email address is being protected from spambots. You need JavaScript enabled to view it.
				document.getElementById('cloak8197ba7412bb4c9391202f830c8a87a0').innerHTML = '';
				var prefix = '&#109;a' + 'i&#108;' + '&#116;o';
				var path = 'hr' + 'ef' + '=';
				var addy8197ba7412bb4c9391202f830c8a87a0 = 'J&#105;m.And&#101;rs&#111;n' + '&#64;';
				addy8197ba7412bb4c9391202f830c8a87a0 = addy8197ba7412bb4c9391202f830c8a87a0 + 'CVSt&#97;rr' + '&#46;' + 'c&#111;m';
				var addy_text8197ba7412bb4c9391202f830c8a87a0 = 'J&#105;m.And&#101;rs&#111;n' + '&#64;' + 'CVSt&#97;rr' + '&#46;' + 'c&#111;m';document.getElementById('cloak8197ba7412bb4c9391202f830c8a87a0').innerHTML += ''+addy_text8197ba7412bb4c9391202f830c8a87a0+'';
		
DTSTAMP:20260421T065645Z
DTSTART;TZID=America/Phoenix:20190116T120000
SEQUENCE:0
TRANSP:OPAQUE
END:VEVENT
END:VCALENDAR