BEGIN:VCALENDAR
VERSION:2.0
PRODID:-//jEvents 2.0 for Joomla//EN
CALSCALE:GREGORIAN
METHOD:PUBLISH
BEGIN:VEVENT
UID:e82986306a2fd9610c3ff3664f690ac6
CATEGORIES:Other Fly-In
CREATED:20190206T142922
SUMMARY:16th Annual Arizona Flying Circus at MoTown
LOCATION:5AZ6, Motown Airport
DESCRIPTION;ENCODING=QUOTED-PRINTABLE:\n16th Annual&nbsp;Arizona Flying Circus\nFebruary 14-17, 2019\nMoTown Airp
 ort\n\n\nJoin us for an annual gathering celebrating a fun, eccentric, and 
 diverse camaraderie of amazing people partaking in aviation, shooting, pyro
  fun, large scale art, and other activities in the pristine beauty of the A
 rizona Sonoran Desert.\n\n\nPart fly-in, part Burning Man, part Wild West, 
 the the Arizona Flying Circus has evolved into a rather unusual event like 
 no other. Certainly a large variety of pilots make it out every year with t
 heir flying contraptions, but you will also find wild costumes, great food,
  explosions, enormous fires, fireworks, firearms (yes, there is a shooting 
 range on site), live music, and the infamous bowling ball cannon.\n\n\nWhat
  makes AFC amazing are the contributions of participants. We ask each perso
 n coming to AFC to bring something special, cool, unique, and exciting to s
 hare at the event. Especially anything that fly's, shoots, burns, explodes,
  or is just plain weird. But participants have also donated artwork, talent
 s, construction, safety, and cleanup. For example, the "Flying Man" sculptu
 re was donated by two talented artists a few years ago.\n\n\nThe AFC is a p
 urely volunteer effort guided by our love and passion of flight and to cele
 brate our remaining freedoms, meet and reconnect with fellow birds of a fea
 ther, and gather at this breathtaking place. All proceeds collected from ye
 ar to year go right back into making this event even more amazing than the 
 last. We welcome your generous donations in time, talents, and resources to
  make this amazing event continue from year to year.\n\n\nLocated just thir
 ty miles Southwest of Phoenix in beautiful Vekol Valley, Motown Airport (5A
 Z6) is an amazing haven for flying, shooting, and enjoying the beauty of th
 e open desert. You can either fly in or drive in. The property features a h
 uge Paramotor launch area and two hard-packed, smooth, dirt runways. The Ea
 st-West runway is 2700' long and 65' wide! We also have a open hangar and a
  fantastic pilot lounge. Surrounded by pristine desert mountains and incred
 ible wildlife, this 80 acre haven is ideal for Ultralight, LSA, and GA flyi
 ng. Located just 30 miles to the South East of Phoenix, this site can be di
 fficult to find and drive to. But the rewards of finding and flying here fa
 r out weigh the adventure of getting there. Come join us for warm winter fl
 ying in sunny Arizona!\n\n\nGPS Coordinates:\n\n\n32 55' 30.00"N\n112 15' 3
 4.00"W\n\n\nFor more info please call Mo Sheldon at 602-692-7995.\n\n\nWebs
 ite:&nbsp;http://www.arizonaflyingcircus.com/\n
CONTACT:Mo Sheldon at 602-692-7995.
DTSTAMP:20260421T101826Z
DTSTART;TZID=America/Phoenix;VALUE=DATE:20190214
DTEND;TZID=America/Phoenix;VALUE=DATE:20190218
SEQUENCE:0
TRANSP:OPAQUE
END:VEVENT
END:VCALENDAR