BEGIN:VCALENDAR
VERSION:2.0
PRODID:-//jEvents 2.0 for Joomla//EN
CALSCALE:GREGORIAN
METHOD:PUBLISH
BEGIN:VEVENT
UID:888e47808974162788dfc05d7c93c8b6
CATEGORIES:Backcountry
CREATED:20190313T080132
SUMMARY:Pleasant Valley (Young, AZ) Backcountry Fly-In
LOCATION:24AZ Pleasant Valley Airstrip (Young, AZ)
DESCRIPTION;ENCODING=QUOTED-PRINTABLE:&nbsp;\n\n\nCome enjoy camping the pine country! Bring your favorite Dutch 
 Oven and recipe for dinner on Saturday evening!&nbsp;&nbsp;\n\n\nJoin fello
 w pilots and their families in the cool pines of Young Arizona&nbsp;at (24A
 Z), AKA Pleasant Valley. The airstrip is 3400' graded dirt, and accommodate
 s most GA aircraft. Young and Pleasant Valley provide very special and beau
 tiful surroundings. The locals help provide&nbsp; ground transportation to 
 and from town for the many activities available in Historic Young, meals an
 d hotel stays.&nbsp;\n\n\nFor transportation to Young from the airstrip, ca
 ll&nbsp;Vern and Kathy (928-462-3510)\n\n\nAs always, please check weather 
 for your trip, and make the your decision to fly on your skill level, equip
 ment, and conditions along the route and destination. Spring winds can be h
 azardous in the backcountry!\n\n\n\n\n\nWeekend Schedule:\n\n - Friday 3:00
  to 7:00&nbsp;some folks arrive. Dinner in town transportation leaves airpo
 rt at 5:30PM\n - Saturday arrivals all morning. Breakfast in town, transpor
 tation leaves at 8:30AM\n - Lunch, fend for yourself, but no taking of wild
 life! Lunch and transpo will be available for Bruzzi's Vineyard and Pleasin
 g Palate\n - Dutch oven cook off starts 4:00PM\n - Music with local musicia
 n Barry Dilly, 7:00PM\n - Sunday, most folks depart, but you are welcome to
  stay as long as you like\n\n&nbsp;\n\n\n\nLocal Hotels: (Or camp at the ai
 rstrip!)\n\nPleasant Valley Inn&nbsp;with fireplaces, WiFi, refrigerators, 
 and all the comforts of home. Call Marla&nbsp;at&nbsp;(928) 462-3593&nbsp;e
 arly to reserve a room! Transportation to and from the hotel will be availa
 ble.\n\n\nCherry Creek Lodge&nbsp;Cabins just south of town, Call: Holly 92
 8-462-4027\n\n\nDead Broke Inn&nbsp;Call: Karla&nbsp;928-462-4022\n\n\nVall
 ey View Cabins Call: Darleen Harris 928-462-3422\n\n\nGrandpa’s Cabin:&nbsp
 ; Call Tom or Joanne 928-462-3253\n\n\nBruzzi Vineyard:\nhttp://www.bruzziv
 ineyard.com/\n\n\n\n\n&nbsp;\nClick Here for the Pilot Safety Pamphlet\n\n\
 n\n&nbsp;Additional Activties!\n\n\n\n\n\n\n\n\n\n\n\n\n\n\n\n\n\n\n\n\n\n\
 n\n\n&nbsp;\n\n\n&nbsp;\n
CONTACT:Mark: This email address is being protected from spambots. You need JavaScript enabled to view it.
				document.getElementById('cloak566085f67417322d52c393de2dc4fea5').innerHTML = '';
				var prefix = '&#109;a' + 'i&#108;' + '&#116;o';
				var path = 'hr' + 'ef' + '=';
				var addy566085f67417322d52c393de2dc4fea5 = 'msp&#101;nc&#101;r' + '&#64;';
				addy566085f67417322d52c393de2dc4fea5 = addy566085f67417322d52c393de2dc4fea5 + 'th&#101;r&#97;f' + '&#46;' + '&#111;rg';
				var addy_text566085f67417322d52c393de2dc4fea5 = 'msp&#101;nc&#101;r' + '&#64;' + 'th&#101;r&#97;f' + '&#46;' + '&#111;rg';document.getElementById('cloak566085f67417322d52c393de2dc4fea5').innerHTML += ''+addy_text566085f67417322d52c393de2dc4fea5+'';
		, Tommy: This email address is being protected from spambots. You need JavaScript enabled to view it.
				document.getElementById('cloak4c8f8a27aeca85a1bd0e99fddbb64394').innerHTML = '';
				var prefix = '&#109;a' + 'i&#108;' + '&#116;o';
				var path = 'hr' + 'ef' + '=';
				var addy4c8f8a27aeca85a1bd0e99fddbb64394 = 't&#101;th&#111;m&#97;s&#111;n' + '&#64;';
				addy4c8f8a27aeca85a1bd0e99fddbb64394 = addy4c8f8a27aeca85a1bd0e99fddbb64394 + '&#97;zp&#105;l&#111;ts' + '&#46;' + '&#111;rg';
				var addy_text4c8f8a27aeca85a1bd0e99fddbb64394 = 't&#101;th&#111;m&#97;s&#111;n' + '&#64;' + '&#97;zp&#105;l&#111;ts' + '&#46;' + '&#111;rg';document.getElementById('cloak4c8f8a27aeca85a1bd0e99fddbb64394').innerHTML += ''+addy_text4c8f8a27aeca85a1bd0e99fddbb64394+'';
		
DTSTAMP:20260421T084130Z
DTSTART;TZID=America/Phoenix;VALUE=DATE:20190426
DTEND;TZID=America/Phoenix;VALUE=DATE:20190429
SEQUENCE:0
TRANSP:OPAQUE
END:VEVENT
END:VCALENDAR