BEGIN:VCALENDAR
VERSION:2.0
PRODID:-//jEvents 2.0 for Joomla//EN
CALSCALE:GREGORIAN
METHOD:PUBLISH
BEGIN:VEVENT
UID:bd8e6cf94cb79e1ab240b898ce55fbaf
CATEGORIES:Backcountry
CREATED:20190313T082530
SUMMARY:Payson Fly-In and Air Camping Weekend
LOCATION:Payson Regional Airport (KPAN)
DESCRIPTION;ENCODING=QUOTED-PRINTABLE:Payson - A Backcountry Fly-In That EVERY Airplane Can Make!\n\n\nMany fello
 w Arizona aviators look at the impressive array of backcountry fly-ins that
  the Arizona Pilots Association and the Recreational Aviation Foundation wi
 th envy. While these fly-ins sure look like a lot of fun, the sad reality i
 s that with low wings and a low-slung prop, many of our airplanes could nev
 er be confused for backcountry machines. Most of the great air camping adve
 ntures tend to be reserved for those folks with taildragging, short/rough f
 ield airplanes.\n\n\n\nFor those Arizona pilots who are in the same boat as
  us (you know who you are – your Cherokee, Bonanza, or RV-6 just doesn’t ha
 ve balloon tires or a STOL kit), don’t despair! Arizona aviators are fortun
 ate to have one of the absolute best air camping facilities in the country 
 just sixty miles or so northeast of Phoenix as the crow flies up in Payson,
  Arizona. Best of all…this campground is right in the middle of a modern mu
 nicipal airport, nestled in the trees at Payson Regional Airport (KPAN). Pa
 yson features a 5,500’ x 75’ paved and lighted runway with plenty of paved 
 parking right next to the campground as well. Come with room in the fuel ta
 nks, as Payson features some of the cheapest 100LL prices in the state.\n\n
 \n\nOur annual AYA/APA/RAF Payson Fly-In and Air Camping Weekend will be he
 ld on April 5-7. Throw your tent and sleeping bag in the plane and join us 
 for lunch, (APA to provide for any donation), and a “Dutch oven” potluck di
 nner and overnight stay at the campground. You camp just a few yards from y
 our airplane, with nearby bathrooms and hot showers! After the potluck dinn
 er, we’ll enjoy the sounds of our favorite around-the-campfire musician, Ba
 rry Dillie, who will playing his guitar and providing the evening’s enterta
 inment.\n\n\n\nPlease plan to participate in Saturday night’s tradition of 
 Dutch oven cooking, and plan a side dish as well. You’ll be impressed with 
 other’s recipes for sure as you try out some of the best cam cooking in the
  country! Don’t know how to cook? No problem, as Payson is also the home of
  one of the best airport restaurants in the country, Crosswinds Café.\n\n\n
 For those who have never been air camping at Payson (or even air camping at
  all!), you couldn’t find a better place to “go back country” for the first
  time. Payson Airport Campground features individual campsites right next t
 o the paved aircraft ramp, fire rings with free firewood, grills, running w
 ater, real bathrooms (you know…the kind that have sinks and flushing toilet
 s), as well as HOT showers! Sure, you can tell all your friends that you we
 re “roughing it,” but only you and your fellow air campers will know the tr
 ue story. The campground has the best views of the spectacular Mogollon Rim
  in the state!\n\n\nIf you want to stay overnight, but your idea of “roughi
 ng it” is a motel, then come up anyway as we’ve reserved the courtesy car f
 or the group, so we can shuttle people back and forth to the airport.\n\n\n
 \nChildren are ALWAYS welcome at our fly-ins. The kids have plenty of room 
 to roam at KPAN, and we always stock up on marshmallows, graham crackers, a
 nd Hershey bars for the kids to enjoy s’mores by the campfire. So, load the
  kids and grandkids up in your plane and bring them along! The cost of the 
 weekend - nothing but your gas and food. The memories that you will make wi
 th them – PRICELESS!\n\n\nSo, fellow Arizona Aviators…it is time to pull th
 e plane out of the hangar and set a course for Payson the first weekend in 
 April to join your fellow APA’ers for some fun and fellowship around the ca
 mpfire.\n\n\nWe would like to ask you to RSVP, just so we can make sure to 
 have enough food for lunch, etc. Please text your name, number of people at
 tending and your aircraft type to (928) 273-0042.\n\n\nFor further informat
 ion, you can e-mail James Nebrig at This email address is being protected f
 rom spambots. You need JavaScript enabled to view it.
				document.getEleme
 ntById('cloak93ee288cbe92d0317642ce77e0abda81').innerHTML = '';
				var pre
 fix = '&#109;a' + 'i&#108;' + '&#116;o';
				var path = 'hr' + 'ef' + '=';

 				var addy93ee288cbe92d0317642ce77e0abda81 = 'j&#97;m&#101;s.n&#101;br&#1
 05;g' + '&#64;';
				addy93ee288cbe92d0317642ce77e0abda81 = addy93ee288cbe9
 2d0317642ce77e0abda81 + 'h&#111;tm&#97;&#105;l' + '&#46;' + 'c&#111;m';
			
 	var addy_text93ee288cbe92d0317642ce77e0abda81 = 'j&#97;m&#101;s.n&#101;br&
 #105;g' + '&#64;' + 'h&#111;tm&#97;&#105;l' + '&#46;' + 'c&#111;m';document
 .getElementById('cloak93ee288cbe92d0317642ce77e0abda81').innerHTML += ''+ad
 dy_text93ee288cbe92d0317642ce77e0abda81+'';
		\n\n\nWe look forward to seei
 ng you there!\n\n\n&nbsp;\n
CONTACT:James Nebrig at This email address is being protected from spambots. You need JavaScript enabled to view it.
				document.getElementById('cloakbb5971f3daa59c3c129e93da020046e3').innerHTML = '';
				var prefix = '&#109;a' + 'i&#108;' + '&#116;o';
				var path = 'hr' + 'ef' + '=';
				var addybb5971f3daa59c3c129e93da020046e3 = 'j&#97;m&#101;s.n&#101;br&#105;g' + '&#64;';
				addybb5971f3daa59c3c129e93da020046e3 = addybb5971f3daa59c3c129e93da020046e3 + 'h&#111;tm&#97;&#105;l' + '&#46;' + 'c&#111;m';
				var addy_textbb5971f3daa59c3c129e93da020046e3 = 'j&#97;m&#101;s.n&#101;br&#105;g' + '&#64;' + 'h&#111;tm&#97;&#105;l' + '&#46;' + 'c&#111;m';document.getElementById('cloakbb5971f3daa59c3c129e93da020046e3').innerHTML += ''+addy_textbb5971f3daa59c3c129e93da020046e3+'';
		
DTSTAMP:20260421T084204Z
DTSTART;TZID=America/Phoenix;VALUE=DATE:20190405
DTEND;TZID=America/Phoenix;VALUE=DATE:20190408
SEQUENCE:0
TRANSP:OPAQUE
END:VEVENT
END:VCALENDAR