BEGIN:VCALENDAR
VERSION:2.0
PRODID:-//jEvents 2.0 for Joomla//EN
CALSCALE:GREGORIAN
METHOD:PUBLISH
BEGIN:VEVENT
UID:7d7c4ed0b745ad5ab241c11e77da7f65
CATEGORIES:Backcountry
CREATED:20180926T130925
SUMMARY:Grapevine Monthly Fly-In Weekend
LOCATION:Grapevine (E75) near Roosevelt Lake
DESCRIPTION;ENCODING=QUOTED-PRINTABLE:\n&nbsp;\n&nbsp;\nThe camp host for this month is:\n~ Volunteer, it could b
 e you!&nbsp;~\n\n\nFriday night: Camp out under the stars\nSaturday: BBQ an
 d Potluck Lunch (Donation of $8 encouraged)\nSaturday Night: Potluck &amp; 
 Camp under the stars and tell stories around the group campfire!\nSunday: M
 ost folks depart by noon\nATTN: Please, no motor vehicles, other than APA a
 nd USFS support vehicles, are permitted past the gate at the highway. This 
 is a closed area and only aircraft access is allowed. Help us keep our comm
 itment to the USFS!\n\n\n\n\n\nAs always,\nPort-A-John on site\nFree Airpla
 ne Parking\nFree Camping\nFree Black Labrador Petting Zoo\nHiking\nPlenty o
 f Sunshine\n\nClick for weather forecast&nbsp;&nbsp;Grapevine is open full 
 time now, but the third Saturday of each month is a special time with lunch
  served on Saturday. Come an camp for the weekend!\n&nbsp;\nClick here for 
 the GRAPEVINE SAFETY BULLETIN\n&nbsp;\nPlease email&nbsp;This email address
  is being protected from spambots. You need JavaScript enabled to view it.

 				document.getElementById('cloakdf7833723ef8309002ffeeb270267f30').innerH
 TML = '';
				var prefix = '&#109;a' + 'i&#108;' + '&#116;o';
				var path 
 = 'hr' + 'ef' + '=';
				var addydf7833723ef8309002ffeeb270267f30 = 'AzCl&#
 111;&#117;dFly&#101;r' + '&#64;';
				addydf7833723ef8309002ffeeb270267f30 
 = addydf7833723ef8309002ffeeb270267f30 + '&#101;&#97;rthl&#105;nk' + '&#46;
 ' + 'n&#101;t&amp;s&#117;bj&#101;ct=Gr&#97;p&#101;v&#105;n&#101;';
				var 
 addy_textdf7833723ef8309002ffeeb270267f30 = 'M&#105;k&#101; Andr&#101;s&#10
 1;n';document.getElementById('cloakdf7833723ef8309002ffeeb270267f30').inner
 HTML += ''+addy_textdf7833723ef8309002ffeeb270267f30+'';
		&nbsp;for more i
 nfo or if you are interested in volunteering.\n&nbsp;\n\n\n\n\n\n\n\n\n\n\n
 \n
CONTACT:Mike Andresen  This email address is being protected from spambots. You need JavaScript enabled to view it.
				document.getElementById('cloaka3f37f0ab36a9e9c8c37f82ea3e80820').innerHTML = '';
				var prefix = '&#109;a' + 'i&#108;' + '&#116;o';
				var path = 'hr' + 'ef' + '=';
				var addya3f37f0ab36a9e9c8c37f82ea3e80820 = 'm&#105;k&#101;' + '&#64;';
				addya3f37f0ab36a9e9c8c37f82ea3e80820 = addya3f37f0ab36a9e9c8c37f82ea3e80820 + '&#97;zp&#105;l&#111;ts' + '&#46;' + '&#111;rg';
				var addy_texta3f37f0ab36a9e9c8c37f82ea3e80820 = 'm&#105;k&#101;' + '&#64;' + '&#97;zp&#105;l&#111;ts' + '&#46;' + '&#111;rg';document.getElementById('cloaka3f37f0ab36a9e9c8c37f82ea3e80820').innerHTML += ''+addy_texta3f37f0ab36a9e9c8c37f82ea3e80820+'';
		
DTSTAMP:20260421T120130Z
DTSTART;TZID=America/Phoenix;VALUE=DATE:20181221
DTEND;TZID=America/Phoenix;VALUE=DATE:20181224
SEQUENCE:0
TRANSP:OPAQUE
END:VEVENT
END:VCALENDAR