BEGIN:VCALENDAR
VERSION:2.0
PRODID:-//jEvents 2.0 for Joomla//EN
CALSCALE:GREGORIAN
METHOD:PUBLISH
BEGIN:VEVENT
UID:82829c7a89d6697591b1215a8564e82d
CATEGORIES:Safety
CREATED:20190326T115731
SUMMARY:Pilot-Controller Forum for KTUS at Tucson
LOCATION:Tucson International Airport Airline Terminal Building 7250 S. Tucson Blvd,
  Tucson AZ 3rd floor TAA Admin Offices - Cata
DESCRIPTION;ENCODING=QUOTED-PRINTABLE:Pilot-Controller Forum for KTUS\n\n\nYour input as a Pilot and or driver on
  the airfield is requested for the upcoming KTUS Interim Local Runway Safet
 y Meeting.\n\n\n\n\nDate and Time: Wednesday, April 3, 2019, starting at 16
 :00 Arizona\n\n\n\n\nSpeaker(s): Charlotte York, KTUS ATCT; Tina Buskirk, A
 viation Safety, Scottsdale Flight Standards District Office FAASTeam Progra
 m Manager,\n\n\n\n\nBrief Description:\nMilitary, Airline, Cargo, General A
 viation pilots, Ground Operators and safety advocates are welcome and encou
 raged to attend. This meeting includes a presentation of the recent inciden
 t history at Tucson International Airport and an open discussion of Runway 
 Safety.\n\n\nParticipants are asked to help develop recommendations and sol
 utions to enhance surface safety by eliminating wrong surface landings, run
 way incursions, pilot deviations and jet blast incidents and accidents. You
 r recommendations will assist the Runway Safety Team as they continue their
  efforts to improve safety at Tucson International Airport.\n\n\nIf you are
  unable to attend, please email your recommendations, comments and/or quest
 ions to Charlotte York, Tucson ATCT Support Specialist, by noon, Wednesday,
  April 3, 2019. This email address is being protected from spambots. You ne
 ed JavaScript enabled to view it.
				document.getElementById('cloak933eade
 97b3e921c64d587a3019982ec').innerHTML = '';
				var prefix = '&#109;a' + 'i
 &#108;' + '&#116;o';
				var path = 'hr' + 'ef' + '=';
				var addy933eade9
 7b3e921c64d587a3019982ec = 'Ch&#97;rl&#111;tt&#101;.Y&#111;rk' + '&#64;';
	
 			addy933eade97b3e921c64d587a3019982ec = addy933eade97b3e921c64d587a301998
 2ec + 'f&#97;&#97;' + '&#46;' + 'g&#111;v';
				var addy_text933eade97b3e92
 1c64d587a3019982ec = 'Ch&#97;rl&#111;tt&#101;.Y&#111;rk' + '&#64;' + 'f&#97
 ;&#97;' + '&#46;' + 'g&#111;v';document.getElementById('cloak933eade97b3e92
 1c64d587a3019982ec').innerHTML += ''+addy_text933eade97b3e921c64d587a301998
 2ec+'';
		\n\n\nThis meeting it expected to adjourn at 17:30 pm Arizona tim
 e (GMT -7)\n\n\nSee you there!\n\n\nSelect Number: WP0790946\n\n\n\n\nLocat
 ion of Seminar:\nTucson International Airport Airline Terminal Building\n72
 50 S. Tucson Blvd, Tucson AZ\n3rd floor TAA Admin Offices - Catalina Room\n
 Tucson, AZ 85756\n\n\n\n\nDirections to Venue:\nTucson International Airpor
 t Airline Terminal Building, 3rd Floor\n7250 S. Tucson Blvd, Tucson AZ 8575
 6\nTucson Airport Authority Administrative Offices: Catalina Room\n\n\nOn t
 he 3rd Floor (above airline ticketing level), find the TAA Administrative O
 ffices. Within the Administrative Offices, we'll be in the Catalina Room.\n
 \n\nhttps://www.flytucson.com/services/terminal-map/\n\n\nDriving: For free
  vehicle parking, please park in the Hourly lot and bring your ticket to th
 e meeting for validation.\n\n\nFly-Ins: If you would like to fly-in, please
  make prior arrangements with the Fixed Base Operator of your choice regard
 ing fuel, fees, tie-downs, hours of operation, shuttle availability to and 
 from the meeting and accessing your aircraft after the meeting, etc.. No pu
 blic services are available at the Tucson Executive Terminal.\n\n\nThank yo
 u Tucson Airport Authority for providing the Catalina Room!\n\n\nView Map\n
 \n\n\n\nFly-in Seminar?: Yes KTUS\n\n\n\n\nSeating: 40 seats at the facilit
 y\n\n\n\n\nRegistration Information:\nClick here to register online now!\n\
 n\n\n\nSponsoring Division: Scottsdale FSDO FAASTeam\n\n\n\n\nContact Infor
 mation: Lee Unger\nPhone: (520) 297-4320\nThis email address is being prote
 cted from spambots. You need JavaScript enabled to view it.
				document.ge
 tElementById('cloakcec71ff5ee711cd07803ff93e6c961ab').innerHTML = '';
				v
 ar prefix = '&#109;a' + 'i&#108;' + '&#116;o';
				var path = 'hr' + 'ef' +
  '=';
				var addycec71ff5ee711cd07803ff93e6c961ab = '&#117;ng&#101;rs' + '
 &#64;';
				addycec71ff5ee711cd07803ff93e6c961ab = addycec71ff5ee711cd07803
 ff93e6c961ab + 'd&#97;k&#111;t&#97;c&#111;m' + '&#46;' + 'n&#101;t';
				va
 r addy_textcec71ff5ee711cd07803ff93e6c961ab = '&#117;ng&#101;rs' + '&#64;' 
 + 'd&#97;k&#111;t&#97;c&#111;m' + '&#46;' + 'n&#101;t';document.getElementB
 yId('cloakcec71ff5ee711cd07803ff93e6c961ab').innerHTML += ''+addy_textcec71
 ff5ee711cd07803ff93e6c961ab+'';
		\n\n\n\n\nAdditional Event Information &a
 mp; Acknowledgement of Industry Sponsor(s):\nThis event would not be possib
 le without the active participation and collaboration among air traffic con
 trol, airport management, and airport users.\n\n\nPre-registration is encou
 raged to help the facilitators in planning sufficient seating and handout m
 aterials.\n\n\nRunway incursions are a major factor in aviation safety. Whi
 le many things have been done to reduce the accident rate in General Aviati
 on and the Air Carrier Industry, both sides of the aviation house are still
  experiencing far too many runway incursions. This could be the result of "
 Read back - Hear back" issues, poor airport signage, pilot inattention/know
 ledge, expectation bias, or a combination of factors. Runway safety is a ma
 jor concern for all pilots and if you have been around aviation for a long 
 period of time you have probably seen some close calls on the runways and t
 axiways, or even been involved in some yourself.\n\n\nPilot airspace deviat
 ions continue to be a major risk in the national airspace system. To reduce
  the chance that you might be involved in an airspace deviation incident, y
 ou are highly encouraged to take an on-line learning center courses on www.
 faasafety.gov, https://www.faasafety.gov/search/Default.aspx?keywords=runwa
 y+safety&amp;searchCategoryId=-1 or search the learning library for associa
 ted guidance on airspace incursions. Remember, safe and prudent airmen have
  superior situational awareness and have a plan to keep it that way.\n\n\nF
 lying into or out of Tucson International Airport KTUS ? Thank you Tucson A
 irport Authority, FAASTeam, AOPA Airport Support Network Volunteers and mor
 e for the Tucson KTUS Airport and Runway Safety video! Thank you aftw.org f
 or posting this safety video!\n\n\nWelcome and safe travels to Tucson! http
 ://aftw.org/tus-releases-runway-safety-video/\n\n\n"Please also view this v
 ideo on Wrong Surface Landings, developed by the FAA Runway Safety Group:" 
 https://www.youtube.com/watch?v=5II-s_j35cI&amp;feature=youtu.be\n\n\nIn “A
 dditional Event Documents” below, find links to National and Local safety m
 aterial.\n\n\nThank You! A message from your FAASTeam.\n\n\nEqual Access In
 formation:\nThe FAA Safety Team (FAASTeam) is committed to providing equal 
 access to this meeting/event for all participants. If you need alternative 
 formats or services because of a disability, please communicate your reques
 t as soon as possible with the person in the “Contact Information” area of 
 the meeting/event notice. Note that two weeks is usually required to arrang
 e services.\n\n\n\n\nCredit Applicability:\n1 Credit for Basic Knowledge To
 pic 2\n½ Credit for Advanced Knowledge Topic 2\n1.5 Hours Total for AMT\n
CONTACT:Lee Unger Phone: (520) 297-4320 This email address is being protected from spambots. You need JavaScript enabled to view it.
				document.getElementById('cloak8a3e9fca152387dce5fdc5e65739906b').innerHTML = '';
				var prefix = '&#109;a' + 'i&#108;' + '&#116;o';
				var path = 'hr' + 'ef' + '=';
				var addy8a3e9fca152387dce5fdc5e65739906b = '&#117;ng&#101;rs' + '&#64;';
				addy8a3e9fca152387dce5fdc5e65739906b = addy8a3e9fca152387dce5fdc5e65739906b + 'd&#97;k&#111;t&#97;c&#111;m' + '&#46;' + 'n&#101;t';
				var addy_text8a3e9fca152387dce5fdc5e65739906b = '&#117;ng&#101;rs' + '&#64;' + 'd&#97;k&#111;t&#97;c&#111;m' + '&#46;' + 'n&#101;t';document.getElementById('cloak8a3e9fca152387dce5fdc5e65739906b').innerHTML += ''+addy_text8a3e9fca152387dce5fdc5e65739906b+'';
		
DTSTAMP:20260421T191658Z
DTSTART;TZID=America/Phoenix:20190403T160000
SEQUENCE:0
TRANSP:OPAQUE
END:VEVENT
END:VCALENDAR