BEGIN:VCALENDAR
VERSION:2.0
PRODID:-//jEvents 2.0 for Joomla//EN
CALSCALE:GREGORIAN
METHOD:PUBLISH
BEGIN:VEVENT
UID:32e979dd9ea7b684b7a40448a627ddd8
CATEGORIES:Safety
CREATED:20190326T120539
SUMMARY:Prescott Airport - Local Runway Safety Action Team Meeting (LRSAT) at Prescott
LOCATION:Prescott Airport Administration Building 6546 Crystal Lane 2nd floor confer
 ence room Prescott, AZ 86301
DESCRIPTION;ENCODING=QUOTED-PRINTABLE:Prescott Airport - Local Runway Safety Action Team Meeting (LRSAT)\n\n\nLoc
 al Runway Safety Action Team annual meeting for KPRC.\n\n\n\n\nDate and Tim
 e: Thursday, April 11, 2019, starting at 09:00 Arizona\n\n\n\n\nSpeaker(s):
  Airport Administration and FAA ATC Personnel\n\n\n\n\nBrief Description:\n
 The runway safety action team (RSAT) meeting provides an opportunity for ai
 rport users and tenants to discuss airport surface safety concerns in an ef
 fort to reduce risk. The agenda items for the meeting include a discussion 
 of runway and/or taxiway changes, markings, lighting, electrical, signage, 
 and procedures. The team will also discuss open and recently closed action 
 items, and review runway incursions and surface deviations that have occurr
 ed in the past 12 months. The meeting is open to all airport users and tena
 nts.\n\n\nSelect Number: WP0791023\n\n\n\n\nLocation of Seminar:\nPrescott 
 Airport Administration Building\n6546 Crystal Lane\n2nd floor conference ro
 om\nPrescott, AZ 86301\n\n\n\n\nDirections to Venue:\nFly-ins: Park in tran
 sient parking at south ramp, and proceed to the Airport Administration buil
 ding west of the terminal and airplane shade parking\n\n\nDriving: From hig
 hway 89A, exit at highway 89. Then, turn east onto MacCurdy Drive. Turn lef
 t on Janine Drive. Turn right on Crystal Lane and follow until it dead ends
  at the Airport Administration building.\n\n\nView Map\n\n\n\n\nFly-in Semi
 nar?: Yes PRC\n\n\n\n\nSeating: 40 seats at the facility, 40 remaining for 
 online registration.\n\n\n\n\nRegistration Information:\nClick here to regi
 ster online now!\n\n\n\n\nSponsoring Division: Scottsdale FAASTeam\n\n\n\n\
 nContact Information: Ernest Copeland\nPhone: (480) 284-7438\nThis email ad
 dress is being protected from spambots. You need JavaScript enabled to view
  it.
				document.getElementById('cloak4d1c6d82032a81aa77fe2938ccd6378a').i
 nnerHTML = '';
				var prefix = '&#109;a' + 'i&#108;' + '&#116;o';
				var 
 path = 'hr' + 'ef' + '=';
				var addy4d1c6d82032a81aa77fe2938ccd6378a = '&
 #101;rn&#101;st.r.c&#111;p&#101;l&#97;nd' + '&#64;';
				addy4d1c6d82032a81
 aa77fe2938ccd6378a = addy4d1c6d82032a81aa77fe2938ccd6378a + 'f&#97;&#97;' +
  '&#46;' + 'g&#111;v';
				var addy_text4d1c6d82032a81aa77fe2938ccd6378a = 
 '&#101;rn&#101;st.r.c&#111;p&#101;l&#97;nd' + '&#64;' + 'f&#97;&#97;' + '&#
 46;' + 'g&#111;v';document.getElementById('cloak4d1c6d82032a81aa77fe2938ccd
 6378a').innerHTML += ''+addy_text4d1c6d82032a81aa77fe2938ccd6378a+'';
		\n\
 n\n\n\nAdditional Event Information &amp; Acknowledgement of Industry Spons
 or(s):\nThis event would not be possible without the active participation a
 nd collaboration amongst air traffic control, airport management, and airpo
 rt users.\n\n\nPre-registration is strongly encouraged to help the facilita
 tors in planning sufficient seating and handout materials.\n\n\nEqual Acces
 s Information:\nThe FAA Safety Team (FAASTeam) is committed to providing eq
 ual access to this meeting/event for all participants. If you need alternat
 ive formats or services because of a disability, please communicate your re
 quest as soon as possible with the person in the “Contact Information” area
  of the meeting/event notice. Note that two weeks is usually required to ar
 range services.\n\n\n\n\nCredit Applicability:\n1 Credit for Basic Knowledg
 e Topic 3\n1 Credit for Advanced Knowledge Topic 2\n
CONTACT:Ernest Copeland Phone: (480) 284-7438 This email address is being protected from spambots. You need JavaScript enabled to view it.
				document.getElementById('cloakd3b881f3dc4ea71e6558681bc980576f').innerHTML = '';
				var prefix = '&#109;a' + 'i&#108;' + '&#116;o';
				var path = 'hr' + 'ef' + '=';
				var addyd3b881f3dc4ea71e6558681bc980576f = '&#101;rn&#101;st.r.c&#111;p&#101;l&#97;nd' + '&#64;';
				addyd3b881f3dc4ea71e6558681bc980576f = addyd3b881f3dc4ea71e6558681bc980576f + 'f&#97;&#97;' + '&#46;' + 'g&#111;v';
				var addy_textd3b881f3dc4ea71e6558681bc980576f = '&#101;rn&#101;st.r.c&#111;p&#101;l&#97;nd' + '&#64;' + 'f&#97;&#97;' + '&#46;' + 'g&#111;v';document.getElementById('cloakd3b881f3dc4ea71e6558681bc980576f').innerHTML += ''+addy_textd3b881f3dc4ea71e6558681bc980576f+'';
		
DTSTAMP:20260421T173148Z
DTSTART;TZID=America/Phoenix:20190411T090000
SEQUENCE:0
TRANSP:OPAQUE
END:VEVENT
END:VCALENDAR