BEGIN:VCALENDAR
VERSION:2.0
PRODID:-//jEvents 2.0 for Joomla//EN
CALSCALE:GREGORIAN
METHOD:PUBLISH
BEGIN:VEVENT
UID:e0f843531a54491f562d684f670b583b
CATEGORIES:Safety
CREATED:20190411T142419
SUMMARY:Safely Flying In and Around Military Airspace @ Salome
LOCATION:Indian Hills Airpark Community building Salome, AZ 85348
DESCRIPTION;ENCODING=QUOTED-PRINTABLE:Safely Flying In and Around Military Airspace\nFlying in and around SUA in 
 western AZ / So Cal. Establishment of a Control Fire Area and SUA airspace 
 west of R-2501\n\n\nDate and Time: Saturday, April 13, 2019, starting at 12
 :15 Arizona&nbsp;\n\n\nSpeaker(s): Terry Hansen\n\n\nBrief Description:\nTh
 e briefing will cover GA flying in and around special use airspace in weste
 rn AZ and Southern California. It will also cover the establishment of a Co
 ntrol Fire Area west of R 2501. Will outline the request for new SUA's in s
 upport of Marine Corps training west of R-2501\n\n\nSelect Number: WP079136
 3\n\n\nLocation of Seminar:\nIndian Hills Airpark\nCommunity building\nSalo
 me, AZ 85348\n\n\nDirections to Venue:\nThe briefing will be held in the co
 mmunity building at the Indian Hills Airpark in Salome AZ.\n\n\nPilots that
  will fly in please check the airpark's web site for the airport informatio
 n.\n\n\nFly-in Seminar?: Yes 2AZ1\n\n\nSeating: 35 seats at the facility\n\
 n\nRegistration Information:\nClick here to register online now!\n\n\nSpons
 oring Division: FAASTeam\n\n\nContact Information: terry hansen\nPhone: (76
 0) 215-0145\nThis email address is being protected from spambots. You need 
 JavaScript enabled to view it.
				document.getElementById('cloak809e8e9084
 2c593a35b5511f872e4e6b').innerHTML = '';
				var prefix = '&#109;a' + 'i&#1
 08;' + '&#116;o';
				var path = 'hr' + 'ef' + '=';
				var addy809e8e90842
 c593a35b5511f872e4e6b = 't&#101;rrych&#97;ns&#101;n' + '&#64;';
				addy809
 e8e90842c593a35b5511f872e4e6b = addy809e8e90842c593a35b5511f872e4e6b + 'gm&
 #97;&#105;l' + '&#46;' + 'c&#111;m';
				var addy_text809e8e90842c593a35b55
 11f872e4e6b = 't&#101;rrych&#97;ns&#101;n' + '&#64;' + 'gm&#97;&#105;l' + '
 &#46;' + 'c&#111;m';document.getElementById('cloak809e8e90842c593a35b5511f8
 72e4e6b').innerHTML += ''+addy_text809e8e90842c593a35b5511f872e4e6b+'';
		\
 n\n\nAdditional Event Information &amp; Acknowledgement of Industry Sponsor
 (s):\nThe briefing will cover GA flying in and around special use airspace 
 in western AZ and Southern California. It will also cover the establishment
  of a Control Fire Area west of R 2501. Will outline the request for new SU
 A's in support of Marine Corps training west of R-2501\n\n\nEqual Access In
 formation:\nThe FAA Safety Team (FAASTeam) is committed to providing equal 
 access to this meeting/event for all participants. If you need alternative 
 formats or services because of a disability, please communicate your reques
 t as soon as possible with the person in the “Contact Information” area of 
 the meeting/event notice. Note that two weeks is usually required to arrang
 e services.\n\n\nCredit Applicability:\n1 Credit for Basic Knowledge Topic 
 3\n1 Credit for Master Knowledge Topic 1\n
CONTACT:terry hansen Phone: (760) 215-0145 This email address is being protected from spambots. You need JavaScript enabled to view it.
				document.getElementById('cloak43a5db4aa5039b387dcab3d3ef36efda').innerHTML = '';
				var prefix = '&#109;a' + 'i&#108;' + '&#116;o';
				var path = 'hr' + 'ef' + '=';
				var addy43a5db4aa5039b387dcab3d3ef36efda = 't&#101;rrych&#97;ns&#101;n' + '&#64;';
				addy43a5db4aa5039b387dcab3d3ef36efda = addy43a5db4aa5039b387dcab3d3ef36efda + 'gm&#97;&#105;l' + '&#46;' + 'c&#111;m';
				var addy_text43a5db4aa5039b387dcab3d3ef36efda = 't&#101;rrych&#97;ns&#101;n' + '&#64;' + 'gm&#97;&#105;l' + '&#46;' + 'c&#111;m';document.getElementById('cloak43a5db4aa5039b387dcab3d3ef36efda').innerHTML += ''+addy_text43a5db4aa5039b387dcab3d3ef36efda+'';
		
DTSTAMP:20260421T173148Z
DTSTART;TZID=America/Phoenix:20190413T121500
SEQUENCE:0
TRANSP:OPAQUE
END:VEVENT
END:VCALENDAR