BEGIN:VCALENDAR
VERSION:2.0
PRODID:-//jEvents 2.0 for Joomla//EN
CALSCALE:GREGORIAN
METHOD:PUBLISH
BEGIN:VEVENT
UID:f2b8479b5419f078f93a4df5065fdec3
CATEGORIES:Safety
CREATED:20190411T143350
SUMMARY:Aviation Safety Advisory Group - Monthly Meeting at Scottsdale
LOCATION:Scottsdale FSDO  17777 N Perimeter Dr Suite 101 Scottsdale, AZ 85255
DESCRIPTION;ENCODING=QUOTED-PRINTABLE:Aviation Safety Advisory Group - Monthly Meeting\nThe ASAG group is made up
  from volunteers throughout Arizona. We work to educate and promote aviatio
 n safe practices.\n\n\nDate and Time: Wednesday, April 17, 2019, starting a
 t 12:00 Arizona\n\n\nSpeaker(s): ASAG Members\n\n\nBrief Description:\nASAG
  monthly meeting will be held at the FAA SDL FSDO building. A review of rec
 ent accidents/incidents and pilot deviations in the state of Arizona. Agend
 a will be sent out prior to the event.\n\n\nSelect Number: WP0791763\n\n\nL
 ocation of Seminar:\nScottsdale FSDO \n17777 N Perimeter Dr\nSuite 101\nSco
 ttsdale, AZ 85255\n\n\nDirections to Venue:\nMeet at the Scottsdale FSDO bu
 ilding for our monthly meeting.\n\n\nView Map\n\n\nFly-in Seminar?: No\n\n\
 nSeating: 50 seats at the facility\n\n\nRegistration Information:\nClick he
 re to register online now!\n\n\nSponsoring Division: FAASTeam\n\n\nContact 
 Information: DAVID FREIWALD\nPhone: (407) 913-6307\nThis email address is b
 eing protected from spambots. You need JavaScript enabled to view it.
				d
 ocument.getElementById('cloak3857b6158a4458b6d149d46bc5bcb942').innerHTML =
  '';
				var prefix = '&#109;a' + 'i&#108;' + '&#116;o';
				var path = 'hr
 ' + 'ef' + '=';
				var addy3857b6158a4458b6d149d46bc5bcb942 = 'dfr&#101;&#
 105;w&#97;ld' + '&#64;';
				addy3857b6158a4458b6d149d46bc5bcb942 = addy385
 7b6158a4458b6d149d46bc5bcb942 + '&#97;l&#101;rt&#97;v&#105;&#97;t&#105;&#11
 1;n' + '&#46;' + 'c&#111;m';
				var addy_text3857b6158a4458b6d149d46bc5bcb
 942 = 'dfr&#101;&#105;w&#97;ld' + '&#64;' + '&#97;l&#101;rt&#97;v&#105;&#97
 ;t&#105;&#111;n' + '&#46;' + 'c&#111;m';document.getElementById('cloak3857b
 6158a4458b6d149d46bc5bcb942').innerHTML += ''+addy_text3857b6158a4458b6d149
 d46bc5bcb942+'';
		\n\n\nAdditional Event Information &amp; Acknowledgement
  of Industry Sponsor(s):\nThe FAASTeam would like to thank the Scottsdale F
 SDO and ASAG for their support of numerous aviation safety events.\n\n\nEqu
 al Access Information:\nThe FAA Safety Team (FAASTeam) is committed to prov
 iding equal access to this meeting/event for all participants. If you need 
 alternative formats or services because of a disability, please communicate
  your request as soon as possible with the person in the “Contact Informati
 on” area of the meeting/event notice. Note that two weeks is usually requir
 ed to arrange services.\n\n\nCredit Applicability:\n1 Credit for Basic Know
 ledge Topic 3\n
CONTACT:DAVID FREIWALD Phone: (407) 913-6307 This email address is being protected from spambots. You need JavaScript enabled to view it.
				document.getElementById('cloak103120b2dd526e8445a7365999d3d18a').innerHTML = '';
				var prefix = '&#109;a' + 'i&#108;' + '&#116;o';
				var path = 'hr' + 'ef' + '=';
				var addy103120b2dd526e8445a7365999d3d18a = 'dfr&#101;&#105;w&#97;ld' + '&#64;';
				addy103120b2dd526e8445a7365999d3d18a = addy103120b2dd526e8445a7365999d3d18a + '&#97;l&#101;rt&#97;v&#105;&#97;t&#105;&#111;n' + '&#46;' + 'c&#111;m';
				var addy_text103120b2dd526e8445a7365999d3d18a = 'dfr&#101;&#105;w&#97;ld' + '&#64;' + '&#97;l&#101;rt&#97;v&#105;&#97;t&#105;&#111;n' + '&#46;' + 'c&#111;m';document.getElementById('cloak103120b2dd526e8445a7365999d3d18a').innerHTML += ''+addy_text103120b2dd526e8445a7365999d3d18a+'';
		
DTSTAMP:20260421T173148Z
DTSTART;TZID=America/Phoenix:20190417T120000
SEQUENCE:0
TRANSP:OPAQUE
END:VEVENT
END:VCALENDAR