BEGIN:VCALENDAR
VERSION:2.0
PRODID:-//jEvents 2.0 for Joomla//EN
CALSCALE:GREGORIAN
METHOD:PUBLISH
BEGIN:VEVENT
UID:ae34ef6e3db2acb7d69b9ad5c7983cfe
CATEGORIES:Other Fly-In
CREATED:20191001T113022
SUMMARY:HopeKids Pegasus at Queen Creek
LOCATION:Pegasus Airpark - 5AZ3 (Queen Creek, AZ)
DESCRIPTION;ENCODING=QUOTED-PRINTABLE:\n&nbsp;\nHopeKids Pegasus\nWhen: Saturday October 26 2019 6:00 - 10:00 a.m
 .\nPancake breakfast on site (Donations Appreciated)\nWhere: - Pegasus Airp
 ark - 5AZ3 (Queen Creek Az.)\nBring your plane for the families from HopeKi
 ds to see.\n
CONTACT:http://www.hopekids.org
DTSTAMP:20260422T042906Z
DTSTART;TZID=America/Phoenix:20191026T060000
DTEND;TZID=America/Phoenix:20191026T100000
SEQUENCE:0
TRANSP:OPAQUE
END:VEVENT
END:VCALENDAR