BEGIN:VCALENDAR
VERSION:2.0
PRODID:-//jEvents 2.0 for Joomla//EN
CALSCALE:GREGORIAN
METHOD:PUBLISH
BEGIN:VEVENT
UID:b186b4cbf988e8cbe707adfe0c5ac363
CATEGORIES:Safety
CREATED:20191004T135318
SUMMARY:ADS-B Automatic Dependent Surveillance Broadcast and Flight Safety at Mesa
LOCATION:ASU Simulator Building, Phoenix-Mesa Gateway Airport 7442 E. Innovation Way
  North Room 257 Mesa, AZ 85212
DESCRIPTION;ENCODING=QUOTED-PRINTABLE:ADS-B Automatic Dependent Surveillance Broadcast and Flight Safety\nADS-B F
 AR Requirements for 2020 and The Use of ADS-B (IN) and (OUT); Equipment Cos
 t(s)\n\n\n&nbsp;\n\n\nDate and Time:Saturday, October 26, 2019, starting at
  09:00 Arizona\n\n\n&nbsp;\n\n\nSpeaker(s):FAASTeam Rep Jim Price\n\n\n&nbs
 p;\n\n\nBrief Description:\n· ADS-B and the FAA’s Next Generation Air Traff
 ic System\n· ADS-B (OUT) and (IN) FAR Requirements 2020\n· ADS-B Equipment 
 Required (1090ES Transponder) &amp; (UAT)(ES) Extended Squitter, etc.\n· Av
 iation Applications – ForeFlight, Wings X Pro 7, Garmin Pilot, etc.\n. Use 
 of ADS-B (IN) and (OUT), Equipment Cost (s).\n\n\n&nbsp;\n\n\nSelect Number
 :WP0795865\n\n\n&nbsp;\n\n\nLocation of Seminar:\nASU Simulator Building, P
 hoenix-Mesa Gateway Airport\n7442 E. Innovation Way North\nRoom 257\nMesa, 
 AZ 85212\n\n\n&nbsp;\n\n\nDirections to Venue:\nThe ASU Polytechnic Campus 
 is adjacent to Williams Gateway Airport on the West side. The Simulator Bui
 lding is across S. Sossaman Rd from the FBO (Gateway Aviation Services).\n\
 n\nThe seminar will be held on the 2nd floor.\n\n\nFly-In: Park at Gateway 
 Aviation Services. Ramp fees are waived for seminar participants. Please ad
 vise Gateway Aviation Services that you flew in to attend an FAA seminar.\n
 \n\nDriving: exit AZ-202 (Santan Freeway) at Power Rd and head South. Turn 
 left on E. Ray Rd. Turn right on S. Sossaman Rd. Turn right on E. Tahoe Ave
  and follow it around to Innovation Way N. Turn left on Innovation Way N. Y
 ou will be headed East, the Simulator Bldg is on the left and Lot 16A is on
  your right. You may park in Lot 16A for this seminar. The entry for Lot 16
 A is on the East side of the lot. Follow Innovation Way N around the corner
  to Innovation Way E and the Lot 16A entry will be on your right. Once on I
 nnovation Way there will be signs guiding you to parking and the Simulator 
 Building.\n\n\nView Map\n\n\n&nbsp;\n\n\nFly-in Seminar?:Yes KIWA\n\n\n&nbs
 p;\n\n\nSeating:50 seats at the facility\n\n\n&nbsp;\n\n\nRegistration Info
 rmation:\nClick here to register online now!\n\n\n&nbsp;\n\n\nSponsoring Di
 vision:Scottsdale AZ FAASTeam\n\n\n&nbsp;\n\n\nContact Information:Jim Pric
 e\nPhone: (480)772-1527\nThis email address is being protected from spambot
 s. You need JavaScript enabled to view it.
				document.getElementById('clo
 ak93b1efd5443c7d1a6fda775375ee8396').innerHTML = '';
				var prefix = '&#10
 9;a' + 'i&#108;' + '&#116;o';
				var path = 'hr' + 'ef' + '=';
				var add
 y93b1efd5443c7d1a6fda775375ee8396 = 'j&#97;zpr&#105;c&#101;&#97;z' + '&#64;
 ';
				addy93b1efd5443c7d1a6fda775375ee8396 = addy93b1efd5443c7d1a6fda77537
 5ee8396 + 'gm&#97;&#105;l' + '&#46;' + 'c&#111;m';
				var addy_text93b1efd
 5443c7d1a6fda775375ee8396 = 'j&#97;zpr&#105;c&#101;&#97;z' + '&#64;' + 'gm&
 #97;&#105;l' + '&#46;' + 'c&#111;m';document.getElementById('cloak93b1efd54
 43c7d1a6fda775375ee8396').innerHTML += ''+addy_text93b1efd5443c7d1a6fda7753
 75ee8396+'';
		\n\n\n&nbsp;\n\n\nAdditional Event Information &amp; Acknowl
 edgement of Industry Sponsor(s):\nThe AZ FAASTeam is being supported by the
  Arizona State University Aviation Education Program. We'd like to recogniz
 e Professor Jimmy Kimberly, AZ FAASTeam Rep., Mark O'Brien, Chair Aviation 
 Program, Dr. James Collofello, Senior Asst. Dean Academic &amp; Student Aff
 airs for their personal contribution to the FAASTeam. ASU provides faciliti
 es, personnel and logistical support for these FAASTeam seminars.\n\n\nRunw
 ay incursions are a major factor in aviation safety. While many things have
  been done to reduce the accident rate in General Aviation and the Air Carr
 ier Industry, both sides of the aviation house are still experiencing far t
 oo many runway incursions. This could be the result of "Read back - Hear ba
 ck" issues, poor airport signage, pilot inattention/knowledge or a combinat
 ion of factors. Runway safety is a major concern for all pilots and if you 
 have been around aviation for a long period of time you have probably seen 
 some close calls on the runways and taxiways, or even been involved in some
  yourself. Come learn about this Airport and give your input to the Team so
  they can work on improving the airport for all who fly there.\n\n\n*Semina
 r runs approximately 9am-11am*\n\n\nPilot airspace deviations continue to b
 e a major risk in the national airspace system. To reduce the chance that y
 ou might be involved in an airspace deviation incident, you are highly enco
 uraged to take an on-line learning center course such as ALC 42, ALC 154, a
 nd ALC90 on www.faasafety.gov, or search the learning library for associate
 d guidance on airspace incursions. Remember, safe and prudent airmen have s
 uperior situational awareness and have a plan to keep it that way.\n\n\nTha
 nks! A message from your local FAASTeam.\n\n\n&nbsp;\n\n\nEqual Access Info
 rmation:\nThe FAA Safety Team (FAASTeam) is committed to providing equal ac
 cess to this meeting/event for all participants. If you need alternative fo
 rmats or services because of a disability, please communicate your request 
 as soon as possible with the person in the “Contact Information” area of th
 e meeting/event notice. Note that two weeks is usually required to arrange 
 services.\n\n\n&nbsp;\n\n\nCredit Applicability:\n1 Credit for Basic Knowle
 dge Topic 3\n1 Credit for Advanced Knowledge Topic 2\n
CONTACT:Jim Price Phone: (480)772-1527 This email address is being protected from spambots. You need JavaScript enabled to view it.
				document.getElementById('cloakb8f6da0726764f0ace334bb92d316e2e').innerHTML = '';
				var prefix = '&#109;a' + 'i&#108;' + '&#116;o';
				var path = 'hr' + 'ef' + '=';
				var addyb8f6da0726764f0ace334bb92d316e2e = 'j&#97;zpr&#105;c&#101;&#97;z' + '&#64;';
				addyb8f6da0726764f0ace334bb92d316e2e = addyb8f6da0726764f0ace334bb92d316e2e + 'gm&#97;&#105;l' + '&#46;' + 'c&#111;m';
				var addy_textb8f6da0726764f0ace334bb92d316e2e = 'j&#97;zpr&#105;c&#101;&#97;z' + '&#64;' + 'gm&#97;&#105;l' + '&#46;' + 'c&#111;m';document.getElementById('cloakb8f6da0726764f0ace334bb92d316e2e').innerHTML += ''+addy_textb8f6da0726764f0ace334bb92d316e2e+'';
		
DTSTAMP:20260422T042906Z
DTSTART;TZID=America/Phoenix:20191026T090000
SEQUENCE:0
TRANSP:OPAQUE
END:VEVENT
END:VCALENDAR