BEGIN:VCALENDAR
VERSION:2.0
PRODID:-//jEvents 2.0 for Joomla//EN
CALSCALE:GREGORIAN
METHOD:PUBLISH
BEGIN:VEVENT
UID:eee5a5f736d2cf5babe8ed5f8b5b0339
CATEGORIES:Safety
CREATED:20191004T141230
SUMMARY:Non Towered Airport Operations And Parachute Operation Areas at Lake Havasu City
LOCATION:Lake Havasu City Airport Terminal Building 5600 Old State Hwy 95 Lake Havas
 u City, AZ 86404
DESCRIPTION;ENCODING=QUOTED-PRINTABLE:Non Towered Airport Operations And Parachute Operation Areas\nAdvisory Circ
 ular 90-66B\n\n\n&nbsp;\n\n\nDate and Time:Saturday, November 23, 2019, sta
 rting at 10:00 Arizona\n\n\n&nbsp;\n\n\nSpeaker(s):Brian Schultz\n\n\n&nbsp
 ;\n\n\nBrief Description:\nWe will go over Advisory Circular 90-66B in grea
 t detail and how it can increase the safety of your flying.\n\n\n&nbsp;\n\n
 \nSelect Number:WP0796091\n\n\n&nbsp;\n\n\nLocation of Seminar:\nLake Havas
 u City Airport Terminal Building\n5600 Old State Hwy 95\nLake Havasu City, 
 AZ 86404\n\n\n&nbsp;\n\n\nDirections to Venue:\nIf you are flying in for th
 e event, please park at transient parking which is Northwest of the termina
 l building. Please call Brian Schultz at 520-471-2854 with any questions.\n
 \n\nView Map\n\n\n&nbsp;\n\n\nFly-in Seminar?:Yes KHII\n\n\n&nbsp;\n\n\nSea
 ting:40 seats at the facility\n\n\n&nbsp;\n\n\nRegistration Information:\nC
 lick here to register online now!\n\n\n&nbsp;\n\n\nSponsoring Division:FAAS
 Team\n\n\n&nbsp;\n\n\nContact Information:BRIAN SCHULTZ\nPhone: (520) 471-2
 854\nThis email address is being protected from spambots. You need JavaScri
 pt enabled to view it.
				document.getElementById('cloak2bf54492722476275f
 70da842d61afb4').innerHTML = '';
				var prefix = '&#109;a' + 'i&#108;' + '
 &#116;o';
				var path = 'hr' + 'ef' + '=';
				var addy2bf54492722476275f7
 0da842d61afb4 = 'BRIAN' + '&#64;';
				addy2bf54492722476275f70da842d61afb4
  = addy2bf54492722476275f70da842d61afb4 + 'ARIZONAAVIATIONSERVICES' + '&#46
 ;' + 'COM';
				var addy_text2bf54492722476275f70da842d61afb4 = 'BRIAN' + '
 &#64;' + 'ARIZONAAVIATIONSERVICES' + '&#46;' + 'COM';document.getElementByI
 d('cloak2bf54492722476275f70da842d61afb4').innerHTML += ''+addy_text2bf5449
 2722476275f70da842d61afb4+'';
		\n\n\n&nbsp;\n\n\nAdditional Event Informat
 ion &amp; Acknowledgement of Industry Sponsor(s):\nSponsored by EAA Chapter
  681\n\n\n&nbsp;\n\n\nEqual Access Information:\nThe FAA Safety Team (FAAST
 eam) is committed to providing equal access to this meeting/event for all p
 articipants. If you need alternative formats or services because of a disab
 ility, please communicate your request as soon as possible with the person 
 in the “Contact Information” area of the meeting/event notice. Note that tw
 o weeks is usually required to arrange services.\n\n\n&nbsp;\n\n\nCredit Ap
 plicability:\n1 Credit for Basic Knowledge Topic 3\n
CONTACT:BRIAN SCHULTZ Phone: (520) 471-2854 This email address is being protected from spambots. You need JavaScript enabled to view it.
				document.getElementById('cloakc592b998fcddad5d9d09ec434a784986').innerHTML = '';
				var prefix = '&#109;a' + 'i&#108;' + '&#116;o';
				var path = 'hr' + 'ef' + '=';
				var addyc592b998fcddad5d9d09ec434a784986 = 'BRIAN' + '&#64;';
				addyc592b998fcddad5d9d09ec434a784986 = addyc592b998fcddad5d9d09ec434a784986 + 'ARIZONAAVIATIONSERVICES' + '&#46;' + 'COM';
				var addy_textc592b998fcddad5d9d09ec434a784986 = 'BRIAN' + '&#64;' + 'ARIZONAAVIATIONSERVICES' + '&#46;' + 'COM';document.getElementById('cloakc592b998fcddad5d9d09ec434a784986').innerHTML += ''+addy_textc592b998fcddad5d9d09ec434a784986+'';
		
DTSTAMP:20260422T054444Z
DTSTART;TZID=America/Phoenix:20191123T100000
SEQUENCE:0
TRANSP:OPAQUE
END:VEVENT
END:VCALENDAR